BEGIN:VCALENDAR
VERSION:2.0
PRODID:-//Clark County Association of Realtors - ECPv6.15.20//NONSGML v1.0//EN
CALSCALE:GREGORIAN
METHOD:PUBLISH
X-ORIGINAL-URL:https://ccrealtors.com
X-WR-CALDESC:Events for Clark County Association of Realtors
REFRESH-INTERVAL;VALUE=DURATION:PT1H
X-Robots-Tag:noindex
X-PUBLISHED-TTL:PT1H
BEGIN:VTIMEZONE
TZID:America/Vancouver
BEGIN:DAYLIGHT
TZOFFSETFROM:-0800
TZOFFSETTO:-0700
TZNAME:PDT
DTSTART:20250309T100000
END:DAYLIGHT
BEGIN:STANDARD
TZOFFSETFROM:-0700
TZOFFSETTO:-0800
TZNAME:PST
DTSTART:20251102T090000
END:STANDARD
BEGIN:DAYLIGHT
TZOFFSETFROM:-0800
TZOFFSETTO:-0700
TZNAME:PDT
DTSTART:20260308T100000
END:DAYLIGHT
BEGIN:STANDARD
TZOFFSETFROM:-0700
TZOFFSETTO:-0800
TZNAME:PST
DTSTART:20261101T090000
END:STANDARD
BEGIN:DAYLIGHT
TZOFFSETFROM:-0800
TZOFFSETTO:-0700
TZNAME:PDT
DTSTART:20270314T100000
END:DAYLIGHT
BEGIN:STANDARD
TZOFFSETFROM:-0700
TZOFFSETTO:-0800
TZNAME:PST
DTSTART:20271107T090000
END:STANDARD
END:VTIMEZONE
BEGIN:VEVENT
DTSTART;TZID=America/Vancouver:20260901T123000
DTEND;TZID=America/Vancouver:20260901T140000
DTSTAMP:20260423T155338
CREATED:20251216T211659Z
LAST-MODIFIED:20260423T222010Z
UID:10000847-1788265800-1788271200@ccrealtors.com
SUMMARY:CCAR Executive Committee
DESCRIPTION:
URL:https://ccrealtors.com/event/ccar-executive-committee-9/
CATEGORIES:Committee Meetings
END:VEVENT
BEGIN:VEVENT
DTSTART;VALUE=DATE:20260907
DTEND;VALUE=DATE:20260908
DTSTAMP:20260423T155338
CREATED:20251216T211659Z
LAST-MODIFIED:20260423T222023Z
UID:10000848-1788739200-1788825599@ccrealtors.com
SUMMARY:Holiday - CCAR Office Closed
DESCRIPTION:
URL:https://ccrealtors.com/event/holiday-ccar-office-closed-2/
CATEGORIES:Committee Meetings,Home Page Events,Office Closure
END:VEVENT
BEGIN:VEVENT
DTSTART;TZID=America/Vancouver:20260909T100000
DTEND;TZID=America/Vancouver:20260909T120000
DTSTAMP:20260423T155338
CREATED:20260410T213519Z
LAST-MODIFIED:20260410T214736Z
UID:10000915-1788948000-1788955200@ccrealtors.com
SUMMARY:September Membership Meeting - Live Webinar
DESCRIPTION:Please join us for our September Membership Meeting on 9/9/26 10am-12noon\nOnline Meeting via Zoom \nGuest Speaker to be announced. \nAnnouncement of 2027 CCAR Board of Director Candidates \nCheck back for Registration Link
URL:https://ccrealtors.com/event/september-membership-meeting-live-webinar/
LOCATION:LIVE WEBINAR
CATEGORIES:CCAR Events,Home Page Events
ORGANIZER;CN="CCAR":MAILTO:ccar@ccrealtors.com
END:VEVENT
BEGIN:VEVENT
DTSTART;TZID=America/Vancouver:20260909T100000
DTEND;TZID=America/Vancouver:20260909T120000
DTSTAMP:20260423T155338
CREATED:20260413T210545Z
LAST-MODIFIED:20260423T222023Z
UID:10000918-1788948000-1788955200@ccrealtors.com
SUMMARY:September Membership Meeting
DESCRIPTION:
URL:https://ccrealtors.com/event/september-membership-meeting-4/
LOCATION:Webinar on Zoom
CATEGORIES:Committee Meetings
END:VEVENT
BEGIN:VEVENT
DTSTART;TZID=America/Vancouver:20260915T100000
DTEND;TZID=America/Vancouver:20260915T113000
DTSTAMP:20260423T155338
CREATED:20251216T211659Z
LAST-MODIFIED:20260423T222023Z
UID:10000849-1789466400-1789471800@ccrealtors.com
SUMMARY:Government Affairs Committee
DESCRIPTION:
URL:https://ccrealtors.com/event/government-affairs-committee-31/
CATEGORIES:Committee Meetings
END:VEVENT
BEGIN:VEVENT
DTSTART;VALUE=DATE:20260923
DTEND;VALUE=DATE:20260926
DTSTAMP:20260423T155338
CREATED:20251216T211659Z
LAST-MODIFIED:20260423T222023Z
UID:10000851-1790121600-1790380799@ccrealtors.com
SUMMARY:WR Fall Conference
DESCRIPTION:
URL:https://ccrealtors.com/event/wr-fall-conference/
LOCATION:The Centennial Hotel (303 W North River Dr\, Spokane\, WA 99201\, United States)
CATEGORIES:Committee Meetings,Home Page Events,Washington REALTORS
END:VEVENT
BEGIN:VEVENT
DTSTART;VALUE=DATE:20260924
DTEND;VALUE=DATE:20260925
DTSTAMP:20260423T155338
CREATED:20260324T173012Z
LAST-MODIFIED:20260324T173158Z
UID:10000910-1790208000-1790294399@ccrealtors.com
SUMMARY:GiveMore24!
DESCRIPTION:Clark County REALTORS Foundation Fundraising Event!\n24-hours of Online Donations from 12am to Midnight on September 24.\n\n\n\n\n\nEarly Giving Starts: TBA\n\n\n\n\n\nThank you to our Fundraising Partners:\n \nBecome a Fundraising Partner and receive promotion for your company or yourself during the event. Contact Kristin Miller: events@ccrealtors.com or 503-917-5695
URL:https://ccrealtors.com/event/givemore24/
CATEGORIES:Committee Meetings,Foundation Events,Home Page Events
END:VEVENT
BEGIN:VEVENT
DTSTART;TZID=America/Vancouver:20260924T090000
DTEND;TZID=America/Vancouver:20260924T103000
DTSTAMP:20260423T155338
CREATED:20251216T211659Z
LAST-MODIFIED:20260423T222023Z
UID:10000850-1790240400-1790245800@ccrealtors.com
SUMMARY:Professional Standards Committee
DESCRIPTION:
URL:https://ccrealtors.com/event/professional-standards-committee-26/
CATEGORIES:Committee Meetings
END:VEVENT
BEGIN:VEVENT
DTSTART;TZID=America/Vancouver:20260929T130000
DTEND;TZID=America/Vancouver:20260929T140000
DTSTAMP:20260423T155338
CREATED:20251216T211717Z
LAST-MODIFIED:20260423T222023Z
UID:10000852-1790686800-1790690400@ccrealtors.com
SUMMARY:Foundation Board of Directors
DESCRIPTION:
URL:https://ccrealtors.com/event/foundation-board-of-directors-19/
CATEGORIES:Committee Meetings
END:VEVENT
END:VCALENDAR