BEGIN:VCALENDAR
VERSION:2.0
PRODID:-//Clark County Association of Realtors - ECPv6.15.20//NONSGML v1.0//EN
CALSCALE:GREGORIAN
METHOD:PUBLISH
X-ORIGINAL-URL:https://ccrealtors.com
X-WR-CALDESC:Events for Clark County Association of Realtors
REFRESH-INTERVAL;VALUE=DURATION:PT1H
X-Robots-Tag:noindex
X-PUBLISHED-TTL:PT1H
BEGIN:VTIMEZONE
TZID:America/Vancouver
BEGIN:DAYLIGHT
TZOFFSETFROM:-0800
TZOFFSETTO:-0700
TZNAME:PDT
DTSTART:20250309T100000
END:DAYLIGHT
BEGIN:STANDARD
TZOFFSETFROM:-0700
TZOFFSETTO:-0800
TZNAME:PST
DTSTART:20251102T090000
END:STANDARD
BEGIN:DAYLIGHT
TZOFFSETFROM:-0800
TZOFFSETTO:-0700
TZNAME:PDT
DTSTART:20260308T100000
END:DAYLIGHT
BEGIN:STANDARD
TZOFFSETFROM:-0700
TZOFFSETTO:-0800
TZNAME:PST
DTSTART:20261101T090000
END:STANDARD
BEGIN:DAYLIGHT
TZOFFSETFROM:-0800
TZOFFSETTO:-0700
TZNAME:PDT
DTSTART:20270314T100000
END:DAYLIGHT
BEGIN:STANDARD
TZOFFSETFROM:-0700
TZOFFSETTO:-0800
TZNAME:PST
DTSTART:20271107T090000
END:STANDARD
END:VTIMEZONE
BEGIN:VEVENT
DTSTART;TZID=America/Vancouver:20260804T123000
DTEND;TZID=America/Vancouver:20260804T140000
DTSTAMP:20260423T141730
CREATED:20251216T211640Z
LAST-MODIFIED:20260423T202011Z
UID:10000841-1785846600-1785852000@ccrealtors.com
SUMMARY:CCAR Executive Committee
DESCRIPTION:
URL:https://ccrealtors.com/event/ccar-executive-committee-8/
CATEGORIES:Committee Meetings
END:VEVENT
BEGIN:VEVENT
DTSTART;TZID=America/Vancouver:20260806T090000
DTEND;TZID=America/Vancouver:20260806T110000
DTSTAMP:20260423T141730
CREATED:20251216T211659Z
LAST-MODIFIED:20260423T202011Z
UID:10000842-1786006800-1786014000@ccrealtors.com
SUMMARY:CCAR Board of Directors
DESCRIPTION:
URL:https://ccrealtors.com/event/ccar-board-of-directors-14/
CATEGORIES:Committee Meetings
END:VEVENT
BEGIN:VEVENT
DTSTART;TZID=America/Vancouver:20260818T100000
DTEND;TZID=America/Vancouver:20260818T113000
DTSTAMP:20260423T141730
CREATED:20251216T211659Z
LAST-MODIFIED:20260423T202011Z
UID:10000843-1787047200-1787052600@ccrealtors.com
SUMMARY:Government Affairs Committee
DESCRIPTION:
URL:https://ccrealtors.com/event/government-affairs-committee-30/
CATEGORIES:Committee Meetings
END:VEVENT
BEGIN:VEVENT
DTSTART;VALUE=DATE:20260824
DTEND;VALUE=DATE:20260826
DTSTAMP:20260423T141730
CREATED:20251216T211659Z
LAST-MODIFIED:20260423T202011Z
UID:10000845-1787529600-1787702399@ccrealtors.com
SUMMARY:NAR Leadership Summit
DESCRIPTION:
URL:https://ccrealtors.com/event/nar-leadership-summit-2/
LOCATION:Sheraton Grand Chicago Riverwalk (301 E North Water St\, Chicago\, IL 60611\, United States)
CATEGORIES:Committee Meetings,NAR
END:VEVENT
BEGIN:VEVENT
DTSTART;TZID=America/Vancouver:20260825T130000
DTEND;TZID=America/Vancouver:20260825T140000
DTSTAMP:20260423T141730
CREATED:20251216T211659Z
LAST-MODIFIED:20260423T202011Z
UID:10000844-1787662800-1787666400@ccrealtors.com
SUMMARY:Foundation Board of Directors
DESCRIPTION:
URL:https://ccrealtors.com/event/foundation-board-of-directors-18/
CATEGORIES:Committee Meetings
END:VEVENT
BEGIN:VEVENT
DTSTART;TZID=America/Vancouver:20260827T090000
DTEND;TZID=America/Vancouver:20260827T103000
DTSTAMP:20260423T141730
CREATED:20251216T211659Z
LAST-MODIFIED:20260423T202011Z
UID:10000846-1787821200-1787826600@ccrealtors.com
SUMMARY:Professional Standards Committee
DESCRIPTION:
URL:https://ccrealtors.com/event/professional-standards-committee-25/
CATEGORIES:Committee Meetings
END:VEVENT
END:VCALENDAR