BEGIN:VCALENDAR
VERSION:2.0
PRODID:-//Clark County Association of Realtors - ECPv6.15.20//NONSGML v1.0//EN
CALSCALE:GREGORIAN
METHOD:PUBLISH
X-ORIGINAL-URL:https://ccrealtors.com
X-WR-CALDESC:Events for Clark County Association of Realtors
REFRESH-INTERVAL;VALUE=DURATION:PT1H
X-Robots-Tag:noindex
X-PUBLISHED-TTL:PT1H
BEGIN:VTIMEZONE
TZID:America/Vancouver
BEGIN:DAYLIGHT
TZOFFSETFROM:-0800
TZOFFSETTO:-0700
TZNAME:PDT
DTSTART:20240310T100000
END:DAYLIGHT
BEGIN:STANDARD
TZOFFSETFROM:-0700
TZOFFSETTO:-0800
TZNAME:PST
DTSTART:20241103T090000
END:STANDARD
BEGIN:DAYLIGHT
TZOFFSETFROM:-0800
TZOFFSETTO:-0700
TZNAME:PDT
DTSTART:20250309T100000
END:DAYLIGHT
BEGIN:STANDARD
TZOFFSETFROM:-0700
TZOFFSETTO:-0800
TZNAME:PST
DTSTART:20251102T090000
END:STANDARD
BEGIN:DAYLIGHT
TZOFFSETFROM:-0800
TZOFFSETTO:-0700
TZNAME:PDT
DTSTART:20260308T100000
END:DAYLIGHT
BEGIN:STANDARD
TZOFFSETFROM:-0700
TZOFFSETTO:-0800
TZNAME:PST
DTSTART:20261101T090000
END:STANDARD
BEGIN:DAYLIGHT
TZOFFSETFROM:-0800
TZOFFSETTO:-0700
TZNAME:PDT
DTSTART:20270314T100000
END:DAYLIGHT
BEGIN:STANDARD
TZOFFSETFROM:-0700
TZOFFSETTO:-0800
TZNAME:PST
DTSTART:20271107T090000
END:STANDARD
END:VTIMEZONE
BEGIN:VEVENT
DTSTART;TZID=America/Vancouver:20251203T160000
DTEND;TZID=America/Vancouver:20251203T180000
DTSTAMP:20260423T155339
CREATED:20250828T193041Z
LAST-MODIFIED:20250828T193041Z
UID:10000790-1764777600-1764784800@ccrealtors.com
SUMMARY:Foundation Grant Reception
DESCRIPTION:Join us in honoring the non-profits who make a difference in the lives of youth\, families\, and the elderly in Clark County. \nDec. 3\, 2025 4:00-6:00pm\nUnion Chapel 806 Main St. Vancouver\, WA 98660 \nClick Here to Register to attend \nGenerously Sponsored by
URL:https://ccrealtors.com/event/foundation-grant-reception-5/
LOCATION:Union Chapel (806 Main St\, Vancouver\, WA  98660)
CATEGORIES:Committee Meetings,Foundation Events,Home Page Events
END:VEVENT
BEGIN:VEVENT
DTSTART;TZID=America/Vancouver:20251209T130000
DTEND;TZID=America/Vancouver:20251209T143000
DTSTAMP:20260423T155339
CREATED:20241223T233217Z
LAST-MODIFIED:20251209T213349Z
UID:10000764-1765285200-1765290600@ccrealtors.com
SUMMARY:RPAC Committee
DESCRIPTION:
URL:https://ccrealtors.com/event/rpac-committee-14/
CATEGORIES:Committee Meetings
END:VEVENT
BEGIN:VEVENT
DTSTART;VALUE=DATE:20251224
DTEND;VALUE=DATE:20251225
DTSTAMP:20260423T155339
CREATED:20241224T083618Z
LAST-MODIFIED:20251224T230516Z
UID:10000766-1766534400-1766620799@ccrealtors.com
SUMMARY:Christmas Eve
DESCRIPTION:
URL:https://ccrealtors.com/event/christmas-eve-3/
LOCATION:United States
CATEGORIES:Committee Meetings
END:VEVENT
BEGIN:VEVENT
DTSTART;VALUE=DATE:20251224
DTEND;VALUE=DATE:20251226
DTSTAMP:20260423T155339
CREATED:20241224T083618Z
LAST-MODIFIED:20251225T230229Z
UID:10000765-1766534400-1766707199@ccrealtors.com
SUMMARY:CCAR Office Closed
DESCRIPTION:
URL:https://ccrealtors.com/event/ccar-office-closed-9/
CATEGORIES:Committee Meetings
END:VEVENT
BEGIN:VEVENT
DTSTART;VALUE=DATE:20251225
DTEND;VALUE=DATE:20251226
DTSTAMP:20260423T155339
CREATED:20241225T082156Z
LAST-MODIFIED:20251225T230229Z
UID:10000767-1766620800-1766707199@ccrealtors.com
SUMMARY:Christmas Day
DESCRIPTION:
URL:https://ccrealtors.com/event/christmas-day-3/
LOCATION:United States
CATEGORIES:Committee Meetings
END:VEVENT
BEGIN:VEVENT
DTSTART;VALUE=DATE:20251231
DTEND;VALUE=DATE:20260101
DTSTAMP:20260423T155339
CREATED:20241231T090624Z
LAST-MODIFIED:20251231T234631Z
UID:10000769-1767139200-1767225599@ccrealtors.com
SUMMARY:New Year's Eve
DESCRIPTION:
URL:https://ccrealtors.com/event/new-years-eve-3/
LOCATION:United States
CATEGORIES:Committee Meetings
END:VEVENT
BEGIN:VEVENT
DTSTART;VALUE=DATE:20251231
DTEND;VALUE=DATE:20260102
DTSTAMP:20260423T155339
CREATED:20241231T090624Z
LAST-MODIFIED:20260101T231912Z
UID:10000768-1767139200-1767311999@ccrealtors.com
SUMMARY:CCAR Office Closed
DESCRIPTION:
URL:https://ccrealtors.com/event/ccar-office-closed-10/
CATEGORIES:Committee Meetings
END:VEVENT
END:VCALENDAR