BEGIN:VCALENDAR
VERSION:2.0
PRODID:-//Clark County Association of Realtors - ECPv6.15.20//NONSGML v1.0//EN
CALSCALE:GREGORIAN
METHOD:PUBLISH
X-WR-CALNAME:Clark County Association of Realtors
X-ORIGINAL-URL:https://ccrealtors.com
X-WR-CALDESC:Events for Clark County Association of Realtors
REFRESH-INTERVAL;VALUE=DURATION:PT1H
X-Robots-Tag:noindex
X-PUBLISHED-TTL:PT1H
BEGIN:VTIMEZONE
TZID:America/Vancouver
BEGIN:DAYLIGHT
TZOFFSETFROM:-0800
TZOFFSETTO:-0700
TZNAME:PDT
DTSTART:20240310T100000
END:DAYLIGHT
BEGIN:STANDARD
TZOFFSETFROM:-0700
TZOFFSETTO:-0800
TZNAME:PST
DTSTART:20241103T090000
END:STANDARD
BEGIN:DAYLIGHT
TZOFFSETFROM:-0800
TZOFFSETTO:-0700
TZNAME:PDT
DTSTART:20250309T100000
END:DAYLIGHT
BEGIN:STANDARD
TZOFFSETFROM:-0700
TZOFFSETTO:-0800
TZNAME:PST
DTSTART:20251102T090000
END:STANDARD
BEGIN:DAYLIGHT
TZOFFSETFROM:-0800
TZOFFSETTO:-0700
TZNAME:PDT
DTSTART:20260308T100000
END:DAYLIGHT
BEGIN:STANDARD
TZOFFSETFROM:-0700
TZOFFSETTO:-0800
TZNAME:PST
DTSTART:20261101T090000
END:STANDARD
END:VTIMEZONE
BEGIN:VEVENT
DTSTART;VALUE=DATE:20250704
DTEND;VALUE=DATE:20250705
DTSTAMP:20260423T220159
CREATED:20240704T071435Z
LAST-MODIFIED:20250704T232519Z
UID:10000540-1751587200-1751673599@ccrealtors.com
SUMMARY:Independence Day
DESCRIPTION:
URL:https://ccrealtors.com/event/independence-day-2/
LOCATION:United States
CATEGORIES:Committee Meetings
END:VEVENT
BEGIN:VEVENT
DTSTART;VALUE=DATE:20250704
DTEND;VALUE=DATE:20250705
DTSTAMP:20260423T220159
CREATED:20241223T233045Z
LAST-MODIFIED:20250704T232519Z
UID:10000711-1751587200-1751673599@ccrealtors.com
SUMMARY:CCAR Office Closed - Independence Day
DESCRIPTION:
URL:https://ccrealtors.com/event/ccar-office-closed-5/
CATEGORIES:Committee Meetings,Home Page Events,Office Closure
END:VEVENT
BEGIN:VEVENT
DTSTART;VALUE=DATE:20250708
DTEND;VALUE=DATE:20250711
DTSTAMP:20260423T220159
CREATED:20241223T233045Z
LAST-MODIFIED:20260105T182007Z
UID:10000712-1751932800-1752191999@ccrealtors.com
SUMMARY:WR C3 Champion's Club Conference
DESCRIPTION:
URL:https://ccrealtors.com/event/wr-c3-champions-club-conference/
CATEGORIES:Home Page Events,Washington REALTORS
END:VEVENT
BEGIN:VEVENT
DTSTART;TZID=America/Vancouver:20250712T103000
DTEND;TZID=America/Vancouver:20250712T160000
DTSTAMP:20260423T220159
CREATED:20250603T183949Z
LAST-MODIFIED:20260105T182539Z
UID:10000786-1752316200-1752336000@ccrealtors.com
SUMMARY:NAREB Class: Paving the Way for Black Homeownership
DESCRIPTION:Join NAREB for a free event designed to empower and prepare you for homeownership. Enjoy complimentary educational sessions and access to a resource forum offering expert guidance and valuable tools. Learn about available down payment assistance\, credit repair and more. Take advantage of the opportunity to connect with industry professionals.\nRegistration is required—secure your spot today! \nAttendees must be present to win exclusive giveaways. \nClick this link to register: https://www.eventbrite.com/e/paving-the-way-for-black-homeownership-tickets-1368963519739 \nJuly 12\, 2025\nDoors open at 10:00am\nEvent: 10:30am-4:00pm\nLunch will be provided. \nOregon Convention Center 777 NE Martin Luther King Jr. Blvd. Portland\, OR 97232\nFree Venue Parking.
URL:https://ccrealtors.com/event/nareb-class-paving-the-way-for-black-homeownership-2/
LOCATION:Oregon Convention Center (777 NE Martin Luther King Jr Blvd\, Portland\, OR  97232)
CATEGORIES:Education,Home Page Events
END:VEVENT
BEGIN:VEVENT
DTSTART;TZID=America/Vancouver:20250714T123000
DTEND;TZID=America/Vancouver:20250714T140000
DTSTAMP:20260423T220159
CREATED:20241223T233045Z
LAST-MODIFIED:20250714T202543Z
UID:10000713-1752496200-1752501600@ccrealtors.com
SUMMARY:Executive Committee
DESCRIPTION:
URL:https://ccrealtors.com/event/executive-committee-17/
CATEGORIES:Committee Meetings
END:VEVENT
BEGIN:VEVENT
DTSTART;TZID=America/Vancouver:20250715T100000
DTEND;TZID=America/Vancouver:20250715T113000
DTSTAMP:20260423T220159
CREATED:20241223T233045Z
LAST-MODIFIED:20250715T175445Z
UID:10000714-1752573600-1752579000@ccrealtors.com
SUMMARY:Government Affairs Committee
DESCRIPTION:
URL:https://ccrealtors.com/event/government-affairs-committee-20/
CATEGORIES:Committee Meetings
END:VEVENT
BEGIN:VEVENT
DTSTART;TZID=America/Vancouver:20250717T090000
DTEND;TZID=America/Vancouver:20250717T110000
DTSTAMP:20260423T220159
CREATED:20241223T233045Z
LAST-MODIFIED:20250717T172512Z
UID:10000715-1752742800-1752750000@ccrealtors.com
SUMMARY:CCAR Board of Directors
DESCRIPTION:
URL:https://ccrealtors.com/event/ccar-board-of-directors-4/
CATEGORIES:Committee Meetings
END:VEVENT
BEGIN:VEVENT
DTSTART;VALUE=DATE:20250722
DTEND;VALUE=DATE:20250725
DTSTAMP:20260423T220159
CREATED:20241223T233045Z
LAST-MODIFIED:20260105T182604Z
UID:10000716-1753142400-1753401599@ccrealtors.com
SUMMARY:NAR Government Affairs Institute
DESCRIPTION:
URL:https://ccrealtors.com/event/nar-government-affairs-institute/
LOCATION:Charleston
CATEGORIES:NAR
END:VEVENT
BEGIN:VEVENT
DTSTART;TZID=America/Vancouver:20250724T090000
DTEND;TZID=America/Vancouver:20250724T103000
DTSTAMP:20260423T220159
CREATED:20241223T233045Z
LAST-MODIFIED:20250724T163954Z
UID:10000717-1753347600-1753353000@ccrealtors.com
SUMMARY:Professional Standards Committee
DESCRIPTION:
URL:https://ccrealtors.com/event/professional-standards-committee-14/
CATEGORIES:Committee Meetings
END:VEVENT
BEGIN:VEVENT
DTSTART;TZID=America/Vancouver:20250729T130000
DTEND;TZID=America/Vancouver:20250729T143000
DTSTAMP:20260423T220159
CREATED:20241223T233045Z
LAST-MODIFIED:20250729T202729Z
UID:10000718-1753794000-1753799400@ccrealtors.com
SUMMARY:Foundation Work Group?
DESCRIPTION:
URL:https://ccrealtors.com/event/foundation-board-of-directors-10/
CATEGORIES:Committee Meetings
END:VEVENT
END:VCALENDAR