BEGIN:VCALENDAR
VERSION:2.0
PRODID:-//Clark County Association of Realtors - ECPv6.15.20//NONSGML v1.0//EN
CALSCALE:GREGORIAN
METHOD:PUBLISH
X-WR-CALNAME:Clark County Association of Realtors
X-ORIGINAL-URL:https://ccrealtors.com
X-WR-CALDESC:Events for Clark County Association of Realtors
REFRESH-INTERVAL;VALUE=DURATION:PT1H
X-Robots-Tag:noindex
X-PUBLISHED-TTL:PT1H
BEGIN:VTIMEZONE
TZID:America/Vancouver
BEGIN:DAYLIGHT
TZOFFSETFROM:-0800
TZOFFSETTO:-0700
TZNAME:PDT
DTSTART:20240310T100000
END:DAYLIGHT
BEGIN:STANDARD
TZOFFSETFROM:-0700
TZOFFSETTO:-0800
TZNAME:PST
DTSTART:20241103T090000
END:STANDARD
BEGIN:DAYLIGHT
TZOFFSETFROM:-0800
TZOFFSETTO:-0700
TZNAME:PDT
DTSTART:20250309T100000
END:DAYLIGHT
BEGIN:STANDARD
TZOFFSETFROM:-0700
TZOFFSETTO:-0800
TZNAME:PST
DTSTART:20251102T090000
END:STANDARD
BEGIN:DAYLIGHT
TZOFFSETFROM:-0800
TZOFFSETTO:-0700
TZNAME:PDT
DTSTART:20260308T100000
END:DAYLIGHT
BEGIN:STANDARD
TZOFFSETFROM:-0700
TZOFFSETTO:-0800
TZNAME:PST
DTSTART:20261101T090000
END:STANDARD
END:VTIMEZONE
BEGIN:VEVENT
DTSTART;TZID=America/Vancouver:20250527T130000
DTEND;TZID=America/Vancouver:20250527T143000
DTSTAMP:20260424T010013
CREATED:20241223T233022Z
LAST-MODIFIED:20250527T204827Z
UID:10000705-1748350800-1748356200@ccrealtors.com
SUMMARY:Foundation Meeting
DESCRIPTION:
URL:https://ccrealtors.com/event/foundation-board-of-directors-8/
CATEGORIES:Committee Meetings
END:VEVENT
BEGIN:VEVENT
DTSTART;TZID=America/Vancouver:20250522T090000
DTEND;TZID=America/Vancouver:20250522T103000
DTSTAMP:20260424T010013
CREATED:20241223T233022Z
LAST-MODIFIED:20250522T164842Z
UID:10000704-1747904400-1747909800@ccrealtors.com
SUMMARY:Professional Standards Committee
DESCRIPTION:
URL:https://ccrealtors.com/event/professional-standards-committee-12/
CATEGORIES:Committee Meetings
END:VEVENT
BEGIN:VEVENT
DTSTART;TZID=America/Vancouver:20250520T100000
DTEND;TZID=America/Vancouver:20250520T113000
DTSTAMP:20260424T010013
CREATED:20241223T233022Z
LAST-MODIFIED:20250520T181904Z
UID:10000703-1747735200-1747740600@ccrealtors.com
SUMMARY:Government Affairs Committee
DESCRIPTION:
URL:https://ccrealtors.com/event/government-affairs-committee-18/
CATEGORIES:Committee Meetings
END:VEVENT
BEGIN:VEVENT
DTSTART;VALUE=DATE:20250515
DTEND;VALUE=DATE:20250516
DTSTAMP:20260424T010013
CREATED:20240515T074938Z
LAST-MODIFIED:20250515T230417Z
UID:10000531-1747267200-1747353599@ccrealtors.com
SUMMARY:Peace Officers Memorial Day
DESCRIPTION:
URL:https://ccrealtors.com/event/peace-officers-memorial-day-2/
LOCATION:United States
CATEGORIES:Committee Meetings
END:VEVENT
BEGIN:VEVENT
DTSTART;TZID=America/Vancouver:20250508T090000
DTEND;TZID=America/Vancouver:20250508T110000
DTSTAMP:20260424T010013
CREATED:20241223T233022Z
LAST-MODIFIED:20250508T170328Z
UID:10000702-1746694800-1746702000@ccrealtors.com
SUMMARY:CCAR Board of Directors
DESCRIPTION:
URL:https://ccrealtors.com/event/ccar-board-of-directors-3/
CATEGORIES:Committee Meetings
END:VEVENT
BEGIN:VEVENT
DTSTART;TZID=America/Vancouver:20250506T123000
DTEND;TZID=America/Vancouver:20250506T140000
DTSTAMP:20260424T010013
CREATED:20241223T233022Z
LAST-MODIFIED:20250506T201837Z
UID:10000701-1746534600-1746540000@ccrealtors.com
SUMMARY:Executive Committee
DESCRIPTION:
URL:https://ccrealtors.com/event/executive-committee-16/
CATEGORIES:Committee Meetings
END:VEVENT
BEGIN:VEVENT
DTSTART;TZID=America/Vancouver:20250429T130000
DTEND;TZID=America/Vancouver:20250429T143000
DTSTAMP:20260424T010013
CREATED:20241223T233001Z
LAST-MODIFIED:20250429T202407Z
UID:10000700-1745931600-1745937000@ccrealtors.com
SUMMARY:Foundation Board of Directors
DESCRIPTION:
URL:https://ccrealtors.com/event/foundation-board-of-directors-7/
CATEGORIES:Committee Meetings
END:VEVENT
BEGIN:VEVENT
DTSTART;VALUE=DATE:20250423
DTEND;VALUE=DATE:20250426
DTSTAMP:20260424T010013
CREATED:20241223T233001Z
LAST-MODIFIED:20260105T182016Z
UID:10000699-1745366400-1745625599@ccrealtors.com
SUMMARY:WR Spring Conference
DESCRIPTION:
URL:https://ccrealtors.com/event/wr-spring-conference-3/
LOCATION:Tulalip Resort Casino (10200 Quil Ceda Blvd\, Marysville\, WA 98271\, United States)
CATEGORIES:Home Page Events,Washington REALTORS
END:VEVENT
BEGIN:VEVENT
DTSTART;VALUE=DATE:20250423
DTEND;VALUE=DATE:20250426
DTSTAMP:20260424T010013
CREATED:20240930T170726Z
LAST-MODIFIED:20260105T182152Z
UID:10000645-1745366400-1745625599@ccrealtors.com
SUMMARY:WR Spring Conference
DESCRIPTION:
URL:https://ccrealtors.com/event/wr-spring-conference-2/
LOCATION:Tulalip Resort Casino (10200 Quil Ceda Blvd\, Marysville\, WA 98271\, United States)
CATEGORIES:Home Page Events,Washington REALTORS
END:VEVENT
BEGIN:VEVENT
DTSTART;TZID=America/Vancouver:20250415T100000
DTEND;TZID=America/Vancouver:20250415T113000
DTSTAMP:20260424T010013
CREATED:20241223T233001Z
LAST-MODIFIED:20250415T173330Z
UID:10000698-1744711200-1744716600@ccrealtors.com
SUMMARY:Government Affairs Committee
DESCRIPTION:
URL:https://ccrealtors.com/event/government-affairs-committee-17/
CATEGORIES:Committee Meetings
END:VEVENT
BEGIN:VEVENT
DTSTART;TZID=America/Vancouver:20250411T090000
DTEND;TZID=America/Vancouver:20250411T100000
DTSTAMP:20260424T010013
CREATED:20241223T233001Z
LAST-MODIFIED:20250411T165003Z
UID:10000697-1744362000-1744365600@ccrealtors.com
SUMMARY:DEI Committee
DESCRIPTION:
URL:https://ccrealtors.com/event/dei-committee-9/
CATEGORIES:Committee Meetings
END:VEVENT
BEGIN:VEVENT
DTSTART;TZID=America/Vancouver:20250409T090000
DTEND;TZID=America/Vancouver:20250409T110000
DTSTAMP:20260424T010013
CREATED:20241223T233001Z
LAST-MODIFIED:20250409T171833Z
UID:10000696-1744189200-1744196400@ccrealtors.com
SUMMARY:CCAR Board of Directors
DESCRIPTION:
URL:https://ccrealtors.com/event/ccar-board-of-directors-2/
CATEGORIES:Committee Meetings
END:VEVENT
BEGIN:VEVENT
DTSTART;TZID=America/Vancouver:20250408T130000
DTEND;TZID=America/Vancouver:20250408T143000
DTSTAMP:20260424T010013
CREATED:20241223T233001Z
LAST-MODIFIED:20250408T210706Z
UID:10000695-1744117200-1744122600@ccrealtors.com
SUMMARY:RPAC Committee
DESCRIPTION:
URL:https://ccrealtors.com/event/rpac-committee-11/
CATEGORIES:Committee Meetings
END:VEVENT
BEGIN:VEVENT
DTSTART;TZID=America/Vancouver:20250407T123000
DTEND;TZID=America/Vancouver:20250407T140000
DTSTAMP:20260424T010013
CREATED:20241223T233001Z
LAST-MODIFIED:20250407T195112Z
UID:10000694-1744029000-1744034400@ccrealtors.com
SUMMARY:Executive Committee
DESCRIPTION:
URL:https://ccrealtors.com/event/executive-committee-15/
CATEGORIES:Committee Meetings
END:VEVENT
BEGIN:VEVENT
DTSTART;VALUE=DATE:20250401
DTEND;VALUE=DATE:20250405
DTSTAMP:20260424T010013
CREATED:20241223T233000Z
LAST-MODIFIED:20260105T182612Z
UID:10000693-1743465600-1743811199@ccrealtors.com
SUMMARY:NAR AE Institute
DESCRIPTION:
URL:https://ccrealtors.com/event/nar-ae-institute-2/
LOCATION:Denver Colorado
CATEGORIES:NAR
END:VEVENT
BEGIN:VEVENT
DTSTART;TZID=America/Vancouver:20250327T090000
DTEND;TZID=America/Vancouver:20250327T103000
DTSTAMP:20260424T010013
CREATED:20241223T233000Z
LAST-MODIFIED:20250327T171829Z
UID:10000692-1743066000-1743071400@ccrealtors.com
SUMMARY:Professional Standards Committee
DESCRIPTION:
URL:https://ccrealtors.com/event/professional-standards-committee-11/
CATEGORIES:Committee Meetings
END:VEVENT
BEGIN:VEVENT
DTSTART;TZID=America/Vancouver:20250325T130000
DTEND;TZID=America/Vancouver:20250325T143000
DTSTAMP:20260424T010013
CREATED:20241223T232939Z
LAST-MODIFIED:20250325T204830Z
UID:10000690-1742907600-1742913000@ccrealtors.com
SUMMARY:Foundation Work Group?
DESCRIPTION:
URL:https://ccrealtors.com/event/foundation-board-of-directors-6/
CATEGORIES:Committee Meetings
END:VEVENT
BEGIN:VEVENT
DTSTART;TZID=America/Vancouver:20250320T160000
DTEND;TZID=America/Vancouver:20250320T180000
DTSTAMP:20260424T010013
CREATED:20250220T195904Z
LAST-MODIFIED:20250224T180548Z
UID:10000776-1742486400-1742493600@ccrealtors.com
SUMMARY:RPAC on the Riverfront - Evening of Advocacy\, Auctions & Realtor Community - MEMBERS ONLY
DESCRIPTION:  \n \nThank you to our Sponsor:    \nRPAC on the Riverfront: An Evening for Advocacy\, Auctions\, and REALTOR® Community \nMarch 20th 4:00pm-6:00pm at Witness Tree on the top of Hotel Indigo on the Vancouver Waterfront\nTickets: $50 will be credited toward your RPAC Contribution and any auction item won by you at the RPAC on the Riverfront Event. \nPurchase tickets to RPAC on the Riverfront and bid on Silent Auction Items: https://CCAR2025RPAC.givesmart.com \nSilent online auction: March 14th 12noon – March 20th 12noon – no ticket purchase needed to bid on online auction items.
URL:https://ccrealtors.com/event/rpac-happy-hour-auction-members-only/
LOCATION:Witness Tree\, 510 Waterfront Way\, Vancouver\, WA\, 98660\, United States
CATEGORIES:CCAR Events,Committee Meetings,Home Page Events
END:VEVENT
BEGIN:VEVENT
DTSTART;TZID=America/Vancouver:20250318T100000
DTEND;TZID=America/Vancouver:20250318T113000
DTSTAMP:20260424T010013
CREATED:20241223T232939Z
LAST-MODIFIED:20250318T174840Z
UID:10000689-1742292000-1742297400@ccrealtors.com
SUMMARY:Government Affairs Committee
DESCRIPTION:
URL:https://ccrealtors.com/event/government-affairs-committee-16/
CATEGORIES:Committee Meetings
END:VEVENT
BEGIN:VEVENT
DTSTART;VALUE=DATE:20250317
DTEND;VALUE=DATE:20250318
DTSTAMP:20260424T010013
CREATED:20240317T075813Z
LAST-MODIFIED:20250317T230337Z
UID:10000516-1742169600-1742255999@ccrealtors.com
SUMMARY:St. Patrick's Day
DESCRIPTION:
URL:https://ccrealtors.com/event/st-patricks-day-2/
LOCATION:United States
CATEGORIES:Committee Meetings
END:VEVENT
BEGIN:VEVENT
DTSTART;TZID=America/Vancouver:20250314T120000
DTEND;TZID=America/Vancouver:20250320T120000
DTSTAMP:20260424T010013
CREATED:20250224T180323Z
LAST-MODIFIED:20250224T180715Z
UID:10000777-1741953600-1742472000@ccrealtors.com
SUMMARY:RPAC on the Riverfront Silent Auction - MEMBERS ONLY
DESCRIPTION:Thank you to our Sponsor:  \nRPAC on the Riverfront Silent Online Auction\nMarch 14th 12noon – March 20th 12noon – no ticket purchase needed to bid on online auction items. \nBid on Silent Auction Items: https://CCAR2025RPAC.givesmart.com \n 
URL:https://ccrealtors.com/event/rpac-on-the-riverfront-silent-auction-members-only/
CATEGORIES:CCAR Events,Committee Meetings,Home Page Events
ORGANIZER;CN="CCAR":MAILTO:ccar@ccrealtors.com
END:VEVENT
BEGIN:VEVENT
DTSTART;TZID=America/Vancouver:20250313T090000
DTEND;TZID=America/Vancouver:20250313T110000
DTSTAMP:20260424T010013
CREATED:20241223T232939Z
LAST-MODIFIED:20250314T203034Z
UID:10000687-1741856400-1741863600@ccrealtors.com
SUMMARY:CANCELLED - CCAR Board of Directors
DESCRIPTION:
URL:https://ccrealtors.com/event/ccar-board-of-directors/
CATEGORIES:Committee Meetings
END:VEVENT
BEGIN:VEVENT
DTSTART;VALUE=DATE:20250312
DTEND;VALUE=DATE:20250315
DTSTAMP:20260424T010013
CREATED:20241223T232939Z
LAST-MODIFIED:20250314T234843Z
UID:10000688-1741737600-1741996799@ccrealtors.com
SUMMARY:Region 12 Meetings
DESCRIPTION:
URL:https://ccrealtors.com/event/region-12-meetings-2/
LOCATION:Whitefish Lodge & Suites (14150 Swann Dr\, Crosslake\, MN 56442\, United States)
CATEGORIES:Committee Meetings
END:VEVENT
BEGIN:VEVENT
DTSTART;TZID=America/Vancouver:20250311T130000
DTEND;TZID=America/Vancouver:20250311T143000
DTSTAMP:20260424T010013
CREATED:20241223T232939Z
LAST-MODIFIED:20250311T204833Z
UID:10000686-1741698000-1741703400@ccrealtors.com
SUMMARY:RPAC Committee
DESCRIPTION:
URL:https://ccrealtors.com/event/rpac-committee-10/
CATEGORIES:Committee Meetings
END:VEVENT
BEGIN:VEVENT
DTSTART;TZID=America/Vancouver:20250304T123000
DTEND;TZID=America/Vancouver:20250304T140000
DTSTAMP:20260424T010013
CREATED:20241223T232939Z
LAST-MODIFIED:20250304T214943Z
UID:10000685-1741091400-1741096800@ccrealtors.com
SUMMARY:Executive Committee
DESCRIPTION:
URL:https://ccrealtors.com/event/executive-committee-14/
CATEGORIES:Committee Meetings
END:VEVENT
BEGIN:VEVENT
DTSTART;TZID=America/Vancouver:20250227T090000
DTEND;TZID=America/Vancouver:20250227T103000
DTSTAMP:20260424T010013
CREATED:20241223T232939Z
LAST-MODIFIED:20250227T180334Z
UID:10000684-1740646800-1740652200@ccrealtors.com
SUMMARY:CANCELLED - Professional Standards Committee
DESCRIPTION:
URL:https://ccrealtors.com/event/professional-standards-committee-10/
CATEGORIES:Committee Meetings
END:VEVENT
BEGIN:VEVENT
DTSTART;TZID=America/Vancouver:20250227T080000
DTEND;TZID=America/Vancouver:20250227T123000
DTSTAMP:20260424T010013
CREATED:20250110T204905Z
LAST-MODIFIED:20250227T192322Z
UID:10000772-1740643200-1740659400@ccrealtors.com
SUMMARY:Leadership Retreat
DESCRIPTION:
URL:https://ccrealtors.com/event/leadership-retreat/
LOCATION:Building Industry Association (103 E 29th St\, Vancouver\, WA 98663\, United States)
CATEGORIES:Committee Meetings
END:VEVENT
BEGIN:VEVENT
DTSTART;TZID=America/Vancouver:20250225T130000
DTEND;TZID=America/Vancouver:20250225T130000
DTSTAMP:20260424T010013
CREATED:20241223T232939Z
LAST-MODIFIED:20250225T201829Z
UID:10000683-1740488400-1740488400@ccrealtors.com
SUMMARY:Foundation Board of Directors
DESCRIPTION:
URL:https://ccrealtors.com/event/foundation-board-of-directors-5/
CATEGORIES:Committee Meetings
END:VEVENT
BEGIN:VEVENT
DTSTART;TZID=America/Vancouver:20250220T090000
DTEND;TZID=America/Vancouver:20250220T123000
DTSTAMP:20260424T010013
CREATED:20250110T204905Z
LAST-MODIFIED:20250220T193357Z
UID:10000771-1740042000-1740054600@ccrealtors.com
SUMMARY:Ombudsman Training
DESCRIPTION:Instructor: Terry Eccles-Pettet\nCE issued by: Washington Realtors\n**Will take place of the February PS committee meeting if members want to attend this class.
URL:https://ccrealtors.com/event/ombudsman-training/
LOCATION:CCAR Office\, 1514 Broadway St\, Vancouver\, WA\, United States
CATEGORIES:Committee Meetings
GEO:45.632691;-122.670535
X-APPLE-STRUCTURED-LOCATION;VALUE=URI;X-ADDRESS=CCAR Office 1514 Broadway St Vancouver WA United States;X-APPLE-RADIUS=500;X-TITLE=1514 Broadway St:geo:-122.670535,45.632691
END:VEVENT
BEGIN:VEVENT
DTSTART;TZID=America/Vancouver:20250218T100000
DTEND;TZID=America/Vancouver:20250218T113000
DTSTAMP:20260424T010013
CREATED:20241223T232939Z
LAST-MODIFIED:20250218T190344Z
UID:10000682-1739872800-1739878200@ccrealtors.com
SUMMARY:Government Affairs Committee
DESCRIPTION:
URL:https://ccrealtors.com/event/government-affairs-committee-15/
CATEGORIES:Committee Meetings
END:VEVENT
END:VCALENDAR