BEGIN:VCALENDAR
VERSION:2.0
PRODID:-//Clark County Association of Realtors - ECPv6.15.20//NONSGML v1.0//EN
CALSCALE:GREGORIAN
METHOD:PUBLISH
X-ORIGINAL-URL:https://ccrealtors.com
X-WR-CALDESC:Events for Clark County Association of Realtors
REFRESH-INTERVAL;VALUE=DURATION:PT1H
X-Robots-Tag:noindex
X-PUBLISHED-TTL:PT1H
BEGIN:VTIMEZONE
TZID:America/Vancouver
BEGIN:DAYLIGHT
TZOFFSETFROM:-0800
TZOFFSETTO:-0700
TZNAME:PDT
DTSTART:20250309T100000
END:DAYLIGHT
BEGIN:STANDARD
TZOFFSETFROM:-0700
TZOFFSETTO:-0800
TZNAME:PST
DTSTART:20251102T090000
END:STANDARD
BEGIN:DAYLIGHT
TZOFFSETFROM:-0800
TZOFFSETTO:-0700
TZNAME:PDT
DTSTART:20260308T100000
END:DAYLIGHT
BEGIN:STANDARD
TZOFFSETFROM:-0700
TZOFFSETTO:-0800
TZNAME:PST
DTSTART:20261101T090000
END:STANDARD
BEGIN:DAYLIGHT
TZOFFSETFROM:-0800
TZOFFSETTO:-0700
TZNAME:PDT
DTSTART:20270314T100000
END:DAYLIGHT
BEGIN:STANDARD
TZOFFSETFROM:-0700
TZOFFSETTO:-0800
TZNAME:PST
DTSTART:20271107T090000
END:STANDARD
BEGIN:DAYLIGHT
TZOFFSETFROM:-0800
TZOFFSETTO:-0700
TZNAME:PDT
DTSTART:20280312T100000
END:DAYLIGHT
BEGIN:STANDARD
TZOFFSETFROM:-0700
TZOFFSETTO:-0800
TZNAME:PST
DTSTART:20281105T090000
END:STANDARD
END:VTIMEZONE
BEGIN:VEVENT
DTSTART;VALUE=DATE:20261111
DTEND;VALUE=DATE:20261112
DTSTAMP:20260423T170428
CREATED:20251216T211731Z
LAST-MODIFIED:20260423T232048Z
UID:10000864-1794355200-1794441599@ccrealtors.com
SUMMARY:CCAR Holiday - Office Closed
DESCRIPTION:
URL:https://ccrealtors.com/event/ccar-holiday-office-closed-4/
CATEGORIES:Committee Meetings,Home Page Events,Office Closure
END:VEVENT
BEGIN:VEVENT
DTSTART;TZID=America/Vancouver:20261112T090000
DTEND;TZID=America/Vancouver:20261112T110000
DTSTAMP:20260423T170428
CREATED:20251216T211731Z
LAST-MODIFIED:20260423T232048Z
UID:10000865-1794474000-1794481200@ccrealtors.com
SUMMARY:CCAR Board of Directors
DESCRIPTION:
URL:https://ccrealtors.com/event/ccar-board-of-directors-15/
CATEGORIES:Committee Meetings
END:VEVENT
BEGIN:VEVENT
DTSTART;TZID=America/Vancouver:20261124T130000
DTEND;TZID=America/Vancouver:20261124T140000
DTSTAMP:20260423T170428
CREATED:20251216T211731Z
LAST-MODIFIED:20260423T232048Z
UID:10000866-1795525200-1795528800@ccrealtors.com
SUMMARY:Foundation Board of Directors
DESCRIPTION:
URL:https://ccrealtors.com/event/foundation-board-of-directors-21/
CATEGORIES:Committee Meetings
END:VEVENT
BEGIN:VEVENT
DTSTART;VALUE=DATE:20261126
DTEND;VALUE=DATE:20261128
DTSTAMP:20260423T170428
CREATED:20251216T211732Z
LAST-MODIFIED:20260423T232048Z
UID:10000867-1795651200-1795823999@ccrealtors.com
SUMMARY:CCAR Holiday - Office Closed
DESCRIPTION:
URL:https://ccrealtors.com/event/ccar-holiday-office-closed-5/
CATEGORIES:Committee Meetings,Home Page Events,Office Closure
END:VEVENT
BEGIN:VEVENT
DTSTART;TZID=America/Vancouver:20261208T130000
DTEND;TZID=America/Vancouver:20261208T140000
DTSTAMP:20260423T170428
CREATED:20251216T211732Z
LAST-MODIFIED:20260423T232048Z
UID:10000868-1796734800-1796738400@ccrealtors.com
SUMMARY:RPAC Committee
DESCRIPTION:
URL:https://ccrealtors.com/event/rpac-committee-21/
CATEGORIES:Committee Meetings
END:VEVENT
BEGIN:VEVENT
DTSTART;VALUE=DATE:20261224
DTEND;VALUE=DATE:20261225
DTSTAMP:20260423T170428
CREATED:20251224T080502Z
LAST-MODIFIED:20260423T232048Z
UID:10000869-1798070400-1798156799@ccrealtors.com
SUMMARY:Christmas Eve
DESCRIPTION:
URL:https://ccrealtors.com/event/christmas-eve-4/
LOCATION:United States
CATEGORIES:Committee Meetings
END:VEVENT
BEGIN:VEVENT
DTSTART;VALUE=DATE:20261224
DTEND;VALUE=DATE:20261226
DTSTAMP:20260423T170428
CREATED:20251224T080515Z
LAST-MODIFIED:20260423T232048Z
UID:10000870-1798070400-1798243199@ccrealtors.com
SUMMARY:CCAR Holiday - Office Closed
DESCRIPTION:
URL:https://ccrealtors.com/event/ccar-holiday-office-closed-6/
CATEGORIES:Committee Meetings,Home Page Events,Office Closure
END:VEVENT
BEGIN:VEVENT
DTSTART;VALUE=DATE:20261225
DTEND;VALUE=DATE:20261226
DTSTAMP:20260423T170428
CREATED:20251225T080507Z
LAST-MODIFIED:20260423T232048Z
UID:10000871-1798156800-1798243199@ccrealtors.com
SUMMARY:Christmas Day
DESCRIPTION:
URL:https://ccrealtors.com/event/christmas-day-4/
LOCATION:United States
CATEGORIES:Committee Meetings
END:VEVENT
BEGIN:VEVENT
DTSTART;VALUE=DATE:20261231
DTEND;VALUE=DATE:20270101
DTSTAMP:20260423T170428
CREATED:20251231T080356Z
LAST-MODIFIED:20260423T232100Z
UID:10000872-1798675200-1798761599@ccrealtors.com
SUMMARY:New Year's Eve
DESCRIPTION:
URL:https://ccrealtors.com/event/new-years-eve-4/
LOCATION:United States
CATEGORIES:Committee Meetings
END:VEVENT
BEGIN:VEVENT
DTSTART;VALUE=DATE:20261231
DTEND;VALUE=DATE:20270102
DTSTAMP:20260423T170428
CREATED:20251231T080408Z
LAST-MODIFIED:20260423T232048Z
UID:10000873-1798675200-1798847999@ccrealtors.com
SUMMARY:CCAR Holiday - Office Closed
DESCRIPTION:
URL:https://ccrealtors.com/event/ccar-holiday-office-closed-7/
CATEGORIES:Committee Meetings,Home Page Events,Office Closure
END:VEVENT
BEGIN:VEVENT
DTSTART;VALUE=DATE:20270101
DTEND;VALUE=DATE:20270102
DTSTAMP:20260423T170428
CREATED:20260101T080753Z
LAST-MODIFIED:20260423T232100Z
UID:10000874-1798761600-1798847999@ccrealtors.com
SUMMARY:New Year's Day
DESCRIPTION:
URL:https://ccrealtors.com/event/new-years-day-4/
LOCATION:United States
CATEGORIES:Committee Meetings
END:VEVENT
BEGIN:VEVENT
DTSTART;VALUE=DATE:20270202
DTEND;VALUE=DATE:20270203
DTSTAMP:20260423T170428
CREATED:20260202T083427Z
LAST-MODIFIED:20260423T232100Z
UID:10000906-1801526400-1801612799@ccrealtors.com
SUMMARY:Groundhog Day
DESCRIPTION:
URL:https://ccrealtors.com/event/groundhog-day-4/
LOCATION:United States
CATEGORIES:Committee Meetings
END:VEVENT
BEGIN:VEVENT
DTSTART;VALUE=DATE:20270214
DTEND;VALUE=DATE:20270215
DTSTAMP:20260423T170428
CREATED:20260214T091215Z
LAST-MODIFIED:20260423T232100Z
UID:10000908-1802563200-1802649599@ccrealtors.com
SUMMARY:Valentine's Day
DESCRIPTION:
URL:https://ccrealtors.com/event/valentines-day-4/
LOCATION:United States
CATEGORIES:Committee Meetings
END:VEVENT
BEGIN:VEVENT
DTSTART;VALUE=DATE:20270317
DTEND;VALUE=DATE:20270318
DTSTAMP:20260423T170428
CREATED:20260317T073511Z
LAST-MODIFIED:20260423T232100Z
UID:10000909-1805241600-1805327999@ccrealtors.com
SUMMARY:St. Patrick's Day
DESCRIPTION:
URL:https://ccrealtors.com/event/st-patricks-day-4/
LOCATION:United States
CATEGORIES:Committee Meetings
END:VEVENT
END:VCALENDAR