BEGIN:VCALENDAR
VERSION:2.0
PRODID:-//Clark County Association of Realtors - ECPv6.15.20//NONSGML v1.0//EN
CALSCALE:GREGORIAN
METHOD:PUBLISH
X-WR-CALNAME:Clark County Association of Realtors
X-ORIGINAL-URL:https://ccrealtors.com
X-WR-CALDESC:Events for Clark County Association of Realtors
REFRESH-INTERVAL;VALUE=DURATION:PT1H
X-Robots-Tag:noindex
X-PUBLISHED-TTL:PT1H
BEGIN:VTIMEZONE
TZID:America/Vancouver
BEGIN:DAYLIGHT
TZOFFSETFROM:-0800
TZOFFSETTO:-0700
TZNAME:PDT
DTSTART:20240310T100000
END:DAYLIGHT
BEGIN:STANDARD
TZOFFSETFROM:-0700
TZOFFSETTO:-0800
TZNAME:PST
DTSTART:20241103T090000
END:STANDARD
BEGIN:DAYLIGHT
TZOFFSETFROM:-0800
TZOFFSETTO:-0700
TZNAME:PDT
DTSTART:20250309T100000
END:DAYLIGHT
BEGIN:STANDARD
TZOFFSETFROM:-0700
TZOFFSETTO:-0800
TZNAME:PST
DTSTART:20251102T090000
END:STANDARD
BEGIN:DAYLIGHT
TZOFFSETFROM:-0800
TZOFFSETTO:-0700
TZNAME:PDT
DTSTART:20260308T100000
END:DAYLIGHT
BEGIN:STANDARD
TZOFFSETFROM:-0700
TZOFFSETTO:-0800
TZNAME:PST
DTSTART:20261101T090000
END:STANDARD
END:VTIMEZONE
BEGIN:VEVENT
DTSTART;TZID=America/Vancouver:20251118T100000
DTEND;TZID=America/Vancouver:20251118T113000
DTSTAMP:20260423T172138
CREATED:20241223T233216Z
LAST-MODIFIED:20251118T184934Z
UID:10000757-1763460000-1763465400@ccrealtors.com
SUMMARY:Government Affairs Committee
DESCRIPTION:
URL:https://ccrealtors.com/event/government-affairs-committee-24/
CATEGORIES:Committee Meetings
END:VEVENT
BEGIN:VEVENT
DTSTART;VALUE=DATE:20251112
DTEND;VALUE=DATE:20251118
DTSTAMP:20260423T172138
CREATED:20241223T233201Z
LAST-MODIFIED:20260105T182549Z
UID:10000755-1762905600-1763423999@ccrealtors.com
SUMMARY:NAR Annual Meetings
DESCRIPTION:
URL:https://ccrealtors.com/event/nar-annual-meetings/
LOCATION:Houston Texas
CATEGORIES:NAR
END:VEVENT
BEGIN:VEVENT
DTSTART;VALUE=DATE:20251111
DTEND;VALUE=DATE:20251112
DTSTAMP:20260423T172138
CREATED:20241223T233201Z
LAST-MODIFIED:20251111T230013Z
UID:10000756-1762819200-1762905599@ccrealtors.com
SUMMARY:CCAR Office Closed - Veterans Day
DESCRIPTION:
URL:https://ccrealtors.com/event/ccar-office-closed-7/
CATEGORIES:Committee Meetings,Home Page Events,Office Closure
END:VEVENT
BEGIN:VEVENT
DTSTART;VALUE=DATE:20251111
DTEND;VALUE=DATE:20251112
DTSTAMP:20260423T172138
CREATED:20241111T083443Z
LAST-MODIFIED:20251111T230013Z
UID:10000669-1762819200-1762905599@ccrealtors.com
SUMMARY:Veterans Day
DESCRIPTION:
URL:https://ccrealtors.com/event/veterans-day-2/
LOCATION:United States
CATEGORIES:Committee Meetings
END:VEVENT
BEGIN:VEVENT
DTSTART;TZID=America/Vancouver:20251106T090000
DTEND;TZID=America/Vancouver:20251106T110000
DTSTAMP:20260423T172138
CREATED:20241223T233201Z
LAST-MODIFIED:20251106T181417Z
UID:10000754-1762419600-1762426800@ccrealtors.com
SUMMARY:CCAR Board of Directors
DESCRIPTION:
URL:https://ccrealtors.com/event/ccar-board-of-directors-8/
CATEGORIES:Committee Meetings
END:VEVENT
BEGIN:VEVENT
DTSTART;TZID=America/Vancouver:20251104T130000
DTEND;TZID=America/Vancouver:20251104T143000
DTSTAMP:20260423T172138
CREATED:20241223T233200Z
LAST-MODIFIED:20251104T222619Z
UID:10000753-1762261200-1762266600@ccrealtors.com
SUMMARY:RPAC Committee
DESCRIPTION:
URL:https://ccrealtors.com/event/rpac-committee-13/
CATEGORIES:Committee Meetings
END:VEVENT
BEGIN:VEVENT
DTSTART;TZID=America/Vancouver:20251031T100000
DTEND;TZID=America/Vancouver:20251031T113000
DTSTAMP:20260423T172138
CREATED:20241223T233200Z
LAST-MODIFIED:20251031T181008Z
UID:10000752-1761904800-1761910200@ccrealtors.com
SUMMARY:Awards Sub Committee
DESCRIPTION:
URL:https://ccrealtors.com/event/awards-sub-committee-3/
CATEGORIES:Committee Meetings
END:VEVENT
BEGIN:VEVENT
DTSTART;VALUE=DATE:20251031
DTEND;VALUE=DATE:20251101
DTSTAMP:20260423T172138
CREATED:20241031T073436Z
LAST-MODIFIED:20251031T230940Z
UID:10000666-1761868800-1761955199@ccrealtors.com
SUMMARY:Halloween
DESCRIPTION:
URL:https://ccrealtors.com/event/halloween-2/
LOCATION:United States
CATEGORIES:Committee Meetings
END:VEVENT
BEGIN:VEVENT
DTSTART;TZID=America/Vancouver:20251028T123000
DTEND;TZID=America/Vancouver:20251028T140000
DTSTAMP:20260423T172138
CREATED:20241223T233200Z
LAST-MODIFIED:20251028T202447Z
UID:10000751-1761654600-1761660000@ccrealtors.com
SUMMARY:Executive Committee
DESCRIPTION:
URL:https://ccrealtors.com/event/executive-committee-21/
CATEGORIES:Committee Meetings
END:VEVENT
BEGIN:VEVENT
DTSTART;TZID=America/Vancouver:20251027T130000
DTEND;TZID=America/Vancouver:20251027T143000
DTSTAMP:20260423T172138
CREATED:20241223T233200Z
LAST-MODIFIED:20251027T210950Z
UID:10000750-1761570000-1761575400@ccrealtors.com
SUMMARY:Foundation Board of Directors
DESCRIPTION:
URL:https://ccrealtors.com/event/foundation-board-of-directors-12/
CATEGORIES:Committee Meetings
END:VEVENT
BEGIN:VEVENT
DTSTART;TZID=America/Vancouver:20251024T130000
DTEND;TZID=America/Vancouver:20251024T160000
DTSTAMP:20260423T172138
CREATED:20241223T233144Z
LAST-MODIFIED:20250828T205213Z
UID:10000748-1761310800-1761321600@ccrealtors.com
SUMMARY:Boo Bowl
DESCRIPTION:Boo Bowl Bowling Tournament Oct. 24th 1:00-4:00pm \nTournament\, Costume Contest & Raffle \nAllen’s Crosley Lanes \nClick this link to register your 5-Person Team or register as an Individual (or individuals with your friends) and we will put you on a team:\nhttps://www.zeffy.com/ticketing/2025-boo-bowl-team-or-player-registration \nSponsorships Available! Please contact Kristin Miller to secure your company’s sponsorship at events@ccrealtors.com or 503-917-5695 \nRaffle Items needed at all price points! Please contact Kristin Miller to donate and receive promotion for your company at the event!
URL:https://ccrealtors.com/event/boo-bowl-2/
LOCATION:Allen’s Crosley Lanes (2400 E Evergreen Blvd\, Vancouver\, WA 98661\, United States)
CATEGORIES:CCAR Events,Committee Meetings,Foundation Events,Home Page Events
END:VEVENT
BEGIN:VEVENT
DTSTART;TZID=America/Vancouver:20251023T090000
DTEND;TZID=America/Vancouver:20251023T103000
DTSTAMP:20260423T172138
CREATED:20241223T233144Z
LAST-MODIFIED:20251023T165922Z
UID:10000747-1761210000-1761215400@ccrealtors.com
SUMMARY:Professional Standards Committee
DESCRIPTION:
URL:https://ccrealtors.com/event/professional-standards-committee-17/
CATEGORIES:Committee Meetings
END:VEVENT
BEGIN:VEVENT
DTSTART;VALUE=DATE:20251022
DTEND;VALUE=DATE:20251025
DTSTAMP:20260423T172138
CREATED:20241223T233200Z
LAST-MODIFIED:20260105T181948Z
UID:10000749-1761091200-1761350399@ccrealtors.com
SUMMARY:WR Leadership Conference
DESCRIPTION:
URL:https://ccrealtors.com/event/wr-leadership-conference-3/
LOCATION:The Davenport Tower\, Autograph Collection (111 S Post St\, Spokane\, WA 99201\, United States)
CATEGORIES:Washington REALTORS
END:VEVENT
BEGIN:VEVENT
DTSTART;TZID=America/Vancouver:20251021T100000
DTEND;TZID=America/Vancouver:20251021T113000
DTSTAMP:20260423T172138
CREATED:20241223T233144Z
LAST-MODIFIED:20251021T174041Z
UID:10000746-1761040800-1761046200@ccrealtors.com
SUMMARY:Government Affairs Committee
DESCRIPTION:
URL:https://ccrealtors.com/event/government-affairs-committee-23/
CATEGORIES:Committee Meetings
END:VEVENT
BEGIN:VEVENT
DTSTART;TZID=America/Vancouver:20251015T000000
DTEND;TZID=America/Vancouver:20251015T170000
DTSTAMP:20260423T172138
CREATED:20241223T233144Z
LAST-MODIFIED:20251015T230942Z
UID:10000744-1760486400-1760547600@ccrealtors.com
SUMMARY:Foundation Grant Deadline
DESCRIPTION:CLARK COUNTY REALTORS FOUNDATION GRANT SUBMISSION DEADLINE: 5:00PM OCT. 15\, 2025 \nThe Clark County REALTORS® Foundation is seeking grant requests from qualified local non-profit organizations committed to fostering\, developing\, promoting\, and encouraging the health\, education\, and general social welfare of disadvantaged children\, families\, and the elderly in Clark County. \nTo be included for consideration of funding\, the Foundation asks local non-profit organizations to submit a letter of request\, on your letterhead\, highlighting the following topics: \n\nOrganizational background\, purpose\, and how the organization serves children\, families\, and/or the elderly in Clark County;\nAmount of request;\nIntent of funding and project description in narrative form including goals\, project scope\, and proposed use of funds;\nIf the organization has received funding from the Foundation in the past\, state how those funds were utilized;\nOrganization’s Tax ID Number\, address\, contact phone number\, contact email.\n\nNon-profit organizations can submit their request to Kristin Miller. \nDeadline for funding requests is October 15 at 5:00pm PST. \nFor more information\, organizations may contact (360) 695-5980.
URL:https://ccrealtors.com/event/foundation-grant-deadline-3/
CATEGORIES:Committee Meetings,Foundation Events,Home Page Events
END:VEVENT
BEGIN:VEVENT
DTSTART;TZID=America/Vancouver:20251014T130000
DTEND;TZID=America/Vancouver:20251014T143000
DTSTAMP:20260423T172138
CREATED:20241223T233144Z
LAST-MODIFIED:20251014T211110Z
UID:10000743-1760446800-1760452200@ccrealtors.com
SUMMARY:RPAC Committee
DESCRIPTION:
URL:https://ccrealtors.com/event/rpac-committee-12/
CATEGORIES:Committee Meetings
END:VEVENT
BEGIN:VEVENT
DTSTART;VALUE=DATE:20251013
DTEND;VALUE=DATE:20251014
DTSTAMP:20260423T172138
CREATED:20241223T233144Z
LAST-MODIFIED:20251013T232504Z
UID:10000742-1760313600-1760399999@ccrealtors.com
SUMMARY:Columbus Day
DESCRIPTION:
URL:https://ccrealtors.com/event/columbus-day-2/
LOCATION:United States
CATEGORIES:Committee Meetings
END:VEVENT
BEGIN:VEVENT
DTSTART;TZID=America/Vancouver:20251010T090000
DTEND;TZID=America/Vancouver:20251010T100000
DTSTAMP:20260423T172138
CREATED:20241223T233144Z
LAST-MODIFIED:20251010T164255Z
UID:10000741-1760086800-1760090400@ccrealtors.com
SUMMARY:DEI Committee
DESCRIPTION:
URL:https://ccrealtors.com/event/dei-committee-12/
CATEGORIES:Committee Meetings
END:VEVENT
BEGIN:VEVENT
DTSTART;TZID=America/Vancouver:20251009T090000
DTEND;TZID=America/Vancouver:20251009T110000
DTSTAMP:20260423T172138
CREATED:20241223T233144Z
LAST-MODIFIED:20251009T172444Z
UID:10000740-1760000400-1760007600@ccrealtors.com
SUMMARY:CCAR Board of Directors
DESCRIPTION:
URL:https://ccrealtors.com/event/ccar-board-of-directors-7/
CATEGORIES:Committee Meetings
END:VEVENT
BEGIN:VEVENT
DTSTART;TZID=America/Vancouver:20251007T100000
DTEND;TZID=America/Vancouver:20251007T120000
DTSTAMP:20260423T172138
CREATED:20241223T233144Z
LAST-MODIFIED:20250829T165845Z
UID:10000745-1759831200-1759838400@ccrealtors.com
SUMMARY:October Membership Meeting
DESCRIPTION:October Membership Meeting\nSponsored by RMLS\nOct. 7\, 2025\n10:00 am-12 noon\nCheck in: 9:30am\nGuest Speaker: Kurt von Wasmuth\, RMLS President & CEO\nPlease join us at Royal Oaks Country Club for the 2025 CCAR October Membership Meeting.  Come show your support for your incoming 2026 Board of Directors and to listen to a timely presentation from RMLS’s President & CEO\, Kurt von Wasmuth!  Check in begins at 9:30 am. Continental breakfast will be served. \nTickets: $10\nTable of 8 with company logo displayed on table: $100\nRegister through your CCAR Member Login: https://mdweb.mmsi2.com/clark/\nLook for “October Membership Meeting” under “Upcoming Events” \nRoyal Oaks Country Club\n8917 NE 4th Plain Blvd.\nVancouver\, WA 98662
URL:https://ccrealtors.com/event/october-membership-meeting-3/
LOCATION:Royal Oaks Country Club (8917 NE 4th Plain Blvd\, Vancouver\, WA  98662)
CATEGORIES:CCAR Events,Committee Meetings,Home Page Events
END:VEVENT
BEGIN:VEVENT
DTSTART;TZID=America/Vancouver:20251002T090000
DTEND;TZID=America/Vancouver:20251002T103000
DTSTAMP:20260423T172138
CREATED:20241223T233144Z
LAST-MODIFIED:20251002T162956Z
UID:10000739-1759395600-1759401000@ccrealtors.com
SUMMARY:Ombudsman Sub Committee
DESCRIPTION:
URL:https://ccrealtors.com/event/ombudsman-sub-committee-2/
CATEGORIES:Committee Meetings
END:VEVENT
BEGIN:VEVENT
DTSTART;VALUE=DATE:20251001
DTEND;VALUE=DATE:20251002
DTSTAMP:20260423T172138
CREATED:20241223T233128Z
LAST-MODIFIED:20251001T235646Z
UID:10000738-1759276800-1759363199@ccrealtors.com
SUMMARY:Deadline for CCAR Life Service Award Nominations
DESCRIPTION:
URL:https://ccrealtors.com/event/deadline-for-ccar-life-service-award-nominations-2/
CATEGORIES:CCAR Events,Committee Meetings,Home Page Events
END:VEVENT
BEGIN:VEVENT
DTSTART;TZID=America/Vancouver:20250930T123000
DTEND;TZID=America/Vancouver:20250930T140000
DTSTAMP:20260423T172138
CREATED:20241223T233128Z
LAST-MODIFIED:20250912T034136Z
UID:10000737-1759235400-1759240800@ccrealtors.com
SUMMARY:Executive Committee
DESCRIPTION:
URL:https://ccrealtors.com/event/executive-committee-20/
CATEGORIES:Committee Meetings
END:VEVENT
BEGIN:VEVENT
DTSTART;TZID=America/Vancouver:20250925T090000
DTEND;TZID=America/Vancouver:20250925T103000
DTSTAMP:20260423T172138
CREATED:20241223T233128Z
LAST-MODIFIED:20250912T034136Z
UID:10000736-1758790800-1758796200@ccrealtors.com
SUMMARY:Cancelled - Professional Standards Committee
DESCRIPTION:
URL:https://ccrealtors.com/event/professional-standards-committee-16/
CATEGORIES:Committee Meetings
END:VEVENT
BEGIN:VEVENT
DTSTART;VALUE=DATE:20250925
DTEND;VALUE=DATE:20250926
DTSTAMP:20260423T172138
CREATED:20250117T195740Z
LAST-MODIFIED:20250430T175010Z
UID:10000773-1758758400-1758844799@ccrealtors.com
SUMMARY:GiveMore24!
DESCRIPTION:Clark County REALTORS Foundation Fundraising Event!\n24-hours of Online Donations from 12am to Midnight on September 25.\n\n\n\n\n\nEarly Giving Starts: Tuesday\, September 9th\n\n\n\n\n\nThank you to our Fundraising Partners:\n       \n      \n \nBecome a Fundraising Partner and receive promotion for your company or yourself during the event. Contact Kristin Miller: events@ccrealtors.com or 503-917-5695
URL:https://ccrealtors.com/event/givemore24-fundraising-event/
CATEGORIES:Committee Meetings,Foundation Events,Home Page Events
END:VEVENT
BEGIN:VEVENT
DTSTART;TZID=America/Vancouver:20250924T000000
DTEND;TZID=America/Vancouver:20250926T170000
DTSTAMP:20260423T172138
CREATED:20241223T233128Z
LAST-MODIFIED:20260105T181958Z
UID:10000734-1758672000-1758906000@ccrealtors.com
SUMMARY:WR Fall Business Conference
DESCRIPTION:
URL:https://ccrealtors.com/event/wr-fall-business-conference-2/
LOCATION:Spokane WA
CATEGORIES:Home Page Events,Washington REALTORS
END:VEVENT
BEGIN:VEVENT
DTSTART;TZID=America/Vancouver:20250924T000000
DTEND;TZID=America/Vancouver:20250926T170000
DTSTAMP:20260423T172138
CREATED:20240930T170737Z
LAST-MODIFIED:20260105T182144Z
UID:10000661-1758672000-1758906000@ccrealtors.com
SUMMARY:WR Fall Business Conference
DESCRIPTION:
URL:https://ccrealtors.com/event/wr-fall-business-conference/
LOCATION:Spokane WA
CATEGORIES:Home Page Events,Washington REALTORS
END:VEVENT
BEGIN:VEVENT
DTSTART;TZID=America/Vancouver:20250916T100000
DTEND;TZID=America/Vancouver:20250916T113000
DTSTAMP:20260423T172138
CREATED:20241223T233128Z
LAST-MODIFIED:20250912T034136Z
UID:10000732-1758016800-1758022200@ccrealtors.com
SUMMARY:Cancelled - Government Affairs Committee
DESCRIPTION:
URL:https://ccrealtors.com/event/government-affairs-committee-22/
CATEGORIES:Committee Meetings
END:VEVENT
BEGIN:VEVENT
DTSTART;TZID=America/Vancouver:20250916T083000
DTEND;TZID=America/Vancouver:20250916T123000
DTSTAMP:20260423T172138
CREATED:20250516T210422Z
LAST-MODIFIED:20250912T034136Z
UID:10000784-1758011400-1758025800@ccrealtors.com
SUMMARY:Designated Broker Forum
DESCRIPTION:CCAR Designated Broker Forum\n \nTues. Sept. 16th 8:30am-12:30pm\n8:30-9:00am Check-in\n9:00am-12:30pm Program\nBIA Offices Conference Room 103 E 29th St\, Vancouver\, WA 98663 \nCCAR is hosting an exclusive Designated Broker-only forum covering the most recent changes in our industry to keep you and your team up to date.\nPlus updates from CCAR including Government Affairs\, REALTOR PAC\, Standards & Practices/Ombudsmen Services\, and CCR Foundation. \nGuest Speakers:\nKurt von Wasmuth\, RMLS President & CEO\nMarissa Bigler\, RMLS Vice President of Subscriber Services\nEric Golemo\, Owner SGA Engineering & Design & BIA Board Member\nContact CCAR if you are a Designated Broker and would like to attend this event: Kristin Miller at 503-917-5695 or events@ccrealtors.com.
URL:https://ccrealtors.com/event/designated-broker-forum-3/
LOCATION:Building Industry Association (103 E 29th St\, Vancouver\, WA  98663)
CATEGORIES:CCAR Events,Committee Meetings,Home Page Events
ORGANIZER;CN="CCAR":MAILTO:ccar@ccrealtors.com
END:VEVENT
BEGIN:VEVENT
DTSTART;TZID=America/Vancouver:20250911T090000
DTEND;TZID=America/Vancouver:20250911T110000
DTSTAMP:20260423T172138
CREATED:20241223T233127Z
LAST-MODIFIED:20250911T174011Z
UID:10000731-1757581200-1757588400@ccrealtors.com
SUMMARY:CCAR Board of Directors
DESCRIPTION:
URL:https://ccrealtors.com/event/ccar-board-of-directors-6/
CATEGORIES:Committee Meetings
END:VEVENT
END:VCALENDAR