BEGIN:VCALENDAR
VERSION:2.0
PRODID:-//Clark County Association of Realtors - ECPv6.15.20//NONSGML v1.0//EN
CALSCALE:GREGORIAN
METHOD:PUBLISH
X-WR-CALNAME:Clark County Association of Realtors
X-ORIGINAL-URL:https://ccrealtors.com
X-WR-CALDESC:Events for Clark County Association of Realtors
REFRESH-INTERVAL;VALUE=DURATION:PT1H
X-Robots-Tag:noindex
X-PUBLISHED-TTL:PT1H
BEGIN:VTIMEZONE
TZID:America/Vancouver
BEGIN:DAYLIGHT
TZOFFSETFROM:-0800
TZOFFSETTO:-0700
TZNAME:PDT
DTSTART:20230312T100000
END:DAYLIGHT
BEGIN:STANDARD
TZOFFSETFROM:-0700
TZOFFSETTO:-0800
TZNAME:PST
DTSTART:20231105T090000
END:STANDARD
BEGIN:DAYLIGHT
TZOFFSETFROM:-0800
TZOFFSETTO:-0700
TZNAME:PDT
DTSTART:20240310T100000
END:DAYLIGHT
BEGIN:STANDARD
TZOFFSETFROM:-0700
TZOFFSETTO:-0800
TZNAME:PST
DTSTART:20241103T090000
END:STANDARD
BEGIN:DAYLIGHT
TZOFFSETFROM:-0800
TZOFFSETTO:-0700
TZNAME:PDT
DTSTART:20250309T100000
END:DAYLIGHT
BEGIN:STANDARD
TZOFFSETFROM:-0700
TZOFFSETTO:-0800
TZNAME:PST
DTSTART:20251102T090000
END:STANDARD
BEGIN:DAYLIGHT
TZOFFSETFROM:-0800
TZOFFSETTO:-0700
TZNAME:PDT
DTSTART:20260308T100000
END:DAYLIGHT
BEGIN:STANDARD
TZOFFSETFROM:-0700
TZOFFSETTO:-0800
TZNAME:PST
DTSTART:20261101T090000
END:STANDARD
END:VTIMEZONE
BEGIN:VEVENT
DTSTART;TZID=America/Vancouver:20250318T100000
DTEND;TZID=America/Vancouver:20250318T113000
DTSTAMP:20260424T054146
CREATED:20241223T232939Z
LAST-MODIFIED:20250318T174840Z
UID:10000689-1742292000-1742297400@ccrealtors.com
SUMMARY:Government Affairs Committee
DESCRIPTION:
URL:https://ccrealtors.com/event/government-affairs-committee-16/
CATEGORIES:Committee Meetings
END:VEVENT
BEGIN:VEVENT
DTSTART;VALUE=DATE:20250317
DTEND;VALUE=DATE:20250318
DTSTAMP:20260424T054146
CREATED:20240317T075813Z
LAST-MODIFIED:20250317T230337Z
UID:10000516-1742169600-1742255999@ccrealtors.com
SUMMARY:St. Patrick's Day
DESCRIPTION:
URL:https://ccrealtors.com/event/st-patricks-day-2/
LOCATION:United States
CATEGORIES:Committee Meetings
END:VEVENT
BEGIN:VEVENT
DTSTART;TZID=America/Vancouver:20250314T120000
DTEND;TZID=America/Vancouver:20250320T120000
DTSTAMP:20260424T054146
CREATED:20250224T180323Z
LAST-MODIFIED:20250224T180715Z
UID:10000777-1741953600-1742472000@ccrealtors.com
SUMMARY:RPAC on the Riverfront Silent Auction - MEMBERS ONLY
DESCRIPTION:Thank you to our Sponsor:  \nRPAC on the Riverfront Silent Online Auction\nMarch 14th 12noon – March 20th 12noon – no ticket purchase needed to bid on online auction items. \nBid on Silent Auction Items: https://CCAR2025RPAC.givesmart.com \n 
URL:https://ccrealtors.com/event/rpac-on-the-riverfront-silent-auction-members-only/
CATEGORIES:CCAR Events,Committee Meetings,Home Page Events
ORGANIZER;CN="CCAR":MAILTO:ccar@ccrealtors.com
END:VEVENT
BEGIN:VEVENT
DTSTART;TZID=America/Vancouver:20250313T090000
DTEND;TZID=America/Vancouver:20250313T110000
DTSTAMP:20260424T054146
CREATED:20241223T232939Z
LAST-MODIFIED:20250314T203034Z
UID:10000687-1741856400-1741863600@ccrealtors.com
SUMMARY:CANCELLED - CCAR Board of Directors
DESCRIPTION:
URL:https://ccrealtors.com/event/ccar-board-of-directors/
CATEGORIES:Committee Meetings
END:VEVENT
BEGIN:VEVENT
DTSTART;VALUE=DATE:20250312
DTEND;VALUE=DATE:20250315
DTSTAMP:20260424T054146
CREATED:20241223T232939Z
LAST-MODIFIED:20250314T234843Z
UID:10000688-1741737600-1741996799@ccrealtors.com
SUMMARY:Region 12 Meetings
DESCRIPTION:
URL:https://ccrealtors.com/event/region-12-meetings-2/
LOCATION:Whitefish Lodge & Suites (14150 Swann Dr\, Crosslake\, MN 56442\, United States)
CATEGORIES:Committee Meetings
END:VEVENT
BEGIN:VEVENT
DTSTART;TZID=America/Vancouver:20250311T130000
DTEND;TZID=America/Vancouver:20250311T143000
DTSTAMP:20260424T054146
CREATED:20241223T232939Z
LAST-MODIFIED:20250311T204833Z
UID:10000686-1741698000-1741703400@ccrealtors.com
SUMMARY:RPAC Committee
DESCRIPTION:
URL:https://ccrealtors.com/event/rpac-committee-10/
CATEGORIES:Committee Meetings
END:VEVENT
BEGIN:VEVENT
DTSTART;TZID=America/Vancouver:20250304T123000
DTEND;TZID=America/Vancouver:20250304T140000
DTSTAMP:20260424T054146
CREATED:20241223T232939Z
LAST-MODIFIED:20250304T214943Z
UID:10000685-1741091400-1741096800@ccrealtors.com
SUMMARY:Executive Committee
DESCRIPTION:
URL:https://ccrealtors.com/event/executive-committee-14/
CATEGORIES:Committee Meetings
END:VEVENT
BEGIN:VEVENT
DTSTART;TZID=America/Vancouver:20250227T090000
DTEND;TZID=America/Vancouver:20250227T103000
DTSTAMP:20260424T054146
CREATED:20241223T232939Z
LAST-MODIFIED:20250227T180334Z
UID:10000684-1740646800-1740652200@ccrealtors.com
SUMMARY:CANCELLED - Professional Standards Committee
DESCRIPTION:
URL:https://ccrealtors.com/event/professional-standards-committee-10/
CATEGORIES:Committee Meetings
END:VEVENT
BEGIN:VEVENT
DTSTART;TZID=America/Vancouver:20250227T080000
DTEND;TZID=America/Vancouver:20250227T123000
DTSTAMP:20260424T054146
CREATED:20250110T204905Z
LAST-MODIFIED:20250227T192322Z
UID:10000772-1740643200-1740659400@ccrealtors.com
SUMMARY:Leadership Retreat
DESCRIPTION:
URL:https://ccrealtors.com/event/leadership-retreat/
LOCATION:Building Industry Association (103 E 29th St\, Vancouver\, WA 98663\, United States)
CATEGORIES:Committee Meetings
END:VEVENT
BEGIN:VEVENT
DTSTART;TZID=America/Vancouver:20250225T130000
DTEND;TZID=America/Vancouver:20250225T130000
DTSTAMP:20260424T054146
CREATED:20241223T232939Z
LAST-MODIFIED:20250225T201829Z
UID:10000683-1740488400-1740488400@ccrealtors.com
SUMMARY:Foundation Board of Directors
DESCRIPTION:
URL:https://ccrealtors.com/event/foundation-board-of-directors-5/
CATEGORIES:Committee Meetings
END:VEVENT
BEGIN:VEVENT
DTSTART;TZID=America/Vancouver:20250220T090000
DTEND;TZID=America/Vancouver:20250220T123000
DTSTAMP:20260424T054146
CREATED:20250110T204905Z
LAST-MODIFIED:20250220T193357Z
UID:10000771-1740042000-1740054600@ccrealtors.com
SUMMARY:Ombudsman Training
DESCRIPTION:Instructor: Terry Eccles-Pettet\nCE issued by: Washington Realtors\n**Will take place of the February PS committee meeting if members want to attend this class.
URL:https://ccrealtors.com/event/ombudsman-training/
LOCATION:CCAR Office\, 1514 Broadway St\, Vancouver\, WA\, United States
CATEGORIES:Committee Meetings
GEO:45.632691;-122.670535
X-APPLE-STRUCTURED-LOCATION;VALUE=URI;X-ADDRESS=CCAR Office 1514 Broadway St Vancouver WA United States;X-APPLE-RADIUS=500;X-TITLE=1514 Broadway St:geo:-122.670535,45.632691
END:VEVENT
BEGIN:VEVENT
DTSTART;TZID=America/Vancouver:20250218T100000
DTEND;TZID=America/Vancouver:20250218T113000
DTSTAMP:20260424T054146
CREATED:20241223T232939Z
LAST-MODIFIED:20250218T190344Z
UID:10000682-1739872800-1739878200@ccrealtors.com
SUMMARY:Government Affairs Committee
DESCRIPTION:
URL:https://ccrealtors.com/event/government-affairs-committee-15/
CATEGORIES:Committee Meetings
END:VEVENT
BEGIN:VEVENT
DTSTART;VALUE=DATE:20250217
DTEND;VALUE=DATE:20250218
DTSTAMP:20260424T054146
CREATED:20241223T232919Z
LAST-MODIFIED:20250217T233421Z
UID:10000680-1739750400-1739836799@ccrealtors.com
SUMMARY:CCAR Office Closed - Presidents' Day
DESCRIPTION:
URL:https://ccrealtors.com/event/ccar-office-closed-4/
CATEGORIES:Committee Meetings,Home Page Events,Office Closure
END:VEVENT
BEGIN:VEVENT
DTSTART;VALUE=DATE:20250217
DTEND;VALUE=DATE:20250218
DTSTAMP:20260424T054146
CREATED:20241223T232919Z
LAST-MODIFIED:20250217T233421Z
UID:10000681-1739750400-1739836799@ccrealtors.com
SUMMARY:Presidents' Day
DESCRIPTION:
URL:https://ccrealtors.com/event/presidents-day-2/
LOCATION:United States
CATEGORIES:Committee Meetings
END:VEVENT
BEGIN:VEVENT
DTSTART;TZID=America/Vancouver:20250214T090000
DTEND;TZID=America/Vancouver:20250214T100000
DTSTAMP:20260424T054146
CREATED:20241223T232919Z
LAST-MODIFIED:20250214T172334Z
UID:10000679-1739523600-1739527200@ccrealtors.com
SUMMARY:DEI Committee
DESCRIPTION:
URL:https://ccrealtors.com/event/dei-committee-8/
CATEGORIES:Committee Meetings
END:VEVENT
BEGIN:VEVENT
DTSTART;VALUE=DATE:20250214
DTEND;VALUE=DATE:20250215
DTSTAMP:20260424T054146
CREATED:20240214T083000Z
LAST-MODIFIED:20250214T230332Z
UID:10000499-1739491200-1739577599@ccrealtors.com
SUMMARY:Valentine's Day
DESCRIPTION:
URL:https://ccrealtors.com/event/valentines-day-2/
LOCATION:United States
CATEGORIES:Committee Meetings
END:VEVENT
BEGIN:VEVENT
DTSTART;TZID=America/Vancouver:20250211T130000
DTEND;TZID=America/Vancouver:20250211T143000
DTSTAMP:20260424T054146
CREATED:20241223T232918Z
LAST-MODIFIED:20250211T220406Z
UID:10000678-1739278800-1739284200@ccrealtors.com
SUMMARY:RPAC Committee
DESCRIPTION:
URL:https://ccrealtors.com/event/rpac-committee-9/
CATEGORIES:Committee Meetings
END:VEVENT
BEGIN:VEVENT
DTSTART;TZID=America/Vancouver:20250204T123000
DTEND;TZID=America/Vancouver:20250204T140000
DTSTAMP:20260424T054146
CREATED:20241223T232918Z
LAST-MODIFIED:20250204T215044Z
UID:10000677-1738672200-1738677600@ccrealtors.com
SUMMARY:Executive Committee
DESCRIPTION:
URL:https://ccrealtors.com/event/executive-committee-13/
CATEGORIES:Committee Meetings
END:VEVENT
BEGIN:VEVENT
DTSTART;VALUE=DATE:20250202
DTEND;VALUE=DATE:20250203
DTSTAMP:20260424T054146
CREATED:20240202T083557Z
LAST-MODIFIED:20250202T230455Z
UID:10000495-1738454400-1738540799@ccrealtors.com
SUMMARY:Groundhog Day
DESCRIPTION:
URL:https://ccrealtors.com/event/groundhog-day-2/
LOCATION:United States
CATEGORIES:Committee Meetings
END:VEVENT
BEGIN:VEVENT
DTSTART;VALUE=DATE:20250130
DTEND;VALUE=DATE:20250131
DTSTAMP:20260424T054146
CREATED:20241223T232918Z
LAST-MODIFIED:20260105T182122Z
UID:10000675-1738195200-1738281599@ccrealtors.com
SUMMARY:WR Hill Day
DESCRIPTION:
URL:https://ccrealtors.com/event/wr-hill-day/
CATEGORIES:Home Page Events,Washington REALTORS
END:VEVENT
BEGIN:VEVENT
DTSTART;VALUE=DATE:20250129
DTEND;VALUE=DATE:20250131
DTSTAMP:20260424T054146
CREATED:20241223T232918Z
LAST-MODIFIED:20260105T182132Z
UID:10000676-1738108800-1738281599@ccrealtors.com
SUMMARY:WR Legislative Meetings
DESCRIPTION:
URL:https://ccrealtors.com/event/wr-legislative-meetings/
CATEGORIES:Home Page Events,Washington REALTORS
END:VEVENT
BEGIN:VEVENT
DTSTART;TZID=America/Vancouver:20250123T090000
DTEND;TZID=America/Vancouver:20250123T103000
DTSTAMP:20260424T054146
CREATED:20241223T232918Z
LAST-MODIFIED:20250123T173329Z
UID:10000674-1737622800-1737628200@ccrealtors.com
SUMMARY:CANCELLED-Professional Standards Committee
DESCRIPTION:
URL:https://ccrealtors.com/event/professional-standards-committee-9/
CATEGORIES:Committee Meetings
END:VEVENT
BEGIN:VEVENT
DTSTART;VALUE=DATE:20250122
DTEND;VALUE=DATE:20250124
DTSTAMP:20260424T054146
CREATED:20240930T170719Z
LAST-MODIFIED:20260105T182201Z
UID:10000634-1737504000-1737676799@ccrealtors.com
SUMMARY:WR Legislative Days
DESCRIPTION:
URL:https://ccrealtors.com/event/wr-legislative-days/
LOCATION:Olympia WA
CATEGORIES:Home Page Events,Washington REALTORS
END:VEVENT
BEGIN:VEVENT
DTSTART;VALUE=DATE:20250120
DTEND;VALUE=DATE:20250121
DTSTAMP:20260424T054146
CREATED:20241223T232858Z
LAST-MODIFIED:20250120T225112Z
UID:10000672-1737331200-1737417599@ccrealtors.com
SUMMARY:CCAR Office Closed - Martin Luther King Day
DESCRIPTION:
URL:https://ccrealtors.com/event/ccar-office-closed-3/
CATEGORIES:Committee Meetings,Home Page Events,Office Closure
END:VEVENT
BEGIN:VEVENT
DTSTART;VALUE=DATE:20250120
DTEND;VALUE=DATE:20250121
DTSTAMP:20260424T054146
CREATED:20241223T232858Z
LAST-MODIFIED:20250120T225112Z
UID:10000673-1737331200-1737417599@ccrealtors.com
SUMMARY:Martin Luther King Day
DESCRIPTION:
URL:https://ccrealtors.com/event/martin-luther-king-day-2/
LOCATION:United States
CATEGORIES:Committee Meetings
END:VEVENT
BEGIN:VEVENT
DTSTART;TZID=America/Vancouver:20250114T130000
DTEND;TZID=America/Vancouver:20250114T143000
DTSTAMP:20260424T054146
CREATED:20241223T232858Z
LAST-MODIFIED:20250114T213225Z
UID:10000671-1736859600-1736865000@ccrealtors.com
SUMMARY:RPAC Committee
DESCRIPTION:
URL:https://ccrealtors.com/event/rpac-committee-8/
CATEGORIES:Committee Meetings
END:VEVENT
BEGIN:VEVENT
DTSTART;TZID=America/Vancouver:20250107T123000
DTEND;TZID=America/Vancouver:20250107T140000
DTSTAMP:20260424T054146
CREATED:20241223T232858Z
LAST-MODIFIED:20250107T210415Z
UID:10000670-1736253000-1736258400@ccrealtors.com
SUMMARY:Cancelled - Executive Committee
DESCRIPTION:
URL:https://ccrealtors.com/event/executive-committee-12/
CATEGORIES:Committee Meetings
END:VEVENT
BEGIN:VEVENT
DTSTART;VALUE=DATE:20250107
DTEND;VALUE=DATE:20250108
DTSTAMP:20260424T054146
CREATED:20240930T170719Z
LAST-MODIFIED:20240930T170719Z
UID:10000633-1736208000-1736294399@ccrealtors.com
SUMMARY:Appraiser Appreciation Day
DESCRIPTION:
URL:https://ccrealtors.com/event/appraiser-appreciation-day/
END:VEVENT
BEGIN:VEVENT
DTSTART;VALUE=DATE:20250101
DTEND;VALUE=DATE:20250102
DTSTAMP:20260424T054146
CREATED:20240101T081132Z
LAST-MODIFIED:20250101T234849Z
UID:10000478-1735689600-1735775999@ccrealtors.com
SUMMARY:New Year's Day - Office Closed
DESCRIPTION:
URL:https://ccrealtors.com/event/new-years-day-2/
LOCATION:United States
CATEGORIES:Committee Meetings,Home Page Events,Office Closure
END:VEVENT
BEGIN:VEVENT
DTSTART;VALUE=DATE:20241231
DTEND;VALUE=DATE:20250101
DTSTAMP:20260424T054146
CREATED:20231231T091438Z
LAST-MODIFIED:20241231T230343Z
UID:10000477-1735603200-1735689599@ccrealtors.com
SUMMARY:New Year's Eve - Office Closed
DESCRIPTION:
URL:https://ccrealtors.com/event/new-years-eve-2/
LOCATION:United States
CATEGORIES:Committee Meetings,Home Page Events,Office Closure
END:VEVENT
END:VCALENDAR