BEGIN:VCALENDAR
VERSION:2.0
PRODID:-//Clark County Association of Realtors - ECPv6.15.20//NONSGML v1.0//EN
CALSCALE:GREGORIAN
METHOD:PUBLISH
X-WR-CALNAME:Clark County Association of Realtors
X-ORIGINAL-URL:https://ccrealtors.com
X-WR-CALDESC:Events for Clark County Association of Realtors
REFRESH-INTERVAL;VALUE=DURATION:PT1H
X-Robots-Tag:noindex
X-PUBLISHED-TTL:PT1H
BEGIN:VTIMEZONE
TZID:America/Vancouver
BEGIN:DAYLIGHT
TZOFFSETFROM:-0800
TZOFFSETTO:-0700
TZNAME:PDT
DTSTART:20230312T100000
END:DAYLIGHT
BEGIN:STANDARD
TZOFFSETFROM:-0700
TZOFFSETTO:-0800
TZNAME:PST
DTSTART:20231105T090000
END:STANDARD
BEGIN:DAYLIGHT
TZOFFSETFROM:-0800
TZOFFSETTO:-0700
TZNAME:PDT
DTSTART:20240310T100000
END:DAYLIGHT
BEGIN:STANDARD
TZOFFSETFROM:-0700
TZOFFSETTO:-0800
TZNAME:PST
DTSTART:20241103T090000
END:STANDARD
BEGIN:DAYLIGHT
TZOFFSETFROM:-0800
TZOFFSETTO:-0700
TZNAME:PDT
DTSTART:20250309T100000
END:DAYLIGHT
BEGIN:STANDARD
TZOFFSETFROM:-0700
TZOFFSETTO:-0800
TZNAME:PST
DTSTART:20251102T090000
END:STANDARD
END:VTIMEZONE
BEGIN:VEVENT
DTSTART;VALUE=DATE:20240918
DTEND;VALUE=DATE:20240921
DTSTAMP:20260425T032515
CREATED:20231220T010802Z
LAST-MODIFIED:20240920T234500Z
UID:10000442-1726617600-1726876799@ccrealtors.com
SUMMARY:WR Fall Business Meetings
DESCRIPTION:
URL:https://ccrealtors.com/event/wr-fall-business-meetings/
LOCATION:Kennewick\, WA
CATEGORIES:Washington REALTORS
END:VEVENT
BEGIN:VEVENT
DTSTART;TZID=America/Vancouver:20240917T100000
DTEND;TZID=America/Vancouver:20240917T113000
DTSTAMP:20260425T032515
CREATED:20231220T010800Z
LAST-MODIFIED:20240917T175213Z
UID:10000441-1726567200-1726572600@ccrealtors.com
SUMMARY:Government Affairs Committee
DESCRIPTION:
URL:https://ccrealtors.com/event/government-affairs-committee-10/
CATEGORIES:Committee Meetings
END:VEVENT
BEGIN:VEVENT
DTSTART;TZID=America/Vancouver:20240913T090000
DTEND;TZID=America/Vancouver:20240913T100000
DTSTAMP:20260425T032515
CREATED:20231220T010800Z
LAST-MODIFIED:20240913T162228Z
UID:10000440-1726218000-1726221600@ccrealtors.com
SUMMARY:DEI Committee
DESCRIPTION:
URL:https://ccrealtors.com/event/dei-committee-4/
CATEGORIES:Committee Meetings
END:VEVENT
BEGIN:VEVENT
DTSTART;TZID=America/Vancouver:20240912T000000
DTEND;TZID=America/Vancouver:20240912T000100
DTSTAMP:20260425T032515
CREATED:20240802T174543Z
LAST-MODIFIED:20240926T193902Z
UID:10000548-1726099200-1726099260@ccrealtors.com
SUMMARY:September Membership Meeting
DESCRIPTION:September Membership Meeting\nWebinar Virtual Meeting\nSept. 12th\, 10:00am\n \nGuest Speaker: Dennis Giannetti \nSponsored by: Lifetime Green Coatings
URL:https://ccrealtors.com/event/september-membership-meeting/
LOCATION:Virtual
CATEGORIES:CCAR Events,Home Page Events
ORGANIZER;CN="CCAR":MAILTO:ccar@ccrealtors.com
END:VEVENT
BEGIN:VEVENT
DTSTART;TZID=America/Vancouver:20240905T090000
DTEND;TZID=America/Vancouver:20240905T110000
DTSTAMP:20260425T032515
CREATED:20231220T010800Z
LAST-MODIFIED:20240905T175017Z
UID:10000439-1725526800-1725534000@ccrealtors.com
SUMMARY:CANCELLED! Board of Directors
DESCRIPTION:
URL:https://ccrealtors.com/event/board-of-directors-8/
CATEGORIES:Committee Meetings
END:VEVENT
BEGIN:VEVENT
DTSTART;VALUE=DATE:20240902
DTEND;VALUE=DATE:20240903
DTSTAMP:20260425T032515
CREATED:20231220T010759Z
LAST-MODIFIED:20240902T233858Z
UID:10000437-1725235200-1725321599@ccrealtors.com
SUMMARY:Labor Day - Office Closed
DESCRIPTION:
URL:https://ccrealtors.com/event/labor-day/
LOCATION:United States
CATEGORIES:Home Page Events,Office Closure
END:VEVENT
BEGIN:VEVENT
DTSTART;TZID=America/Vancouver:20240829T120000
DTEND;TZID=America/Vancouver:20240829T130000
DTSTAMP:20260425T032515
CREATED:20240802T230427Z
LAST-MODIFIED:20241223T234745Z
UID:10000549-1724932800-1724936400@ccrealtors.com
SUMMARY:FOREWARN Safety Month-Live Webinar Training-No Cost
DESCRIPTION:Live training for the Clark County Association of REALTORS® member benefit\, FOREWARN. FOREWARN was built around agent safety and identity verification. However\, FOREWARN is also a multi-dimensional tool that can be utilized in other areas of your business to help you be the best real estate professional you can be while helping to keep you safe in the process.\nThe purpose of this training is to help real estate professionals gain a much better understanding of the platform along with going over some “Pro-Tips” to help you understand the various ways to leverage FOREWARN in your real estate business.\nWe will also open up the webinar for live Q&A to end the session.\nThank you\, we look forward to getting you up and running with FOREWARN!\n8/29 at 12:00pm PST/3:00pm EST: https://us06web.zoom.us/meeting/register/tZIuf-6gqj4iE9z7YoBWomBr5mzgCRIeTyKt
URL:https://ccrealtors.com/event/forewarn-safety-month-live-webinar-training-no-cost/
LOCATION:LIVE WEBINAR
CATEGORIES:Education
END:VEVENT
BEGIN:VEVENT
DTSTART;VALUE=DATE:20240826
DTEND;VALUE=DATE:20240828
DTSTAMP:20260425T032515
CREATED:20231220T010757Z
LAST-MODIFIED:20240827T234740Z
UID:10000435-1724630400-1724803199@ccrealtors.com
SUMMARY:NAR Leadership Summit
DESCRIPTION:
URL:https://ccrealtors.com/event/nar-leadership-summit/
LOCATION:Chicago\, Illinois\, United States
END:VEVENT
BEGIN:VEVENT
DTSTART;TZID=America/Vancouver:20240823T150000
DTEND;TZID=America/Vancouver:20240823T180000
DTSTAMP:20260425T032515
CREATED:20240819T200226Z
LAST-MODIFIED:20240819T202013Z
UID:10000552-1724425200-1724436000@ccrealtors.com
SUMMARY:Cornerstone Home Lending Master Class - REALTOR Community Crawl
DESCRIPTION:REALTOR Community Crawl with Cornerstone Home Lending in Battle Ground \n\n10 fabulous gift basket giveaways\nDelicious hot dogs\, chips\, and soda\nA chance to find inspiration for gifts for clients\, family\, and friends\n\n🌟 What:                   Social Event hosted by Cornerstone Home Lending \n🌟 When:                  Friday\, August 23\, 2024\, at 3:00-6:00 pm \n🌟 Where:                Starting at Urban Basics\, 209 E Main Street\, Battle Ground \n🌟 Topic:                   Networking and Social – An Opportunity to take in 10 Unique Shops – all within just a few blocks of each other \n🌟 Eats:                     Complimentary Hot Dogs with all the trimmings\, chips\, and soda \n🌟 Cost:                     FREE! \nLimited Space! RSVP Now: https://urlgeni.us/eventbrite/RealCommunityCrawl \n \n 
URL:https://ccrealtors.com/event/cornerstone-home-lending-master-class-realtor-community-crawl/
LOCATION:Urban Basics\, 209 E Main Street\, Battle Ground\, 98604\, United States
CATEGORIES:Education
END:VEVENT
BEGIN:VEVENT
DTSTART;TZID=America/Vancouver:20240822T090000
DTEND;TZID=America/Vancouver:20240822T100000
DTSTAMP:20260425T032515
CREATED:20231220T010756Z
LAST-MODIFIED:20240822T160357Z
UID:10000434-1724317200-1724320800@ccrealtors.com
SUMMARY:Professional Standards Committee
DESCRIPTION:
URL:https://ccrealtors.com/event/professional-standards-committee-7/
CATEGORIES:Committee Meetings
END:VEVENT
BEGIN:VEVENT
DTSTART;TZID=America/Vancouver:20240820T130000
DTEND;TZID=America/Vancouver:20240820T143000
DTSTAMP:20260425T032515
CREATED:20240722T164041Z
LAST-MODIFIED:20240722T164041Z
UID:10000547-1724158800-1724164200@ccrealtors.com
SUMMARY:Foundation Board of Directors
DESCRIPTION:
URL:https://ccrealtors.com/event/foundation-board-of-directors-4/
CATEGORIES:Committee Meetings
END:VEVENT
BEGIN:VEVENT
DTSTART;TZID=America/Vancouver:20240820T100000
DTEND;TZID=America/Vancouver:20240820T113000
DTSTAMP:20260425T032515
CREATED:20231220T010756Z
LAST-MODIFIED:20240820T172021Z
UID:10000433-1724148000-1724153400@ccrealtors.com
SUMMARY:Government Affairs Committee
DESCRIPTION:
URL:https://ccrealtors.com/event/government-affairs-committee-9/
CATEGORIES:Committee Meetings
END:VEVENT
BEGIN:VEVENT
DTSTART;TZID=America/Vancouver:20240815T100000
DTEND;TZID=America/Vancouver:20240815T113000
DTSTAMP:20260425T032515
CREATED:20240717T204804Z
LAST-MODIFIED:20241223T234805Z
UID:10000542-1723716000-1723721400@ccrealtors.com
SUMMARY:CE-1.5 Hours-Explaining Realtor®️ Value & Compensation to Sellers - Adorna Carroll
DESCRIPTION:Explaining Realtor® Value & Compensation to Sellers• 1.5 CE credits\nA seller counseling session is essential in the home selling journey and critical to demonstrate your value. The seller’s Realtor®️ provides market insights\, sets realistic pricing goals\, strategizes effective marketing\, explains compensation and what if anything is offered to cooperating agents. This session is focused on helping the seller understand the process\, make informed decisions\, and maximize their property’s potential for a successful sale.\nTopics Covered:\n• Explain the new compensation options to sellers\n• Highlight your value as a Realtor®️\n• Develop an effective seller counseling session\nJoin us for this webinar on Thursday\, August 15th\, 10-11:30 a.m. and earn 1.5 CE credits. $17 for PMAR members; $27 for non-PMAR members.\nREGISTER: https://pmar.org/event/explaining-realtor-value-to-sellers/
URL:https://ccrealtors.com/event/explaining-realtor%ef%b8%8f-value-compensation-to-sellers-adorna-carroll/
LOCATION:Webinar
CATEGORIES:Education
END:VEVENT
BEGIN:VEVENT
DTSTART;TZID=America/Vancouver:20240815T090000
DTEND;TZID=America/Vancouver:20240815T110000
DTSTAMP:20260425T032515
CREATED:20231220T010756Z
LAST-MODIFIED:20240815T174913Z
UID:10000432-1723712400-1723719600@ccrealtors.com
SUMMARY:Board of Directors
DESCRIPTION:
URL:https://ccrealtors.com/event/board-of-directors-7/
CATEGORIES:Committee Meetings
END:VEVENT
BEGIN:VEVENT
DTSTART;TZID=America/Vancouver:20240814T130000
DTEND;TZID=America/Vancouver:20240814T160000
DTSTAMP:20260425T032515
CREATED:20240718T183320Z
LAST-MODIFIED:20241223T234815Z
UID:10000546-1723640400-1723651200@ccrealtors.com
SUMMARY:CE-3.0 Hours-Change is Hard... Unless You're Prepared! Forms and Practice Changes for Summer 2024 with Annie Fitzsimmons
DESCRIPTION:About the New Course…\nYou have been through a lot of changes lately\, and more change is coming. On August 17\, every REALTOR®-owned MLS will cease publishing offers of compensation in the MLS. Moreover\, the listing agreements used by brokers who list property in a REALTOR®-owned MLS will change substantially. Will the sellers you represent still have the ability to offer compensation to a buyer broker? They will not … unless you learn about the changes to the revised listing agreement in advance and prepare to use it. If your seller offers compensation to a buyer broker\, where will you advertise that offer? If you are a buyer broker\, how will you know if the seller is offering compensation? Washington law requires you to disclose offers of compensation from seller to buyer\, and the revised Form 21 incorporates this disclosure and the buyer’s negotiation for the seller’s payment. The Buyer Brokerage Services Agreement will be simplified\, but the simpler form eliminates choices that you are no longer allowed to extend to buyers.\nSuffice it to say\, forms and practices are changing in dramatic ways. If you are not prepared\, you will have no problem selling real estate. You simply run the risk of working for free.\nAvailable Classes…\n  *   Tuesday August 6\, 2024 | 9:00AM-12:00PM\n  *   Thursday August 8\, 2024 | 1:00PM-4:00PM\n  *   Tuesday August 13\, 2024 | 9:00AM-12:00PM\n  *   Wednesday August 14\, 2024 | 1:00PM-4:00PM\nOther Details…\n  *   Class Cost for Members: $29.00\n  *   Location(s): Virtual\n  *   Instructor: Annie Fitzsimmons\n  *   Clock Hours: 3.0\nThis education is important\, REALTORS®. Reserve your spot at one of our upcoming classes here: https://www.warealtor.org/about-us/contact-us/news-media/blogdetails/news/2024/07/16/new-class-change-is-hardunless-you%27re-prepared-forms-and-practice-changes-for-summer-2024?_cldee=_fKy-JUQlowhy0NrxXMPPCjt2eRe4kecEdGCx_pt26AtrSF_O14ZFyUj4ynZ_Mzk&recipientid=contact-785f2cc6d06e48fa9499bb197eedcaf0-8b5bdc99abe74c32919740ec8db77dc5&utm_source=ClickDimensions&utm_medium=email&utm_campaign=Education%20Emails&esid=5ea04964-ca42-ef11-9ea8-00155d23443c.
URL:https://ccrealtors.com/event/ce-3-0-hours-change-is-hard-unless-youre-prepared-forms-and-practice-changes-for-summer-2024-with-annie-fitzsimmons-4/
LOCATION:Webinar
CATEGORIES:Education
END:VEVENT
BEGIN:VEVENT
DTSTART;TZID=America/Vancouver:20240813T090000
DTEND;TZID=America/Vancouver:20240813T120000
DTSTAMP:20260425T032515
CREATED:20240718T183319Z
LAST-MODIFIED:20241223T234824Z
UID:10000545-1723539600-1723550400@ccrealtors.com
SUMMARY:CE-3.0 Hours-Change is Hard... Unless You're Prepared! Forms and Practice Changes for Summer 2024 with Annie Fitzsimmons
DESCRIPTION:About the New Course…\nYou have been through a lot of changes lately\, and more change is coming. On August 17\, every REALTOR®-owned MLS will cease publishing offers of compensation in the MLS. Moreover\, the listing agreements used by brokers who list property in a REALTOR®-owned MLS will change substantially. Will the sellers you represent still have the ability to offer compensation to a buyer broker? They will not … unless you learn about the changes to the revised listing agreement in advance and prepare to use it. If your seller offers compensation to a buyer broker\, where will you advertise that offer? If you are a buyer broker\, how will you know if the seller is offering compensation? Washington law requires you to disclose offers of compensation from seller to buyer\, and the revised Form 21 incorporates this disclosure and the buyer’s negotiation for the seller’s payment. The Buyer Brokerage Services Agreement will be simplified\, but the simpler form eliminates choices that you are no longer allowed to extend to buyers.\nSuffice it to say\, forms and practices are changing in dramatic ways. If you are not prepared\, you will have no problem selling real estate. You simply run the risk of working for free.\nAvailable Classes…\n  *   Tuesday August 6\, 2024 | 9:00AM-12:00PM\n  *   Thursday August 8\, 2024 | 1:00PM-4:00PM\n  *   Tuesday August 13\, 2024 | 9:00AM-12:00PM\n  *   Wednesday August 14\, 2024 | 1:00PM-4:00PM\nOther Details…\n  *   Class Cost for Members: $29.00\n  *   Location(s): Virtual\n  *   Instructor: Annie Fitzsimmons\n  *   Clock Hours: 3.0\nThis education is important\, REALTORS®. Reserve your spot at one of our upcoming classes here: https://www.warealtor.org/about-us/contact-us/news-media/blogdetails/news/2024/07/16/new-class-change-is-hardunless-you%27re-prepared-forms-and-practice-changes-for-summer-2024?_cldee=_fKy-JUQlowhy0NrxXMPPCjt2eRe4kecEdGCx_pt26AtrSF_O14ZFyUj4ynZ_Mzk&recipientid=contact-785f2cc6d06e48fa9499bb197eedcaf0-8b5bdc99abe74c32919740ec8db77dc5&utm_source=ClickDimensions&utm_medium=email&utm_campaign=Education%20Emails&esid=5ea04964-ca42-ef11-9ea8-00155d23443c.
URL:https://ccrealtors.com/event/ce-3-0-hours-change-is-hard-unless-youre-prepared-forms-and-practice-changes-for-summer-2024-with-annie-fitzsimmons-3/
LOCATION:Webinar
CATEGORIES:Education
END:VEVENT
BEGIN:VEVENT
DTSTART;TZID=America/Vancouver:20240808T130000
DTEND;TZID=America/Vancouver:20240808T160000
DTSTAMP:20260425T032515
CREATED:20240718T183319Z
LAST-MODIFIED:20241223T234830Z
UID:10000544-1723122000-1723132800@ccrealtors.com
SUMMARY:CE-3.0 Hours-Change is Hard... Unless You're Prepared! Forms and Practice Changes for Summer 2024 with Annie Fitzsimmons
DESCRIPTION:About the New Course…\nYou have been through a lot of changes lately\, and more change is coming. On August 17\, every REALTOR®-owned MLS will cease publishing offers of compensation in the MLS. Moreover\, the listing agreements used by brokers who list property in a REALTOR®-owned MLS will change substantially. Will the sellers you represent still have the ability to offer compensation to a buyer broker? They will not … unless you learn about the changes to the revised listing agreement in advance and prepare to use it. If your seller offers compensation to a buyer broker\, where will you advertise that offer? If you are a buyer broker\, how will you know if the seller is offering compensation? Washington law requires you to disclose offers of compensation from seller to buyer\, and the revised Form 21 incorporates this disclosure and the buyer’s negotiation for the seller’s payment. The Buyer Brokerage Services Agreement will be simplified\, but the simpler form eliminates choices that you are no longer allowed to extend to buyers.\nSuffice it to say\, forms and practices are changing in dramatic ways. If you are not prepared\, you will have no problem selling real estate. You simply run the risk of working for free.\nAvailable Classes…\n  *   Tuesday August 6\, 2024 | 9:00AM-12:00PM\n  *   Thursday August 8\, 2024 | 1:00PM-4:00PM\n  *   Tuesday August 13\, 2024 | 9:00AM-12:00PM\n  *   Wednesday August 14\, 2024 | 1:00PM-4:00PM\nOther Details…\n  *   Class Cost for Members: $29.00\n  *   Location(s): Virtual\n  *   Instructor: Annie Fitzsimmons\n  *   Clock Hours: 3.0\nThis education is important\, REALTORS®. Reserve your spot at one of our upcoming classes here: https://www.warealtor.org/about-us/contact-us/news-media/blogdetails/news/2024/07/16/new-class-change-is-hardunless-you%27re-prepared-forms-and-practice-changes-for-summer-2024?_cldee=_fKy-JUQlowhy0NrxXMPPCjt2eRe4kecEdGCx_pt26AtrSF_O14ZFyUj4ynZ_Mzk&recipientid=contact-785f2cc6d06e48fa9499bb197eedcaf0-8b5bdc99abe74c32919740ec8db77dc5&utm_source=ClickDimensions&utm_medium=email&utm_campaign=Education%20Emails&esid=5ea04964-ca42-ef11-9ea8-00155d23443c.
URL:https://ccrealtors.com/event/ce-3-0-hours-change-is-hard-unless-youre-prepared-forms-and-practice-changes-for-summer-2024-with-annie-fitzsimmons-2/
LOCATION:Webinar
CATEGORIES:Education
END:VEVENT
BEGIN:VEVENT
DTSTART;TZID=America/Vancouver:20240806T090000
DTEND;TZID=America/Vancouver:20240806T120000
DTSTAMP:20260425T032515
CREATED:20240718T173521Z
LAST-MODIFIED:20241223T234838Z
UID:10000543-1722934800-1722945600@ccrealtors.com
SUMMARY:CE-3.0 Hours-Change is Hard... Unless You're Prepared! Forms and Practice Changes for Summer 2024 with Annie Fitzsimmons
DESCRIPTION:About the New Course…\nYou have been through a lot of changes lately\, and more change is coming. On August 17\, every REALTOR®-owned MLS will cease publishing offers of compensation in the MLS. Moreover\, the listing agreements used by brokers who list property in a REALTOR®-owned MLS will change substantially. Will the sellers you represent still have the ability to offer compensation to a buyer broker? They will not … unless you learn about the changes to the revised listing agreement in advance and prepare to use it. If your seller offers compensation to a buyer broker\, where will you advertise that offer? If you are a buyer broker\, how will you know if the seller is offering compensation? Washington law requires you to disclose offers of compensation from seller to buyer\, and the revised Form 21 incorporates this disclosure and the buyer’s negotiation for the seller’s payment. The Buyer Brokerage Services Agreement will be simplified\, but the simpler form eliminates choices that you are no longer allowed to extend to buyers.\nSuffice it to say\, forms and practices are changing in dramatic ways. If you are not prepared\, you will have no problem selling real estate. You simply run the risk of working for free.\nAvailable Classes…\n  *   Tuesday August 6\, 2024 | 9:00AM-12:00PM\n  *   Thursday August 8\, 2024 | 1:00PM-4:00PM\n  *   Tuesday August 13\, 2024 | 9:00AM-12:00PM\n  *   Wednesday August 14\, 2024 | 1:00PM-4:00PM\nOther Details…\n  *   Class Cost for Members: $29.00\n  *   Location(s): Virtual\n  *   Instructor: Annie Fitzsimmons\n  *   Clock Hours: 3.0\nThis education is important\, REALTORS®. Reserve your spot at one of our upcoming classes here: https://www.warealtor.org/about-us/contact-us/news-media/blogdetails/news/2024/07/16/new-class-change-is-hardunless-you%27re-prepared-forms-and-practice-changes-for-summer-2024?_cldee=_fKy-JUQlowhy0NrxXMPPCjt2eRe4kecEdGCx_pt26AtrSF_O14ZFyUj4ynZ_Mzk&recipientid=contact-785f2cc6d06e48fa9499bb197eedcaf0-8b5bdc99abe74c32919740ec8db77dc5&utm_source=ClickDimensions&utm_medium=email&utm_campaign=Education%20Emails&esid=5ea04964-ca42-ef11-9ea8-00155d23443c.
URL:https://ccrealtors.com/event/ce-3-0-hours-change-is-hard-unless-youre-prepared-forms-and-practice-changes-for-summer-2024-with-annie-fitzsimmons/
LOCATION:Webinar
CATEGORIES:Education
END:VEVENT
BEGIN:VEVENT
DTSTART;TZID=America/Vancouver:20240801T123000
DTEND;TZID=America/Vancouver:20240801T140000
DTSTAMP:20260425T032515
CREATED:20231220T010748Z
LAST-MODIFIED:20240801T200421Z
UID:10000431-1722515400-1722520800@ccrealtors.com
SUMMARY:Executive Committee
DESCRIPTION:
URL:https://ccrealtors.com/event/executive-committee-6/
CATEGORIES:Committee Meetings
END:VEVENT
BEGIN:VEVENT
DTSTART;TZID=America/Vancouver:20240801T090000
DTEND;TZID=America/Vancouver:20240801T103000
DTSTAMP:20260425T032515
CREATED:20231220T010748Z
LAST-MODIFIED:20240801T164912Z
UID:10000430-1722502800-1722508200@ccrealtors.com
SUMMARY:Ombudsman Committee
DESCRIPTION:Meeting in person at CCAR office
URL:https://ccrealtors.com/event/ombudsman-committee-3/
LOCATION:Meeting in person at CCAR office
CATEGORIES:Committee Meetings
END:VEVENT
BEGIN:VEVENT
DTSTART;TZID=America/Vancouver:20240730T130000
DTEND;TZID=America/Vancouver:20240730T143000
DTSTAMP:20260425T032515
CREATED:20231220T010748Z
LAST-MODIFIED:20240802T175528Z
UID:10000429-1722344400-1722349800@ccrealtors.com
SUMMARY:Cancelled - Foundation Board of Directors
DESCRIPTION:Cancelled – Foundation Board of Directors
URL:https://ccrealtors.com/event/foundation-4/
CATEGORIES:Committee Meetings
END:VEVENT
BEGIN:VEVENT
DTSTART;TZID=America/Vancouver:20240730T100000
DTEND;TZID=America/Vancouver:20240730T113000
DTSTAMP:20260425T032515
CREATED:20231220T010747Z
LAST-MODIFIED:20240730T174813Z
UID:10000427-1722333600-1722339000@ccrealtors.com
SUMMARY:Government Affairs Committee
DESCRIPTION:
URL:https://ccrealtors.com/event/government-affairs-committee-8/
CATEGORIES:Committee Meetings
END:VEVENT
BEGIN:VEVENT
DTSTART;TZID=America/Vancouver:20240726T100000
DTEND;TZID=America/Vancouver:20240726T113000
DTSTAMP:20260425T032515
CREATED:20240717T204800Z
LAST-MODIFIED:20241223T234857Z
UID:10000541-1721988000-1721993400@ccrealtors.com
SUMMARY:CE-1.5 Hours-Explaining Realtor®️ Value & Compensation to Buyers - Lynn Madsion
DESCRIPTION:Explaining Realtor® Value & Compensation to Buyers • 1.5 CE credits\nDon’t miss this unique chance to learn from an exceptional instructor and stay ahead of crucial industry changes! Adapt confidently\, prove your value\, and secure buyer-broker agreements and compensation.\nTopics Covered:\n  *   Explain buyer agency agreements and compensation options clearly.\n  *   Demonstrate the value of working with a Realtor® and securing buyer loyalty.\nJoin us for this webinar on Friday\, July 26th\, 10-11:30 a.m. and earn 1.5 CE credits. $17 for PMAR members; $27 for non-PMAR members.\nREGISTER: https://pmar.org/event/explaining-realtor-value-to-buyers/
URL:https://ccrealtors.com/event/ce-1-5-hours-explaining-realtor%ef%b8%8f-value-compensation-to-buyers-lynn-madsion/
LOCATION:Webinar
CATEGORIES:Education
END:VEVENT
BEGIN:VEVENT
DTSTART;TZID=America/Vancouver:20240725T090000
DTEND;TZID=America/Vancouver:20240725T100000
DTSTAMP:20260425T032515
CREATED:20231220T010748Z
LAST-MODIFIED:20240725T160321Z
UID:10000428-1721898000-1721901600@ccrealtors.com
SUMMARY:Professional Standards Committee
DESCRIPTION:
URL:https://ccrealtors.com/event/professional-standards-committee-6/
CATEGORIES:Committee Meetings
END:VEVENT
BEGIN:VEVENT
DTSTART;TZID=America/Vancouver:20240717T100000
DTEND;TZID=America/Vancouver:20240717T113000
DTSTAMP:20260425T032515
CREATED:20240702T221548Z
LAST-MODIFIED:20240717T174753Z
UID:10000539-1721210400-1721215800@ccrealtors.com
SUMMARY:Designated Broker Forum
DESCRIPTION:Contact CCAR if you are a designated broker and would like to attend this event. 360-695-5980.\nCCAR is hosting an exclusive Designated (Managing) Broker-only forum covering form and practice changes stemming from the NAR settlement with Washington REALTORS® attorney Annie Fitzsimmons and RMLS Attorney Janet Grayson on Wednesday\, July 17th via Zoom. This forum will familiarize you with the forthcoming changes to RMLS\, Washington REALTORS® forms and more. Attendees of this forum will have the opportunity to ask questions of one of Washington’s premier real estate legal minds\, and will walk away with important information to bring back to your agents. The forum will cover Washington-specific information in addition to overall NAR settlement topics. Please note that this forum is EXCLUSIVE to CCAR Designated Brokers. It is not intended for agents or office staff to attend. Please do not share this link.
URL:https://ccrealtors.com/event/designated-broker-forum/
LOCATION:Virtual
CATEGORIES:CCAR Events,Home Page Events
END:VEVENT
BEGIN:VEVENT
DTSTART;TZID=America/Vancouver:20240712T090000
DTEND;TZID=America/Vancouver:20240712T100000
DTSTAMP:20260425T032515
CREATED:20231220T010741Z
LAST-MODIFIED:20240712T164907Z
UID:10000426-1720774800-1720778400@ccrealtors.com
SUMMARY:DEI Committee
DESCRIPTION:
URL:https://ccrealtors.com/event/dei-committee-3/
CATEGORIES:Committee Meetings
END:VEVENT
BEGIN:VEVENT
DTSTART;TZID=America/Vancouver:20240711T090000
DTEND;TZID=America/Vancouver:20240711T110000
DTSTAMP:20260425T032515
CREATED:20231220T010741Z
LAST-MODIFIED:20240711T174823Z
UID:10000425-1720688400-1720695600@ccrealtors.com
SUMMARY:Board of Directors
DESCRIPTION:
URL:https://ccrealtors.com/event/board-of-directors-6/
CATEGORIES:Committee Meetings
END:VEVENT
BEGIN:VEVENT
DTSTART;TZID=America/Vancouver:20240709T123000
DTEND;TZID=America/Vancouver:20240709T140000
DTSTAMP:20260425T032515
CREATED:20231220T010740Z
LAST-MODIFIED:20240709T200303Z
UID:10000422-1720528200-1720533600@ccrealtors.com
SUMMARY:Executive Committee
DESCRIPTION:Jo Ann Johnston – Board of Directors | Executive | Nominations | Awards | Elections\nhttps://us02web.zoom.us/j/3706818001  | Meeting ID: 370 681 8001 | Call in: +1 253 215 8782 US (Tacoma)
URL:https://ccrealtors.com/event/executive-committee-5/
CATEGORIES:Committee Meetings
END:VEVENT
BEGIN:VEVENT
DTSTART;VALUE=DATE:20240704
DTEND;VALUE=DATE:20240705
DTSTAMP:20260425T032515
CREATED:20231220T010740Z
LAST-MODIFIED:20240704T233319Z
UID:10000423-1720051200-1720137599@ccrealtors.com
SUMMARY:Independence Day - Office Closed
DESCRIPTION:
URL:https://ccrealtors.com/event/independence-day/
LOCATION:United States
CATEGORIES:Home Page Events,Office Closure
END:VEVENT
BEGIN:VEVENT
DTSTART;TZID=America/Vancouver:20240628T100000
DTEND;TZID=America/Vancouver:20240628T123000
DTSTAMP:20260425T032515
CREATED:20240520T210623Z
LAST-MODIFIED:20240626T225020Z
UID:10000533-1719568800-1719577800@ccrealtors.com
SUMMARY:Tax Reduction Strategies for the Real Estate Professional
DESCRIPTION:Tax Reduction Strategies for the\nReal Estate Professional\n(Zoom Seminar)\nEvent Details:\nFriday\, 6/28/2024\,\n10:00 AM-12:30 PM\, PDT\n(Please log in 10 minutes early. Seminar begins promptly.)\nFREE Zoom Seminar\nYou must pre-register for this class\nSpaces are limited\nClass will not be recorded\nRSVP TODAY!\nhttps://us02web.zoom.us/meeting/register/tZMsf-mgpzstHNwXkq18FqyBjNL7-33Y6y6w#/registration\n  ________________________________________________________________________\nHere’s some of what you’ll learn:\n  *   How to Power Boost your NEW deductions – Best business practices to optimize tax benefits and understand your elite status as a taxpayer.\n  *   Understand your tax professional’s role and how to partner with them effectively to reduce your tax liability.\n  *   Changes to your vehicle deductions – the biggest improvement in 60 years! Choosing the right method! Simplified record keeping… PLUS\, adding vehicles!\n  *   How to deduct all of your Family’s Medical costs -even dental-as a real estate BUSINESS expense!\n  *   How to deduct your Home Office -simplified\, made safe\, and expanded to multiple deductions! Learn the rules to increase this deduction!\n  *   How to optimize the New…and Improved…food and beverage deductions for real estate professionals you probably don’t know about.\nAfter this seminar\, you’ll have what you need to bring to\nyour tax accountant\, so you can keep more of your\nincome this year and beyond!
URL:https://ccrealtors.com/event/tax-reduction-strategies-for-the-real-estate-professional/
LOCATION:Zoom Seminar
END:VEVENT
END:VCALENDAR