BEGIN:VCALENDAR
VERSION:2.0
PRODID:-//Clark County Association of Realtors - ECPv6.15.20//NONSGML v1.0//EN
CALSCALE:GREGORIAN
METHOD:PUBLISH
X-WR-CALNAME:Clark County Association of Realtors
X-ORIGINAL-URL:https://ccrealtors.com
X-WR-CALDESC:Events for Clark County Association of Realtors
REFRESH-INTERVAL;VALUE=DURATION:PT1H
X-Robots-Tag:noindex
X-PUBLISHED-TTL:PT1H
BEGIN:VTIMEZONE
TZID:America/Vancouver
BEGIN:DAYLIGHT
TZOFFSETFROM:-0800
TZOFFSETTO:-0700
TZNAME:PDT
DTSTART:20230312T100000
END:DAYLIGHT
BEGIN:STANDARD
TZOFFSETFROM:-0700
TZOFFSETTO:-0800
TZNAME:PST
DTSTART:20231105T090000
END:STANDARD
BEGIN:DAYLIGHT
TZOFFSETFROM:-0800
TZOFFSETTO:-0700
TZNAME:PDT
DTSTART:20240310T100000
END:DAYLIGHT
BEGIN:STANDARD
TZOFFSETFROM:-0700
TZOFFSETTO:-0800
TZNAME:PST
DTSTART:20241103T090000
END:STANDARD
BEGIN:DAYLIGHT
TZOFFSETFROM:-0800
TZOFFSETTO:-0700
TZNAME:PDT
DTSTART:20250309T100000
END:DAYLIGHT
BEGIN:STANDARD
TZOFFSETFROM:-0700
TZOFFSETTO:-0800
TZNAME:PST
DTSTART:20251102T090000
END:STANDARD
END:VTIMEZONE
BEGIN:VEVENT
DTSTART;TZID=America/Vancouver:20240806T090000
DTEND;TZID=America/Vancouver:20240806T120000
DTSTAMP:20260425T031752
CREATED:20240718T173521Z
LAST-MODIFIED:20241223T234838Z
UID:10000543-1722934800-1722945600@ccrealtors.com
SUMMARY:CE-3.0 Hours-Change is Hard... Unless You're Prepared! Forms and Practice Changes for Summer 2024 with Annie Fitzsimmons
DESCRIPTION:About the New Course…\nYou have been through a lot of changes lately\, and more change is coming. On August 17\, every REALTOR®-owned MLS will cease publishing offers of compensation in the MLS. Moreover\, the listing agreements used by brokers who list property in a REALTOR®-owned MLS will change substantially. Will the sellers you represent still have the ability to offer compensation to a buyer broker? They will not … unless you learn about the changes to the revised listing agreement in advance and prepare to use it. If your seller offers compensation to a buyer broker\, where will you advertise that offer? If you are a buyer broker\, how will you know if the seller is offering compensation? Washington law requires you to disclose offers of compensation from seller to buyer\, and the revised Form 21 incorporates this disclosure and the buyer’s negotiation for the seller’s payment. The Buyer Brokerage Services Agreement will be simplified\, but the simpler form eliminates choices that you are no longer allowed to extend to buyers.\nSuffice it to say\, forms and practices are changing in dramatic ways. If you are not prepared\, you will have no problem selling real estate. You simply run the risk of working for free.\nAvailable Classes…\n  *   Tuesday August 6\, 2024 | 9:00AM-12:00PM\n  *   Thursday August 8\, 2024 | 1:00PM-4:00PM\n  *   Tuesday August 13\, 2024 | 9:00AM-12:00PM\n  *   Wednesday August 14\, 2024 | 1:00PM-4:00PM\nOther Details…\n  *   Class Cost for Members: $29.00\n  *   Location(s): Virtual\n  *   Instructor: Annie Fitzsimmons\n  *   Clock Hours: 3.0\nThis education is important\, REALTORS®. Reserve your spot at one of our upcoming classes here: https://www.warealtor.org/about-us/contact-us/news-media/blogdetails/news/2024/07/16/new-class-change-is-hardunless-you%27re-prepared-forms-and-practice-changes-for-summer-2024?_cldee=_fKy-JUQlowhy0NrxXMPPCjt2eRe4kecEdGCx_pt26AtrSF_O14ZFyUj4ynZ_Mzk&recipientid=contact-785f2cc6d06e48fa9499bb197eedcaf0-8b5bdc99abe74c32919740ec8db77dc5&utm_source=ClickDimensions&utm_medium=email&utm_campaign=Education%20Emails&esid=5ea04964-ca42-ef11-9ea8-00155d23443c.
URL:https://ccrealtors.com/event/ce-3-0-hours-change-is-hard-unless-youre-prepared-forms-and-practice-changes-for-summer-2024-with-annie-fitzsimmons/
LOCATION:Webinar
CATEGORIES:Education
END:VEVENT
BEGIN:VEVENT
DTSTART;TZID=America/Vancouver:20240801T123000
DTEND;TZID=America/Vancouver:20240801T140000
DTSTAMP:20260425T031752
CREATED:20231220T010748Z
LAST-MODIFIED:20240801T200421Z
UID:10000431-1722515400-1722520800@ccrealtors.com
SUMMARY:Executive Committee
DESCRIPTION:
URL:https://ccrealtors.com/event/executive-committee-6/
CATEGORIES:Committee Meetings
END:VEVENT
BEGIN:VEVENT
DTSTART;TZID=America/Vancouver:20240801T090000
DTEND;TZID=America/Vancouver:20240801T103000
DTSTAMP:20260425T031752
CREATED:20231220T010748Z
LAST-MODIFIED:20240801T164912Z
UID:10000430-1722502800-1722508200@ccrealtors.com
SUMMARY:Ombudsman Committee
DESCRIPTION:Meeting in person at CCAR office
URL:https://ccrealtors.com/event/ombudsman-committee-3/
LOCATION:Meeting in person at CCAR office
CATEGORIES:Committee Meetings
END:VEVENT
BEGIN:VEVENT
DTSTART;TZID=America/Vancouver:20240730T130000
DTEND;TZID=America/Vancouver:20240730T143000
DTSTAMP:20260425T031752
CREATED:20231220T010748Z
LAST-MODIFIED:20240802T175528Z
UID:10000429-1722344400-1722349800@ccrealtors.com
SUMMARY:Cancelled - Foundation Board of Directors
DESCRIPTION:Cancelled – Foundation Board of Directors
URL:https://ccrealtors.com/event/foundation-4/
CATEGORIES:Committee Meetings
END:VEVENT
BEGIN:VEVENT
DTSTART;TZID=America/Vancouver:20240730T100000
DTEND;TZID=America/Vancouver:20240730T113000
DTSTAMP:20260425T031753
CREATED:20231220T010747Z
LAST-MODIFIED:20240730T174813Z
UID:10000427-1722333600-1722339000@ccrealtors.com
SUMMARY:Government Affairs Committee
DESCRIPTION:
URL:https://ccrealtors.com/event/government-affairs-committee-8/
CATEGORIES:Committee Meetings
END:VEVENT
BEGIN:VEVENT
DTSTART;TZID=America/Vancouver:20240726T100000
DTEND;TZID=America/Vancouver:20240726T113000
DTSTAMP:20260425T031753
CREATED:20240717T204800Z
LAST-MODIFIED:20241223T234857Z
UID:10000541-1721988000-1721993400@ccrealtors.com
SUMMARY:CE-1.5 Hours-Explaining Realtor®️ Value & Compensation to Buyers - Lynn Madsion
DESCRIPTION:Explaining Realtor® Value & Compensation to Buyers • 1.5 CE credits\nDon’t miss this unique chance to learn from an exceptional instructor and stay ahead of crucial industry changes! Adapt confidently\, prove your value\, and secure buyer-broker agreements and compensation.\nTopics Covered:\n  *   Explain buyer agency agreements and compensation options clearly.\n  *   Demonstrate the value of working with a Realtor® and securing buyer loyalty.\nJoin us for this webinar on Friday\, July 26th\, 10-11:30 a.m. and earn 1.5 CE credits. $17 for PMAR members; $27 for non-PMAR members.\nREGISTER: https://pmar.org/event/explaining-realtor-value-to-buyers/
URL:https://ccrealtors.com/event/ce-1-5-hours-explaining-realtor%ef%b8%8f-value-compensation-to-buyers-lynn-madsion/
LOCATION:Webinar
CATEGORIES:Education
END:VEVENT
BEGIN:VEVENT
DTSTART;TZID=America/Vancouver:20240725T090000
DTEND;TZID=America/Vancouver:20240725T100000
DTSTAMP:20260425T031753
CREATED:20231220T010748Z
LAST-MODIFIED:20240725T160321Z
UID:10000428-1721898000-1721901600@ccrealtors.com
SUMMARY:Professional Standards Committee
DESCRIPTION:
URL:https://ccrealtors.com/event/professional-standards-committee-6/
CATEGORIES:Committee Meetings
END:VEVENT
BEGIN:VEVENT
DTSTART;TZID=America/Vancouver:20240717T100000
DTEND;TZID=America/Vancouver:20240717T113000
DTSTAMP:20260425T031753
CREATED:20240702T221548Z
LAST-MODIFIED:20240717T174753Z
UID:10000539-1721210400-1721215800@ccrealtors.com
SUMMARY:Designated Broker Forum
DESCRIPTION:Contact CCAR if you are a designated broker and would like to attend this event. 360-695-5980.\nCCAR is hosting an exclusive Designated (Managing) Broker-only forum covering form and practice changes stemming from the NAR settlement with Washington REALTORS® attorney Annie Fitzsimmons and RMLS Attorney Janet Grayson on Wednesday\, July 17th via Zoom. This forum will familiarize you with the forthcoming changes to RMLS\, Washington REALTORS® forms and more. Attendees of this forum will have the opportunity to ask questions of one of Washington’s premier real estate legal minds\, and will walk away with important information to bring back to your agents. The forum will cover Washington-specific information in addition to overall NAR settlement topics. Please note that this forum is EXCLUSIVE to CCAR Designated Brokers. It is not intended for agents or office staff to attend. Please do not share this link.
URL:https://ccrealtors.com/event/designated-broker-forum/
LOCATION:Virtual
CATEGORIES:CCAR Events,Home Page Events
END:VEVENT
BEGIN:VEVENT
DTSTART;TZID=America/Vancouver:20240712T090000
DTEND;TZID=America/Vancouver:20240712T100000
DTSTAMP:20260425T031753
CREATED:20231220T010741Z
LAST-MODIFIED:20240712T164907Z
UID:10000426-1720774800-1720778400@ccrealtors.com
SUMMARY:DEI Committee
DESCRIPTION:
URL:https://ccrealtors.com/event/dei-committee-3/
CATEGORIES:Committee Meetings
END:VEVENT
BEGIN:VEVENT
DTSTART;TZID=America/Vancouver:20240711T090000
DTEND;TZID=America/Vancouver:20240711T110000
DTSTAMP:20260425T031753
CREATED:20231220T010741Z
LAST-MODIFIED:20240711T174823Z
UID:10000425-1720688400-1720695600@ccrealtors.com
SUMMARY:Board of Directors
DESCRIPTION:
URL:https://ccrealtors.com/event/board-of-directors-6/
CATEGORIES:Committee Meetings
END:VEVENT
BEGIN:VEVENT
DTSTART;TZID=America/Vancouver:20240709T123000
DTEND;TZID=America/Vancouver:20240709T140000
DTSTAMP:20260425T031753
CREATED:20231220T010740Z
LAST-MODIFIED:20240709T200303Z
UID:10000422-1720528200-1720533600@ccrealtors.com
SUMMARY:Executive Committee
DESCRIPTION:Jo Ann Johnston – Board of Directors | Executive | Nominations | Awards | Elections\nhttps://us02web.zoom.us/j/3706818001  | Meeting ID: 370 681 8001 | Call in: +1 253 215 8782 US (Tacoma)
URL:https://ccrealtors.com/event/executive-committee-5/
CATEGORIES:Committee Meetings
END:VEVENT
BEGIN:VEVENT
DTSTART;VALUE=DATE:20240704
DTEND;VALUE=DATE:20240705
DTSTAMP:20260425T031753
CREATED:20231220T010740Z
LAST-MODIFIED:20240704T233319Z
UID:10000423-1720051200-1720137599@ccrealtors.com
SUMMARY:Independence Day - Office Closed
DESCRIPTION:
URL:https://ccrealtors.com/event/independence-day/
LOCATION:United States
CATEGORIES:Home Page Events,Office Closure
END:VEVENT
BEGIN:VEVENT
DTSTART;TZID=America/Vancouver:20240628T100000
DTEND;TZID=America/Vancouver:20240628T123000
DTSTAMP:20260425T031753
CREATED:20240520T210623Z
LAST-MODIFIED:20240626T225020Z
UID:10000533-1719568800-1719577800@ccrealtors.com
SUMMARY:Tax Reduction Strategies for the Real Estate Professional
DESCRIPTION:Tax Reduction Strategies for the\nReal Estate Professional\n(Zoom Seminar)\nEvent Details:\nFriday\, 6/28/2024\,\n10:00 AM-12:30 PM\, PDT\n(Please log in 10 minutes early. Seminar begins promptly.)\nFREE Zoom Seminar\nYou must pre-register for this class\nSpaces are limited\nClass will not be recorded\nRSVP TODAY!\nhttps://us02web.zoom.us/meeting/register/tZMsf-mgpzstHNwXkq18FqyBjNL7-33Y6y6w#/registration\n  ________________________________________________________________________\nHere’s some of what you’ll learn:\n  *   How to Power Boost your NEW deductions – Best business practices to optimize tax benefits and understand your elite status as a taxpayer.\n  *   Understand your tax professional’s role and how to partner with them effectively to reduce your tax liability.\n  *   Changes to your vehicle deductions – the biggest improvement in 60 years! Choosing the right method! Simplified record keeping… PLUS\, adding vehicles!\n  *   How to deduct all of your Family’s Medical costs -even dental-as a real estate BUSINESS expense!\n  *   How to deduct your Home Office -simplified\, made safe\, and expanded to multiple deductions! Learn the rules to increase this deduction!\n  *   How to optimize the New…and Improved…food and beverage deductions for real estate professionals you probably don’t know about.\nAfter this seminar\, you’ll have what you need to bring to\nyour tax accountant\, so you can keep more of your\nincome this year and beyond!
URL:https://ccrealtors.com/event/tax-reduction-strategies-for-the-real-estate-professional/
LOCATION:Zoom Seminar
END:VEVENT
BEGIN:VEVENT
DTSTART;TZID=America/Vancouver:20240627T090000
DTEND;TZID=America/Vancouver:20240627T100000
DTSTAMP:20260425T031753
CREATED:20231220T010720Z
LAST-MODIFIED:20240626T225020Z
UID:10000421-1719478800-1719482400@ccrealtors.com
SUMMARY:Professional Standards Committee
DESCRIPTION:
URL:https://ccrealtors.com/event/professional-standards-committee-5/
CATEGORIES:Committee Meetings
END:VEVENT
BEGIN:VEVENT
DTSTART;TZID=America/Vancouver:20240626T160000
DTEND;TZID=America/Vancouver:20240626T173000
DTSTAMP:20260425T031753
CREATED:20240611T202959Z
LAST-MODIFIED:20240611T202959Z
UID:10000537-1719417600-1719423000@ccrealtors.com
SUMMARY:Cornerstone Home Lending Master Class - Reverse Mortgage
DESCRIPTION:SUPERCHARGE PURCHASING POWER\nWITH A REVERSE MORTGAGE\nLooking for a new niche market? Learn how clients aged 62+ can buy more home with\nless cash out of pocket by combining their down payment with funds from a Home Equity\nConversion Mortgage (HECM). \nLimited Space! RSVP Now: https://urlgeni.us/eventbrite/PudHy 
URL:https://ccrealtors.com/event/cornerstone-home-lending-master-class-reverse-mortgage/
LOCATION:Total Wine & More\, 4816 NE Thurston Way\, Vancouver\, WA\, 98662\, United States
CATEGORIES:Education
END:VEVENT
BEGIN:VEVENT
DTSTART;TZID=America/Vancouver:20240625T130000
DTEND;TZID=America/Vancouver:20240625T143000
DTSTAMP:20260425T031753
CREATED:20231220T010720Z
LAST-MODIFIED:20240625T212056Z
UID:10000420-1719320400-1719325800@ccrealtors.com
SUMMARY:Cancelled - Foundation Board of Directors
DESCRIPTION:
URL:https://ccrealtors.com/event/foundation-3/
CATEGORIES:Committee Meetings
END:VEVENT
BEGIN:VEVENT
DTSTART;TZID=America/Vancouver:20240618T140000
DTEND;TZID=America/Vancouver:20240618T160000
DTSTAMP:20260425T031753
CREATED:20240305T205109Z
LAST-MODIFIED:20240305T205109Z
UID:10000513-1718719200-1718726400@ccrealtors.com
SUMMARY:Volunteering Opportunity - CC Food Bank Boxing Day
DESCRIPTION:Join CCAR’s Young Professional Network (YPN) for 2 hours of Volunteering at the Clark County Food Bank! \nYou don’t need to be a member of YPN to volunteer. \nWe will be helping the Clark County Food Bank box varieties of foods into boxes for distribution. We usually do this in their refrigerated room\, so dress in layers.\nPlease join us for 2 hours of giving back to our community. \nClick Here to Register:  https://www.eventbrite.com/e/clark-county-food-bank-volunteer-boxing-day-june-18-2024-tickets-857273156087
URL:https://ccrealtors.com/event/volunteering-opportunity-cc-food-bank-boxing-day-2/
LOCATION:Clark County Food Bank (6502 NE 47th Ave\, Vancouver\, WA  98661)
CATEGORIES:CCAR Events,Home Page Events
ORGANIZER;CN="CCAR":MAILTO:ccar@ccrealtors.com
END:VEVENT
BEGIN:VEVENT
DTSTART;TZID=America/Vancouver:20240618T100000
DTEND;TZID=America/Vancouver:20240618T113000
DTSTAMP:20260425T031753
CREATED:20231220T010719Z
LAST-MODIFIED:20240618T175104Z
UID:10000418-1718704800-1718710200@ccrealtors.com
SUMMARY:Government Affairs Committee
DESCRIPTION:
URL:https://ccrealtors.com/event/government-affairs-committee-7/
CATEGORIES:Committee Meetings
END:VEVENT
BEGIN:VEVENT
DTSTART;VALUE=DATE:20240616
DTEND;VALUE=DATE:20240617
DTSTAMP:20260425T031753
CREATED:20231220T010719Z
LAST-MODIFIED:20240616T225629Z
UID:10000417-1718496000-1718582399@ccrealtors.com
SUMMARY:Father's Day
DESCRIPTION:
URL:https://ccrealtors.com/event/fathers-day/
LOCATION:United States
END:VEVENT
BEGIN:VEVENT
DTSTART;TZID=America/Vancouver:20240613T090000
DTEND;TZID=America/Vancouver:20240613T110000
DTSTAMP:20260425T031753
CREATED:20231220T010659Z
LAST-MODIFIED:20240613T173726Z
UID:10000416-1718269200-1718276400@ccrealtors.com
SUMMARY:Board of Directors
DESCRIPTION:
URL:https://ccrealtors.com/event/board-of-directors-5/
CATEGORIES:Committee Meetings
END:VEVENT
BEGIN:VEVENT
DTSTART;TZID=America/Vancouver:20240612T110000
DTEND;TZID=America/Vancouver:20240612T150000
DTSTAMP:20260425T031753
CREATED:20231220T010720Z
LAST-MODIFIED:20240926T194642Z
UID:10000419-1718190000-1718204400@ccrealtors.com
SUMMARY:Cornhole Tournament - OFFICE CLOSED for Event
DESCRIPTION:Cornhole Tournament \n \nJune 12th 11am-3pm at 3Peaks in in Ridgefield. \nTeam Registration is open to REALTOR® & Affiliate Members. 2-Person Teams: $250 per team or $125 per player.\n\nTeam Registration Link: https://www.zeffy.com/ticketing/ed7cc8d3-88eb-4879-9919-3f53b08e7d32\nBenefits the Clark County REALTOR Foundation. Team registration cost is tax deductible.\n\n\nSponsorships Available to Affiliate and REALTOR® Members\nIf you want to sponsor the Cornhole Tournament\, email Kristin Miller at events@ccrealtors.com or call 503-917-5695
URL:https://ccrealtors.com/event/cornhole-tournament-realtor-foundation/
LOCATION:3Peaks Public House & Taproom (24415 NE 10th Ave\, Ridgefield\, WA 98642\, United States)
CATEGORIES:Foundation Events,Home Page Events,Office Closure
END:VEVENT
BEGIN:VEVENT
DTSTART;TZID=America/Vancouver:20240604T123000
DTEND;TZID=America/Vancouver:20240604T140000
DTSTAMP:20260425T031753
CREATED:20231220T010659Z
LAST-MODIFIED:20240604T205511Z
UID:10000415-1717504200-1717509600@ccrealtors.com
SUMMARY:Executive Committee
DESCRIPTION:
URL:https://ccrealtors.com/event/executive-committee-4/
CATEGORIES:Committee Meetings
END:VEVENT
BEGIN:VEVENT
DTSTART;TZID=America/Vancouver:20240603T090000
DTEND;TZID=America/Vancouver:20240603T120000
DTSTAMP:20260425T031753
CREATED:20240523T173536Z
LAST-MODIFIED:20240603T183735Z
UID:10000534-1717405200-1717416000@ccrealtors.com
SUMMARY:3 CE Hours-Unlocking Opportunities-Real Estate Guide to Home Equity Conversion Mortgage
DESCRIPTION:Join us for a special clock-hour class that could redefine how you approach seniors seeking a seamless transition to their retirement home without the burden of a mortgage payment and provide huge financial benefits for retirement planning.\nTaught By: Curtis Mangus – HECM Specialist & WA State Certified Instructor Clock hour credits provided by: Professional Direction Real Estate School\nCOST: $30 (fee must be paid prior to class)\nRSVP today Pulse Real Estate School (fnf.com) Seating is limited.  After you register\, you’ll receive an email with payment link.
URL:https://ccrealtors.com/event/3-ce-hours-unlocking-opportunities-real-estate-guide-to-home-equity-conversion-mortgage/
LOCATION:Water Resources Education Center- 4600 SE Columbia Way\, Vancouver WA
END:VEVENT
BEGIN:VEVENT
DTSTART;TZID=America/Vancouver:20240530T163000
DTEND;TZID=America/Vancouver:20240530T183000
DTSTAMP:20260425T031753
CREATED:20240513T191912Z
LAST-MODIFIED:20240513T203513Z
UID:10000530-1717086600-1717093800@ccrealtors.com
SUMMARY:DEI Professional Networking Meet & Greet w/NAREB
DESCRIPTION:CCAR’s DEI and NAREB are hosting a Professional Networking Meet & Greet \nThursday\, May 30 4:30-6:30pm\nLiving Room Realty\, 107 W. 7th St. Vancouver \nConnect with fellow industry professionals\, meet new friends\, and learn about NAREB Realtists and CCAR’s DEI Committee.\nRSVP: https://www.eventbrite.com/e/professional-networking-meet-and-greet-with-nareb-and-ccar-tickets-898740295417
URL:https://ccrealtors.com/event/dei-professional-networking-meet-greet-w-nareb/
LOCATION:Meet & Greet\, 107 W. 7th St.\, Vancouver\, WA\, 98660\, United States
CATEGORIES:CCAR Events,Home Page Events
ORGANIZER;CN="CCAR":MAILTO:ccar@ccrealtors.com
END:VEVENT
BEGIN:VEVENT
DTSTART;TZID=America/Vancouver:20240528T130000
DTEND;TZID=America/Vancouver:20240528T143000
DTSTAMP:20260425T031753
CREATED:20231220T010658Z
LAST-MODIFIED:20240528T210750Z
UID:10000413-1716901200-1716906600@ccrealtors.com
SUMMARY:Foundation Board of Directors
DESCRIPTION:
URL:https://ccrealtors.com/event/foundation-board-of-directors-3/
CATEGORIES:Committee Meetings
END:VEVENT
BEGIN:VEVENT
DTSTART;VALUE=DATE:20240527
DTEND;VALUE=DATE:20240528
DTSTAMP:20260425T031753
CREATED:20231220T010658Z
LAST-MODIFIED:20240527T233446Z
UID:10000412-1716768000-1716854399@ccrealtors.com
SUMMARY:Memorial Day - Office Closed
DESCRIPTION:
URL:https://ccrealtors.com/event/office-closed-2/
CATEGORIES:Home Page Events,Office Closure
END:VEVENT
BEGIN:VEVENT
DTSTART;TZID=America/Vancouver:20240523T090000
DTEND;TZID=America/Vancouver:20240523T100000
DTSTAMP:20260425T031753
CREATED:20231220T010643Z
LAST-MODIFIED:20240523T162329Z
UID:10000410-1716454800-1716458400@ccrealtors.com
SUMMARY:Professional Standards Committee
DESCRIPTION:
URL:https://ccrealtors.com/event/professional-standards-committee-4/
CATEGORIES:Committee Meetings
END:VEVENT
BEGIN:VEVENT
DTSTART;TZID=America/Vancouver:20240522T160000
DTEND;TZID=America/Vancouver:20240522T173000
DTSTAMP:20260425T031753
CREATED:20240513T180935Z
LAST-MODIFIED:20240513T202803Z
UID:10000529-1716393600-1716399000@ccrealtors.com
SUMMARY:Cornerstone Home Lending Masterclass
DESCRIPTION:Level Up with Cornerstone Home Lending Mortgage Masterclass:\n99% Purchase Home: 97% Smart Start + 2% Boost\nNO Mortgage Insurance\nNOT First-Time Homebuyer \nWednesday\, May 22\, 2024\, 4:00 PM – 5:30 PM @ Total Wine & More\, 4816 NE Thurston Way\, Vancouver\, WA 98662 \nRegistration: https://www.eventbrite.com/e/894597504217?aff=oddtdtcreator
URL:https://ccrealtors.com/event/cornerstone-home-lending-masterclass-99-purchase-home-no-mortgage-insurance-not-first-time-homebuyer/
LOCATION:Total Wine & More\, 4816 NE Thurston Way\, Vancouver\, WA\, 98662\, United States
CATEGORIES:Education
END:VEVENT
BEGIN:VEVENT
DTSTART;TZID=America/Vancouver:20240521T100000
DTEND;TZID=America/Vancouver:20240521T113000
DTSTAMP:20260425T031753
CREATED:20231220T010643Z
LAST-MODIFIED:20240521T175029Z
UID:10000409-1716285600-1716291000@ccrealtors.com
SUMMARY:Government Affairs Committee
DESCRIPTION:
URL:https://ccrealtors.com/event/government-affairs-committee-6/
CATEGORIES:Committee Meetings
END:VEVENT
BEGIN:VEVENT
DTSTART;TZID=America/Vancouver:20240517T090000
DTEND;TZID=America/Vancouver:20240517T100000
DTSTAMP:20260425T031753
CREATED:20231220T010643Z
LAST-MODIFIED:20240517T162058Z
UID:10000408-1715936400-1715940000@ccrealtors.com
SUMMARY:DEI Committee
DESCRIPTION:
URL:https://ccrealtors.com/event/dei-committee-2/
CATEGORIES:Committee Meetings
END:VEVENT
END:VCALENDAR