BEGIN:VCALENDAR
VERSION:2.0
PRODID:-//Clark County Association of Realtors - ECPv6.15.20//NONSGML v1.0//EN
CALSCALE:GREGORIAN
METHOD:PUBLISH
X-WR-CALNAME:Clark County Association of Realtors
X-ORIGINAL-URL:https://ccrealtors.com
X-WR-CALDESC:Events for Clark County Association of Realtors
REFRESH-INTERVAL;VALUE=DURATION:PT1H
X-Robots-Tag:noindex
X-PUBLISHED-TTL:PT1H
BEGIN:VTIMEZONE
TZID:America/Vancouver
BEGIN:DAYLIGHT
TZOFFSETFROM:-0800
TZOFFSETTO:-0700
TZNAME:PDT
DTSTART:20230312T100000
END:DAYLIGHT
BEGIN:STANDARD
TZOFFSETFROM:-0700
TZOFFSETTO:-0800
TZNAME:PST
DTSTART:20231105T090000
END:STANDARD
BEGIN:DAYLIGHT
TZOFFSETFROM:-0800
TZOFFSETTO:-0700
TZNAME:PDT
DTSTART:20240310T100000
END:DAYLIGHT
BEGIN:STANDARD
TZOFFSETFROM:-0700
TZOFFSETTO:-0800
TZNAME:PST
DTSTART:20241103T090000
END:STANDARD
BEGIN:DAYLIGHT
TZOFFSETFROM:-0800
TZOFFSETTO:-0700
TZNAME:PDT
DTSTART:20250309T100000
END:DAYLIGHT
BEGIN:STANDARD
TZOFFSETFROM:-0700
TZOFFSETTO:-0800
TZNAME:PST
DTSTART:20251102T090000
END:STANDARD
END:VTIMEZONE
BEGIN:VEVENT
DTSTART;TZID=America/Vancouver:20240424T110000
DTEND;TZID=America/Vancouver:20240424T120000
DTSTAMP:20260424T201208
CREATED:20240403T193445Z
LAST-MODIFIED:20240424T180459Z
UID:10000522-1713956400-1713960000@ccrealtors.com
SUMMARY:Transforming the Real Estate Industry - Innovation\, Technology\, and the Advancement of an Industry- NON CE
DESCRIPTION:Cost: $5.00\nREGISTER: https://firstamedu.com/user/class/registration\nDescription\nNational Webinar: Innovation\, Technology\, and the Advancement of an Industry\n  *   $60B+ of capital was invested in real estate innovation since 2015. What were the big ideas and what were the outcomes?\n  *   What is the direction of real estate innovation and how is it shifting?\n  *   Who’s leading the real estate technology revolution?\n  *   How will AI change the industry?\nJoin us for this live 1-hour webinar and Q&A.\nSPEAKER:\nPaul Hurst\, Chief Innovation Officer\nPaul is a renowned leader in real estate innovation having invested in 20+ proptech start-ups and managed the deployment of >$500M of capital in internal innovation at First American. Prior to that\, he spent ten years building new technology businesses for Fortune 500 companies. He currently serves as a Managing Director at Parker89 and Chief Innovation Officer at First American.\nPlease note: This webinar will not be recorded.\n*This webinar is not available in California.\nFor more information on this course\, please contact connect@firstam.com
URL:https://ccrealtors.com/event/transforming-the-real-estate-industry-innovation-technology-and-the-advancement-of-an-industry-non-ce/
LOCATION:LIVE WEBINAR
END:VEVENT
BEGIN:VEVENT
DTSTART;TZID=America/Vancouver:20240424T090000
DTEND;TZID=America/Vancouver:20240424T120000
DTSTAMP:20260424T201208
CREATED:20240419T153613Z
LAST-MODIFIED:20240424T180459Z
UID:10000528-1713949200-1713960000@ccrealtors.com
SUMMARY:3 CE Hours- 12 Common PSA Pitfalls: Keys to a Timely Closing
DESCRIPTION:In this class we’ll review the items contained on the first page of the Purchase and Sale Agreement that (if not carefully completed) can lead to a delayed closing. We’ll also share the preventative measures that will keep your transactions on track and on-time\, every time.\nWednesday\, April 24th | 9:00am-noon | 3 CE\nThis class is complementary (no cost).\nLOCATION:\n7700 NE Parkway Drive Suite 125\nVancouver\, WA 98662\nThe instructor for this class is our own Escrow Officer/L.P.O.\, Lynnette Zumwalt!\nContact us for more information!\nTamara Riordan triordan@firstam.com\nJustin Coffee jcoffee@firstam.com\nCord Speelman cspeelman@firstam.com\nSAVE YOUR SEAT:  https://firstamedu.com/user/class/details/c623dc20-f46c-473b-9abd-06b03f550544
URL:https://ccrealtors.com/event/3-ce-hours-12-common-psa-pitfalls-keys-to-a-timely-closing/
LOCATION:7700 NE Parkway Drive Ste 125\, Vancouver WA 98662
END:VEVENT
END:VCALENDAR