BEGIN:VCALENDAR
VERSION:2.0
PRODID:-//Clark County Association of Realtors - ECPv6.15.20//NONSGML v1.0//EN
CALSCALE:GREGORIAN
METHOD:PUBLISH
X-WR-CALNAME:Clark County Association of Realtors
X-ORIGINAL-URL:https://ccrealtors.com
X-WR-CALDESC:Events for Clark County Association of Realtors
REFRESH-INTERVAL;VALUE=DURATION:PT1H
X-Robots-Tag:noindex
X-PUBLISHED-TTL:PT1H
BEGIN:VTIMEZONE
TZID:America/Vancouver
BEGIN:DAYLIGHT
TZOFFSETFROM:-0800
TZOFFSETTO:-0700
TZNAME:PDT
DTSTART:20230312T100000
END:DAYLIGHT
BEGIN:STANDARD
TZOFFSETFROM:-0700
TZOFFSETTO:-0800
TZNAME:PST
DTSTART:20231105T090000
END:STANDARD
BEGIN:DAYLIGHT
TZOFFSETFROM:-0800
TZOFFSETTO:-0700
TZNAME:PDT
DTSTART:20240310T100000
END:DAYLIGHT
BEGIN:STANDARD
TZOFFSETFROM:-0700
TZOFFSETTO:-0800
TZNAME:PST
DTSTART:20241103T090000
END:STANDARD
BEGIN:DAYLIGHT
TZOFFSETFROM:-0800
TZOFFSETTO:-0700
TZNAME:PDT
DTSTART:20250309T100000
END:DAYLIGHT
BEGIN:STANDARD
TZOFFSETFROM:-0700
TZOFFSETTO:-0800
TZNAME:PST
DTSTART:20251102T090000
END:STANDARD
END:VTIMEZONE
BEGIN:VEVENT
DTSTART;VALUE=DATE:20241225
DTEND;VALUE=DATE:20241226
DTSTAMP:20260424T073040
CREATED:20231225T083432Z
LAST-MODIFIED:20241225T235055Z
UID:10000475-1735084800-1735171199@ccrealtors.com
SUMMARY:Christmas Day - Office Closed
DESCRIPTION:
URL:https://ccrealtors.com/event/christmas-day-2/
LOCATION:United States
CATEGORIES:Committee Meetings,Home Page Events,Office Closure
END:VEVENT
BEGIN:VEVENT
DTSTART;VALUE=DATE:20241224
DTEND;VALUE=DATE:20241226
DTSTAMP:20260424T073040
CREATED:20231224T082434Z
LAST-MODIFIED:20241225T235054Z
UID:10000473-1734998400-1735171199@ccrealtors.com
SUMMARY:Christmas Eve - Office Closed
DESCRIPTION:
URL:https://ccrealtors.com/event/office-closed-7/
CATEGORIES:Committee Meetings,Home Page Events,Office Closure
END:VEVENT
BEGIN:VEVENT
DTSTART;TZID=America/Vancouver:20241204T100000
DTEND;TZID=America/Vancouver:20241204T120000
DTSTAMP:20260424T073040
CREATED:20231220T021702Z
LAST-MODIFIED:20241223T234503Z
UID:10000471-1733306400-1733313600@ccrealtors.com
SUMMARY:Installation and Awards
DESCRIPTION:CCAR’s Installation & Awards\nDec. 4th 10:00am\nAC Hotel on Vancouver Waterfront 333 W Columbia Way\, Vancouver\, WA 98660 \nJoin us for breakfast as we honor the outstanding individuals who make our community special.\nBe present for the installation of CCAR’s 2025 Board of Directors and Executive Board. \nRegister through your CCAR Membership Portal: https://mdweb.mmsi2.com/clark/ \nAwards:\nCitizen of the Year\nCommunity Service\nAffiliate of the Year\nPartner of the Year\nREALTOR Horizon\nREALTOR Achievement\nREALTOR of the Year \n 
URL:https://ccrealtors.com/event/installation-and-awards-2/
CATEGORIES:CCAR Events,Home Page Events
END:VEVENT
BEGIN:VEVENT
DTSTART;VALUE=DATE:20241129
DTEND;VALUE=DATE:20241130
DTSTAMP:20260424T073040
CREATED:20231220T010849Z
LAST-MODIFIED:20241223T234510Z
UID:10000464-1732838400-1732924799@ccrealtors.com
SUMMARY:Thanksgiving Holiday - Office Closed
DESCRIPTION:
URL:https://ccrealtors.com/event/day-after-thanksgiving-day/
LOCATION:United States
CATEGORIES:Home Page Events,Office Closure
END:VEVENT
BEGIN:VEVENT
DTSTART;VALUE=DATE:20241128
DTEND;VALUE=DATE:20241129
DTSTAMP:20260424T073040
CREATED:20231220T010849Z
LAST-MODIFIED:20241223T234517Z
UID:10000465-1732752000-1732838399@ccrealtors.com
SUMMARY:Thanksgiving Holiday - Office Closed
DESCRIPTION:
URL:https://ccrealtors.com/event/thanksgiving-day/
LOCATION:United States
CATEGORIES:Home Page Events,Office Closure
END:VEVENT
BEGIN:VEVENT
DTSTART;TZID=America/Vancouver:20241120T160000
DTEND;TZID=America/Vancouver:20241120T180000
DTSTAMP:20260424T073040
CREATED:20241107T185028Z
LAST-MODIFIED:20241223T234526Z
UID:10000668-1732118400-1732125600@ccrealtors.com
SUMMARY:Clark County REALTORS Foundation Grant Reception
DESCRIPTION:Clark County REALTORS Foundation Grant Reception \nNov. 20\, 2024\n4:00-6:00pm\nUnion Chapel\, 806 Main St. 3rd Floor Downtown Vancouver \nRegister Here: https://docs.google.com/forms/d/e/1FAIpQLSeSYiHu4yIYRX3o5Gz_h3SDeVFUDgL3TuAMeUXjNPusfi3wFw/viewform?usp=sf_link \nCelebrate another great year for the Clark County REALTORS® Foundation by joining us for the 2024 Grant Reception! It has been another great year for the CCR foundation\, with $30\,000 raised from events like the Cornhole Tournament\, Give Big\, and Boo Bowl\, and a record number of organizations submitting grant applications for the 2024 cycle. Celebrate all the good work these organizations do in the community and how our association gives back by attending the heartwarming grant reception! \n 
URL:https://ccrealtors.com/event/clark-county-realtors-foundation-grant-reception/
LOCATION:Union Chapel (806 Main St\, Vancouver\, WA  98660)
CATEGORIES:CCAR Events,Foundation Events,Home Page Events
ORGANIZER;CN="CCAR":MAILTO:ccar@ccrealtors.com
END:VEVENT
BEGIN:VEVENT
DTSTART;TZID=America/Vancouver:20241119T100000
DTEND;TZID=America/Vancouver:20241119T113000
DTSTAMP:20260424T073040
CREATED:20231220T010848Z
LAST-MODIFIED:20241119T184920Z
UID:10000462-1732010400-1732015800@ccrealtors.com
SUMMARY:Government Affairs Committee
DESCRIPTION:
URL:https://ccrealtors.com/event/government-affairs-committee-12/
CATEGORIES:Committee Meetings
END:VEVENT
BEGIN:VEVENT
DTSTART;TZID=America/Vancouver:20241114T090000
DTEND;TZID=America/Vancouver:20241114T110000
DTSTAMP:20260424T073040
CREATED:20231220T010846Z
LAST-MODIFIED:20241114T182109Z
UID:10000461-1731574800-1731582000@ccrealtors.com
SUMMARY:Board of Directors
DESCRIPTION:
URL:https://ccrealtors.com/event/board-of-directors-10/
CATEGORIES:Committee Meetings
END:VEVENT
BEGIN:VEVENT
DTSTART;TZID=America/Vancouver:20241112T130000
DTEND;TZID=America/Vancouver:20241112T140000
DTSTAMP:20260424T073040
CREATED:20231220T010846Z
LAST-MODIFIED:20241112T204910Z
UID:10000460-1731416400-1731420000@ccrealtors.com
SUMMARY:RPAC Committee
DESCRIPTION:
URL:https://ccrealtors.com/event/rpac-committee-6/
CATEGORIES:Committee Meetings
END:VEVENT
BEGIN:VEVENT
DTSTART;VALUE=DATE:20241111
DTEND;VALUE=DATE:20241112
DTSTAMP:20260424T073040
CREATED:20231220T010845Z
LAST-MODIFIED:20241223T234536Z
UID:10000457-1731283200-1731369599@ccrealtors.com
SUMMARY:Veterans Day - Office Closed
DESCRIPTION:
URL:https://ccrealtors.com/event/veterans-day/
LOCATION:United States
CATEGORIES:Home Page Events,Office Closure
END:VEVENT
BEGIN:VEVENT
DTSTART;TZID=America/Vancouver:20241108T090000
DTEND;TZID=America/Vancouver:20241108T100000
DTSTAMP:20260424T073040
CREATED:20231220T010840Z
LAST-MODIFIED:20241108T174836Z
UID:10000456-1731056400-1731060000@ccrealtors.com
SUMMARY:DEI Committee
DESCRIPTION:
URL:https://ccrealtors.com/event/dei-committee-5/
CATEGORIES:Committee Meetings
END:VEVENT
BEGIN:VEVENT
DTSTART;TZID=America/Vancouver:20241107T090000
DTEND;TZID=America/Vancouver:20241107T103000
DTSTAMP:20260424T073040
CREATED:20241105T163336Z
LAST-MODIFIED:20241107T180349Z
UID:10000667-1730970000-1730975400@ccrealtors.com
SUMMARY:Ombudsman Subcommittee Meeting
DESCRIPTION:
URL:https://ccrealtors.com/event/ombudsman-subcommittee-meeting/
LOCATION:CCAR Office\, 1514 Broadway St\, Vancouver\, WA\, United States
CATEGORIES:Committee Meetings
GEO:45.632691;-122.670535
X-APPLE-STRUCTURED-LOCATION;VALUE=URI;X-ADDRESS=CCAR Office 1514 Broadway St Vancouver WA United States;X-APPLE-RADIUS=500;X-TITLE=1514 Broadway St:geo:-122.670535,45.632691
END:VEVENT
BEGIN:VEVENT
DTSTART;VALUE=DATE:20241106
DTEND;VALUE=DATE:20241112
DTSTAMP:20260424T073040
CREATED:20240930T170655Z
LAST-MODIFIED:20240930T170655Z
UID:10000597-1730851200-1731369599@ccrealtors.com
SUMMARY:NAR NXT Governance Meetings
DESCRIPTION:
URL:https://ccrealtors.com/event/nar-nxt-governance-meetings-2/
LOCATION:Boston\, Massachusetts\, United States
END:VEVENT
BEGIN:VEVENT
DTSTART;TZID=America/Vancouver:20241105T123000
DTEND;TZID=America/Vancouver:20241105T140000
DTSTAMP:20260424T073040
CREATED:20231220T010840Z
LAST-MODIFIED:20241104T153342Z
UID:10000454-1730809800-1730815200@ccrealtors.com
SUMMARY:Executive Committee
DESCRIPTION:
URL:https://ccrealtors.com/event/executive-committee-9/
CATEGORIES:Committee Meetings
END:VEVENT
BEGIN:VEVENT
DTSTART;VALUE=DATE:20241105
DTEND;VALUE=DATE:20241106
DTSTAMP:20260424T073040
CREATED:20231220T010840Z
LAST-MODIFIED:20241223T234556Z
UID:10000455-1730764800-1730851199@ccrealtors.com
SUMMARY:Election Day
DESCRIPTION:
URL:https://ccrealtors.com/event/election-day/
LOCATION:United States
END:VEVENT
BEGIN:VEVENT
DTSTART;VALUE=DATE:20241031
DTEND;VALUE=DATE:20241101
DTSTAMP:20260424T073040
CREATED:20231220T010839Z
LAST-MODIFIED:20241223T234602Z
UID:10000452-1730332800-1730419199@ccrealtors.com
SUMMARY:Halloween
DESCRIPTION:
URL:https://ccrealtors.com/event/halloween/
LOCATION:United States
END:VEVENT
BEGIN:VEVENT
DTSTART;TZID=America/Vancouver:20241029T130000
DTEND;TZID=America/Vancouver:20241029T143000
DTSTAMP:20260424T073040
CREATED:20231220T010808Z
LAST-MODIFIED:20241029T212452Z
UID:10000451-1730206800-1730212200@ccrealtors.com
SUMMARY:Foundation Board of Directors
DESCRIPTION:
URL:https://ccrealtors.com/event/foundation-6/
CATEGORIES:Committee Meetings
END:VEVENT
BEGIN:VEVENT
DTSTART;TZID=America/Vancouver:20241025T130000
DTEND;TZID=America/Vancouver:20241025T160000
DTSTAMP:20260424T073040
CREATED:20240930T214805Z
LAST-MODIFIED:20241223T234617Z
UID:10000663-1729861200-1729872000@ccrealtors.com
SUMMARY:Boo Bowl Charity Bowling Tournament\, Costume Contest\, Raffle!
DESCRIPTION:Boo Bowl Bowling Tournament\, Costume Contest and Raffle!\nBenefitting the Clark County REALTORS® Foundation\nFri. Oct. 25th 1:00-4:00pm\nAllen’s Crosley Lanes 2400 E Evergreen Blvd\, Vancouver\, WA 98661\nSponsored by RMLS\, Lifetime Green Coatings\, Wise Move Property Management\, Cornerstone Home Lending\, InvestWest Management. \n5-Player Team: $500\n1-Player Registration: $100 . If you register as an individual\, you can request to play with specific players\, on a specific team\, or CCAR will place you on a team. \nTeam Registration Link: https://www.zeffy.com/ticketing/393d358f-ab60-4963-b240-f41164274b73\nWe are using Zeffy\, which is a non-profit donation website\, because Boo Bowl supports the Clark County REALTORS® Foundation. Your team payment is tax deductible.\nDuring checkout Zeffy requests a donation to support their website\, which is optional. If you want to opt out of this donation\, click “other” on the dropdown menu and enter “0” or an amount of your choosing. \nSponsorships available – contact Kristin Miller events@ccrealtors.com or 503-917-5695
URL:https://ccrealtors.com/event/10-25-24-boo-bowl-charity-bowling-tournament/
LOCATION:Allen’s Crosley Lanes @ 2400 E Evergreen Blvd\, Vancouver\, WA 98661
CATEGORIES:CCAR Events,Foundation Events,Home Page Events
END:VEVENT
BEGIN:VEVENT
DTSTART;VALUE=DATE:20241023
DTEND;VALUE=DATE:20241026
DTSTAMP:20260424T073040
CREATED:20231220T010807Z
LAST-MODIFIED:20241223T234623Z
UID:10000450-1729641600-1729900799@ccrealtors.com
SUMMARY:WR Leadership Conference
DESCRIPTION:
URL:https://ccrealtors.com/event/wr-leadership-conference/
LOCATION:Vancouver WA
CATEGORIES:Washington REALTORS
END:VEVENT
BEGIN:VEVENT
DTSTART;TZID=America/Vancouver:20241022T100000
DTEND;TZID=America/Vancouver:20241022T113000
DTSTAMP:20260424T073040
CREATED:20241017T170518Z
LAST-MODIFIED:20241223T234636Z
UID:10000665-1729591200-1729596600@ccrealtors.com
SUMMARY:CCAR Government Affairs Committee
DESCRIPTION:
URL:https://ccrealtors.com/event/ccar-government-affairs-committee/
LOCATION:Clark County Association of Realtors (1514 Broadway St Ste 102\, Vancouver\, WA 98663\, United States)
CATEGORIES:Committee Meetings
END:VEVENT
BEGIN:VEVENT
DTSTART;TZID=America/Vancouver:20241018T090000
DTEND;TZID=America/Vancouver:20241018T163000
DTSTAMP:20260424T073040
CREATED:20240906T182941Z
LAST-MODIFIED:20241223T234646Z
UID:10000555-1729242000-1729269000@ccrealtors.com
SUMMARY:12 CE HOURS-Oregon Licensees-SRS Designation Course
DESCRIPTION:Hello to our Realtor®️ association friends across Oregon\nWe’d love your help in sharing this exciting opportunity with your members!\nSRS®️ Designation Course – Early Bird Pricing Ends September 17th!\nDon’t miss out on this chance to enhance your skills and better serve sellers in today’s evolving market. With limited seating and a special price of $239 (normally $289)\, now is the perfect time to secure a spot!\nHelp your members invest in their professional growth and take advantage of this course.\nCourse Details:\n  *   Dates: October 17 & 18\, 2024\n  *   Credits: 12 CE (Oregon licensees)\n  *   Location: 15555 Bangy Rd\, Lake Oswego\, OR\n  *   Amenities: Lunch\, beverages\, and snacks provided\nRegister here to secure your spot! https://pmar.org/event/srs-designation-course/\nFor those traveling\, I’ve provided links to nearby hotels for your convenience\, including one within a reasonable walking distance to the conference center.\nResidence Inn https://maps.app.goo.gl/yUF5p1qPVo7sZmSF8\nHilton Garden https://maps.app.goo.gl/BQFAjcDWwt8YG8Wv9\nCrowne Plaza https://maps.app.goo.gl/FoosMBGpMW5H866i7\nFor Questions Contact:\nDiana- 503.459.2156
URL:https://ccrealtors.com/event/12-ce-hours-oregon-licensees-srs-designation-course-2/
LOCATION:Home Building Association of Greater Portland\, 6499 Bonita Rd\, Lake Oswego\, OR\, United States
CATEGORIES:Education
GEO:45.415309;-122.744167
X-APPLE-STRUCTURED-LOCATION;VALUE=URI;X-ADDRESS=Home Building Association of Greater Portland 6499 Bonita Rd Lake Oswego OR United States;X-APPLE-RADIUS=500;X-TITLE=6499 Bonita Rd:geo:-122.744167,45.415309
END:VEVENT
BEGIN:VEVENT
DTSTART;TZID=America/Vancouver:20241017T090000
DTEND;TZID=America/Vancouver:20241017T163000
DTSTAMP:20260424T073040
CREATED:20240906T182941Z
LAST-MODIFIED:20241223T234654Z
UID:10000554-1729155600-1729182600@ccrealtors.com
SUMMARY:12 CE HOURS-Oregon Licensees-SRS Designation Course
DESCRIPTION:Hello to our Realtor®️ association friends across Oregon\nWe’d love your help in sharing this exciting opportunity with your members!\nSRS®️ Designation Course – Early Bird Pricing Ends September 17th!\nDon’t miss out on this chance to enhance your skills and better serve sellers in today’s evolving market. With limited seating and a special price of $239 (normally $289)\, now is the perfect time to secure a spot!\nHelp your members invest in their professional growth and take advantage of this course.\nCourse Details:\n  *   Dates: October 17 & 18\, 2024\n  *   Credits: 12 CE (Oregon licensees)\n  *   Location: 15555 Bangy Rd\, Lake Oswego\, OR\n  *   Amenities: Lunch\, beverages\, and snacks provided\nRegister here to secure your spot! https://pmar.org/event/srs-designation-course/\nFor those traveling\, I’ve provided links to nearby hotels for your convenience\, including one within a reasonable walking distance to the conference center.\nResidence Inn https://maps.app.goo.gl/yUF5p1qPVo7sZmSF8\nHilton Garden https://maps.app.goo.gl/BQFAjcDWwt8YG8Wv9\nCrowne Plaza https://maps.app.goo.gl/FoosMBGpMW5H866i7\nFor Questions Contact:\nDiana- 503.459.2156
URL:https://ccrealtors.com/event/12-ce-hours-oregon-licensees-srs-designation-course/
LOCATION:Home Building Association of Greater Portland\, 6499 Bonita Rd\, Lake Oswego\, OR\, United States
CATEGORIES:Education
GEO:45.415309;-122.744167
X-APPLE-STRUCTURED-LOCATION;VALUE=URI;X-ADDRESS=Home Building Association of Greater Portland 6499 Bonita Rd Lake Oswego OR United States;X-APPLE-RADIUS=500;X-TITLE=6499 Bonita Rd:geo:-122.744167,45.415309
END:VEVENT
BEGIN:VEVENT
DTSTART;TZID=America/Vancouver:20241017T090000
DTEND;TZID=America/Vancouver:20241017T100000
DTSTAMP:20260424T073040
CREATED:20240826T165243Z
LAST-MODIFIED:20241017T164648Z
UID:10000553-1729155600-1729159200@ccrealtors.com
SUMMARY:Professional Standards Committee Meeting
DESCRIPTION:Findings of Fact training
URL:https://ccrealtors.com/event/professional-standards-committee-meeting/
LOCATION:CCAR Office – 514 Broadway St\, 2201 SE 102nd Ct\, Vancouver\, WA\, United States
CATEGORIES:Committee Meetings
GEO:45.604238;-122.567316
X-APPLE-STRUCTURED-LOCATION;VALUE=URI;X-ADDRESS=CCAR Office – 514 Broadway St 2201 SE 102nd Ct Vancouver WA United States;X-APPLE-RADIUS=500;X-TITLE=2201 SE 102nd Ct:geo:-122.567316,45.604238
END:VEVENT
BEGIN:VEVENT
DTSTART;TZID=America/Vancouver:20241016T100000
DTEND;TZID=America/Vancouver:20241016T120000
DTSTAMP:20260424T073040
CREATED:20240620T182449Z
LAST-MODIFIED:20241016T182002Z
UID:10000538-1729072800-1729080000@ccrealtors.com
SUMMARY:October Membership Meeting
DESCRIPTION:October Membership Meeting \n \nOct. 16th 10:00am\nRoyal Oaks Country Club 8917 NE Fourth Plain Blvd\, Vancouver\, WA 98662\nGuest Speaker Kurt von Wasmuth \nTickets: $10\nTable of 8 with company logo displayed on table: $100\nRegister and buy tickets/table through your CCAR Member login: https://mdweb.mmsi2.com/clark/ \n 
URL:https://ccrealtors.com/event/october-membership-meeting-2/
LOCATION:Royal Oaks Country Club (8917 NE 4th Plain Blvd\, Vancouver\, WA  98662)
CATEGORIES:CCAR Events,Home Page Events
END:VEVENT
BEGIN:VEVENT
DTSTART;TZID=America/Vancouver:20241015T170000
DTEND;TZID=America/Vancouver:20241015T170000
DTSTAMP:20260424T073040
CREATED:20240605T194602Z
LAST-MODIFIED:20240720T002527Z
UID:10000535-1729011600-1729011600@ccrealtors.com
SUMMARY:REALTORS Foundation Grant Request Deadline
DESCRIPTION:The Clark County REALTORS® Foundation is seeking grant requests from qualified local non-profit organizations committed to fostering\, developing\, promoting\, and encouraging the health\, education\, and general social welfare of disadvantaged children\, families\, and the elderly in Clark County. \nTo be included for consideration of funding\, the Foundation asks local non-profit organizations to submit a letter of request highlighting the following topics: \n\nOrganizational background\, purpose\, and how the organization serves children\, families\, and/or the elderly;\nAmount of request;\nIntent of funding and project description in narrative form including goals\, project scope\, and proposed use of funds;\nIf the organization has received funding from the Foundation in the past\, state how those funds were utilized.\n\nNon-profit organizations can submit their request to Kristin Miller at events@ccrealtors.com . Deadline for funding requests is October 15. For more information\, organizations may contact (360) 695-5980.
URL:https://ccrealtors.com/event/clark-county-realtors-foundation-grant-request-deadline/
CATEGORIES:Foundation Events,Home Page Events
ORGANIZER;CN="CCAR":MAILTO:ccar@ccrealtors.com
END:VEVENT
BEGIN:VEVENT
DTSTART;VALUE=DATE:20241014
DTEND;VALUE=DATE:20241015
DTSTAMP:20260424T073040
CREATED:20231220T010807Z
LAST-MODIFIED:20241014T233533Z
UID:10000448-1728864000-1728950399@ccrealtors.com
SUMMARY:Columbus Day
DESCRIPTION:
URL:https://ccrealtors.com/event/columbus-day/
LOCATION:United States
END:VEVENT
BEGIN:VEVENT
DTSTART;TZID=America/Vancouver:20241010T090000
DTEND;TZID=America/Vancouver:20241010T110000
DTSTAMP:20260424T073040
CREATED:20231220T010807Z
LAST-MODIFIED:20241010T175244Z
UID:10000447-1728550800-1728558000@ccrealtors.com
SUMMARY:Board of Directors
DESCRIPTION:
URL:https://ccrealtors.com/event/board-of-directors-9/
CATEGORIES:Committee Meetings
END:VEVENT
BEGIN:VEVENT
DTSTART;TZID=America/Vancouver:20241008T123000
DTEND;TZID=America/Vancouver:20241008T140000
DTSTAMP:20260424T073040
CREATED:20240930T170631Z
LAST-MODIFIED:20240930T191259Z
UID:10000568-1728390600-1728396000@ccrealtors.com
SUMMARY:Executive Committee
DESCRIPTION:
URL:https://ccrealtors.com/event/executive-committee-10/
CATEGORIES:Committee Meetings
END:VEVENT
BEGIN:VEVENT
DTSTART;TZID=America/Vancouver:20240926T090000
DTEND;TZID=America/Vancouver:20240926T100000
DTSTAMP:20260424T073040
CREATED:20231220T010803Z
LAST-MODIFIED:20240926T162307Z
UID:10000445-1727341200-1727344800@ccrealtors.com
SUMMARY:Professional Standards Committee
DESCRIPTION:
URL:https://ccrealtors.com/event/professional-standards-committee-8/
CATEGORIES:Committee Meetings
END:VEVENT
BEGIN:VEVENT
DTSTART;TZID=America/Vancouver:20240925T160000
DTEND;TZID=America/Vancouver:20240925T173000
DTSTAMP:20260424T073040
CREATED:20240805T165208Z
LAST-MODIFIED:20240805T165208Z
UID:10000550-1727280000-1727285400@ccrealtors.com
SUMMARY:BASH - Business Associates Social Hour
DESCRIPTION:CCAR BASH – Business Associates Social Hour\, hosted by YPN \nLocation: Prairie Tavern’s Private Room\n14925 NE Caples Rd. Brush Prairie\, WA 98606 \nPizza will be served. No-Host Bar. \nPlease RSVP to give us a head count for pizza: https://forms.gle/WuTbBif3g8hdtbWd6\nIf you forget to RSVP\, that’s OK – just show up!
URL:https://ccrealtors.com/event/bash-business-associates-social-hour-2/
LOCATION:Prairie Tavern\, 14925 NE Caples Rd\,\, Brush Prairie\, WA\, 98606\, United States
CATEGORIES:CCAR Events,Home Page Events
END:VEVENT
END:VCALENDAR