BEGIN:VCALENDAR
VERSION:2.0
PRODID:-//Clark County Association of Realtors - ECPv6.15.20//NONSGML v1.0//EN
CALSCALE:GREGORIAN
METHOD:PUBLISH
X-WR-CALNAME:Clark County Association of Realtors
X-ORIGINAL-URL:https://ccrealtors.com
X-WR-CALDESC:Events for Clark County Association of Realtors
REFRESH-INTERVAL;VALUE=DURATION:PT1H
X-Robots-Tag:noindex
X-PUBLISHED-TTL:PT1H
BEGIN:VTIMEZONE
TZID:America/Vancouver
BEGIN:DAYLIGHT
TZOFFSETFROM:-0800
TZOFFSETTO:-0700
TZNAME:PDT
DTSTART:20250309T100000
END:DAYLIGHT
BEGIN:STANDARD
TZOFFSETFROM:-0700
TZOFFSETTO:-0800
TZNAME:PST
DTSTART:20251102T090000
END:STANDARD
BEGIN:DAYLIGHT
TZOFFSETFROM:-0800
TZOFFSETTO:-0700
TZNAME:PDT
DTSTART:20260308T100000
END:DAYLIGHT
BEGIN:STANDARD
TZOFFSETFROM:-0700
TZOFFSETTO:-0800
TZNAME:PST
DTSTART:20261101T090000
END:STANDARD
BEGIN:DAYLIGHT
TZOFFSETFROM:-0800
TZOFFSETTO:-0700
TZNAME:PDT
DTSTART:20270314T100000
END:DAYLIGHT
BEGIN:STANDARD
TZOFFSETFROM:-0700
TZOFFSETTO:-0800
TZNAME:PST
DTSTART:20271107T090000
END:STANDARD
END:VTIMEZONE
BEGIN:VEVENT
DTSTART;TZID=America/Vancouver:20260423T090000
DTEND;TZID=America/Vancouver:20260423T130000
DTSTAMP:20260423T142522
CREATED:20260330T212204Z
LAST-MODIFIED:20260330T213535Z
UID:10000911-1776934800-1776949200@ccrealtors.com
SUMMARY:Mediation and Ombudsman Training with Leigh York
DESCRIPTION:Mediation and Ombudsman Training with Leigh York \n \nRegister Here: https://warealtorportal.ramcoams.net/Education/Registration/Details.aspx?cid=7fb02be6-8e19-f111-a74b-00155d234460 \n\nDate: Thursday\, April 23\nTime: 9:00 am – 1:00 pm\nCost: Free\nCE: None\nHosted by Washington Realtors……must be member of WR and have NRDS ID
URL:https://ccrealtors.com/event/mediation-and-ombudsman-training-with-leigh-york/
CATEGORIES:CCAR Events,Committee Meetings,Education,Washington REALTORS
END:VEVENT
BEGIN:VEVENT
DTSTART;TZID=America/Vancouver:20260423T090000
DTEND;TZID=America/Vancouver:20260423T103000
DTSTAMP:20260423T142522
CREATED:20251216T211602Z
LAST-MODIFIED:20260423T171956Z
UID:10000820-1776934800-1776940200@ccrealtors.com
SUMMARY:CANCELLED - Professional Standards Committee
DESCRIPTION:
URL:https://ccrealtors.com/event/professional-standards-committee-21/
CATEGORIES:Committee Meetings
END:VEVENT
BEGIN:VEVENT
DTSTART;TZID=America/Vancouver:20260421T100000
DTEND;TZID=America/Vancouver:20260421T113000
DTSTAMP:20260423T142522
CREATED:20251216T211602Z
LAST-MODIFIED:20260421T182040Z
UID:10000819-1776765600-1776771000@ccrealtors.com
SUMMARY:Government Affairs Committee
DESCRIPTION:
URL:https://ccrealtors.com/event/government-affairs-committee-27/
LOCATION:Virtual
CATEGORIES:Committee Meetings
END:VEVENT
BEGIN:VEVENT
DTSTART;VALUE=DATE:20260415
DTEND;VALUE=DATE:20260418
DTSTAMP:20260423T142522
CREATED:20251216T211602Z
LAST-MODIFIED:20260417T230552Z
UID:10000818-1776211200-1776470399@ccrealtors.com
SUMMARY:WR Spring Conference
DESCRIPTION:
URL:https://ccrealtors.com/event/wr-spring-conference-4/
LOCATION:Tulalip Resort (10200 Quil Ceda Blvd\, Tulalip\, WA 98271\, United States)
CATEGORIES:Committee Meetings,Home Page Events,Washington REALTORS
END:VEVENT
BEGIN:VEVENT
DTSTART;TZID=America/Vancouver:20260409T090000
DTEND;TZID=America/Vancouver:20260409T110000
DTSTAMP:20260423T142522
CREATED:20251216T211602Z
LAST-MODIFIED:20260409T164954Z
UID:10000816-1775725200-1775732400@ccrealtors.com
SUMMARY:CCAR Board of Directors
DESCRIPTION:
URL:https://ccrealtors.com/event/ccar-board-of-directors-10/
LOCATION:Virtual
CATEGORIES:Committee Meetings
END:VEVENT
BEGIN:VEVENT
DTSTART;TZID=America/Vancouver:20260407T130000
DTEND;TZID=America/Vancouver:20260407T140000
DTSTAMP:20260423T142522
CREATED:20251216T211602Z
LAST-MODIFIED:20260407T201945Z
UID:10000817-1775566800-1775570400@ccrealtors.com
SUMMARY:RPAC Committee
DESCRIPTION:
URL:https://ccrealtors.com/event/rpac-committee-18/
CATEGORIES:Committee Meetings
END:VEVENT
BEGIN:VEVENT
DTSTART;TZID=America/Vancouver:20260403T123000
DTEND;TZID=America/Vancouver:20260403T140000
DTSTAMP:20260423T142522
CREATED:20251216T211602Z
LAST-MODIFIED:20260330T193343Z
UID:10000815-1775219400-1775224800@ccrealtors.com
SUMMARY:CCAR Executive Committee
DESCRIPTION:
URL:https://ccrealtors.com/event/ccar-executive-committee-4/
CATEGORIES:Committee Meetings
END:VEVENT
BEGIN:VEVENT
DTSTART;TZID=America/Vancouver:20260331T130000
DTEND;TZID=America/Vancouver:20260331T140000
DTSTAMP:20260423T142522
CREATED:20251216T204512Z
LAST-MODIFIED:20260331T201954Z
UID:10000814-1774962000-1774965600@ccrealtors.com
SUMMARY:Foundation Board of Directors
DESCRIPTION:
URL:https://ccrealtors.com/event/foundation-board-of-directors-14/
CATEGORIES:Committee Meetings
END:VEVENT
BEGIN:VEVENT
DTSTART;VALUE=DATE:20260324
DTEND;VALUE=DATE:20260328
DTSTAMP:20260423T142522
CREATED:20251216T204453Z
LAST-MODIFIED:20260327T233130Z
UID:10000813-1774310400-1774655999@ccrealtors.com
SUMMARY:NAR AE Institute - Minneapolis MN
DESCRIPTION:
URL:https://ccrealtors.com/event/nar-ae-institute-minneapolis-mn/
LOCATION:Convention Center (1301 2nd Ave S\, Minneapolis\, MN 55403\, United States)
CATEGORIES:Committee Meetings,NAR
END:VEVENT
BEGIN:VEVENT
DTSTART;TZID=America/Vancouver:20260318T160000
DTEND;TZID=America/Vancouver:20260318T180000
DTSTAMP:20260423T142522
CREATED:20251216T204453Z
LAST-MODIFIED:20260319T003136Z
UID:10000811-1773849600-1773856800@ccrealtors.com
SUMMARY:RPAC Live Auction
DESCRIPTION:Thank you to our Sponsor:    \nRPAC on the Riverfront: An Evening for Advocacy\, Auctions\, and REALTOR® Community \nMarch 18th 4:00pm-6:00pm at Witness Tree on the top of Hotel Indigo on the Vancouver Waterfront\nTickets: $50 will be credited toward your RPAC Contribution and any auction item won by you at the RPAC on the Riverfront Event. \nPurchase tickets to RPAC on the Riverfront and bid on Silent Auction Items: https://CCAR2026RPAC.givesmart.com \nSilent online auction: March 11th 12noon – March 18th 12noon – no ticket purchase needed to bid on online auction items.
URL:https://ccrealtors.com/event/rpac-live-auction/
LOCATION:Witness Tree 510 Waterfront Wy\, Vancouver\, WA\, United States
CATEGORIES:CCAR Events,Committee Meetings,Home Page Events
GEO:45.678996;-122.720499
END:VEVENT
BEGIN:VEVENT
DTSTART;TZID=America/Vancouver:20260317T100000
DTEND;TZID=America/Vancouver:20260317T113000
DTSTAMP:20260423T142522
CREATED:20251216T204453Z
LAST-MODIFIED:20260317T173126Z
UID:10000810-1773741600-1773747000@ccrealtors.com
SUMMARY:Government Affairs Committee
DESCRIPTION:________________________________________________________________________________\nMicrosoft Teams Need help?\nJoin the meeting now\nMeeting ID: 297 510 840 733 03\nPasscode: W9zm7oB9\n________________________________\nFor organizers: Meeting options\n________________________________________________________________________________
URL:https://ccrealtors.com/event/government-affairs-committee-26/
LOCATION:Virtual
CATEGORIES:Committee Meetings
END:VEVENT
BEGIN:VEVENT
DTSTART;VALUE=DATE:20260317
DTEND;VALUE=DATE:20260318
DTSTAMP:20260423T142522
CREATED:20250317T070810Z
LAST-MODIFIED:20260317T231739Z
UID:10000778-1773705600-1773791999@ccrealtors.com
SUMMARY:St. Patrick's Day
DESCRIPTION:
URL:https://ccrealtors.com/event/st-patricks-day-3/
LOCATION:United States
CATEGORIES:Committee Meetings
END:VEVENT
BEGIN:VEVENT
DTSTART;TZID=America/Vancouver:20260312T090000
DTEND;TZID=America/Vancouver:20260312T110000
DTSTAMP:20260423T142522
CREATED:20251216T204453Z
LAST-MODIFIED:20260312T175420Z
UID:10000807-1773306000-1773313200@ccrealtors.com
SUMMARY:CANCELLED - CCAR Board of Directors
DESCRIPTION:
URL:https://ccrealtors.com/event/ccar-board-of-directors-9/
CATEGORIES:Committee Meetings
END:VEVENT
BEGIN:VEVENT
DTSTART;TZID=America/Vancouver:20260311T120000
DTEND;TZID=America/Vancouver:20260318T120000
DTSTAMP:20260423T142522
CREATED:20251216T204453Z
LAST-MODIFIED:20260318T181629Z
UID:10000808-1773230400-1773835200@ccrealtors.com
SUMMARY:RPAC Silent Auction Starts TODAY!
DESCRIPTION:Silent Auction Starts TODAY!\n \n  \nRPAC Silent Online Auction: March 11th 12noon – March 18th 12noon  \nRegister Here to bid on Silent Auction Items: https://CCAR2026RPAC.givesmart.com \nRPAC on the Riverfront: An Evening for Advocacy\, Auctions\, and REALTOR® Community \nMarch 18th 4:00pm-6:00pm at Witness Tree on the top of Hotel Indigo on the Vancouver Waterfront\nTickets: $50 will be credited toward your RPAC Contribution and any auction item won by you at the RPAC on the Riverfront Event. \nPurchase tickets to RPAC on the Riverfront on March 18th 4-6PM: https://CCAR2026RPAC.givesmart.com \nThank you to our Sponsor:   
URL:https://ccrealtors.com/event/rpac-silent-auction/
CATEGORIES:CCAR Events,Committee Meetings,Home Page Events
END:VEVENT
BEGIN:VEVENT
DTSTART;VALUE=DATE:20260311
DTEND;VALUE=DATE:20260314
DTSTAMP:20260423T142522
CREATED:20251216T204453Z
LAST-MODIFIED:20260313T234627Z
UID:10000809-1773187200-1773446399@ccrealtors.com
SUMMARY:Region 12 Meetings - Seattle
DESCRIPTION:
URL:https://ccrealtors.com/event/region-12-meetings-seattle/
CATEGORIES:Committee Meetings
END:VEVENT
BEGIN:VEVENT
DTSTART;TZID=America/Vancouver:20260310T090000
DTEND;TZID=America/Vancouver:20260310T130000
DTSTAMP:20260423T142522
CREATED:20260106T030254Z
LAST-MODIFIED:20260310T191644Z
UID:10000904-1773133200-1773147600@ccrealtors.com
SUMMARY:Professional Standards Training - For Committee and Leadership
DESCRIPTION:
URL:https://ccrealtors.com/event/professional-standards-training-for-committee-and-leadership/
LOCATION:Virtual
CATEGORIES:Committee Meetings
END:VEVENT
BEGIN:VEVENT
DTSTART;TZID=America/Vancouver:20260309T130000
DTEND;TZID=America/Vancouver:20260309T140000
DTSTAMP:20260423T142522
CREATED:20251216T204453Z
LAST-MODIFIED:20260309T201628Z
UID:10000806-1773061200-1773064800@ccrealtors.com
SUMMARY:RPAC Committee
DESCRIPTION:
URL:https://ccrealtors.com/event/rpac-committee-17/
CATEGORIES:Committee Meetings
END:VEVENT
BEGIN:VEVENT
DTSTART;TZID=America/Vancouver:20260303T123000
DTEND;TZID=America/Vancouver:20260303T140000
DTSTAMP:20260423T142522
CREATED:20251216T204435Z
LAST-MODIFIED:20260303T210211Z
UID:10000805-1772541000-1772546400@ccrealtors.com
SUMMARY:CCAR Executive Committee
DESCRIPTION:
URL:https://ccrealtors.com/event/ccar-executive-committee-3/
LOCATION:Virtual
CATEGORIES:Committee Meetings
END:VEVENT
BEGIN:VEVENT
DTSTART;TZID=America/Vancouver:20260227T093000
DTEND;TZID=America/Vancouver:20260227T150000
DTSTAMP:20260423T142522
CREATED:20260106T030254Z
LAST-MODIFIED:20260227T221821Z
UID:10000903-1772184600-1772204400@ccrealtors.com
SUMMARY:CCAR Leadership Retreat
DESCRIPTION:
URL:https://ccrealtors.com/event/ccar-leadership-retreat/
LOCATION:Building Industry Association (103 E 29th St\, Vancouver\, WA 98663\, United States)
CATEGORIES:Committee Meetings
END:VEVENT
BEGIN:VEVENT
DTSTART;TZID=America/Vancouver:20260226T090000
DTEND;TZID=America/Vancouver:20260226T103000
DTSTAMP:20260423T142522
CREATED:20251216T204435Z
LAST-MODIFIED:20260226T174809Z
UID:10000804-1772096400-1772101800@ccrealtors.com
SUMMARY:Professional Standards Committee
DESCRIPTION:
URL:https://ccrealtors.com/event/professional-standards-committee-19/
CATEGORIES:Committee Meetings
END:VEVENT
BEGIN:VEVENT
DTSTART;VALUE=DATE:20260223
DTEND;VALUE=DATE:20260227
DTSTAMP:20260423T142522
CREATED:20251216T204435Z
LAST-MODIFIED:20260226T233742Z
UID:10000803-1771804800-1772150399@ccrealtors.com
SUMMARY:NAR RPAC Presidents Circle Conference
DESCRIPTION:
URL:https://ccrealtors.com/event/nar-rpac-presidents-circle-conference/
LOCATION:Las Vegas\, Nevada\, United States
CATEGORIES:Committee Meetings,NAR
END:VEVENT
BEGIN:VEVENT
DTSTART;TZID=America/Vancouver:20260217T100000
DTEND;TZID=America/Vancouver:20260217T113000
DTSTAMP:20260423T142522
CREATED:20251216T204435Z
LAST-MODIFIED:20260217T183456Z
UID:10000802-1771322400-1771327800@ccrealtors.com
SUMMARY:Government Affairs Committee
DESCRIPTION:
URL:https://ccrealtors.com/event/government-affairs-committee-25/
LOCATION:Virtual
CATEGORIES:Committee Meetings
END:VEVENT
BEGIN:VEVENT
DTSTART;VALUE=DATE:20260216
DTEND;VALUE=DATE:20260217
DTSTAMP:20260423T142522
CREATED:20251216T204435Z
LAST-MODIFIED:20260216T231831Z
UID:10000801-1771200000-1771286399@ccrealtors.com
SUMMARY:CCAR Holiday - Office Closed
DESCRIPTION:
URL:https://ccrealtors.com/event/ccar-holiday-office-closed-2/
CATEGORIES:Committee Meetings,Home Page Events,Office Closure
END:VEVENT
BEGIN:VEVENT
DTSTART;VALUE=DATE:20260214
DTEND;VALUE=DATE:20260215
DTSTAMP:20260423T142522
CREATED:20250214T082116Z
LAST-MODIFIED:20260214T233627Z
UID:10000775-1771027200-1771113599@ccrealtors.com
SUMMARY:Valentine's Day
DESCRIPTION:
URL:https://ccrealtors.com/event/valentines-day-3/
LOCATION:United States
CATEGORIES:Committee Meetings
END:VEVENT
BEGIN:VEVENT
DTSTART;TZID=America/Vancouver:20260210T130000
DTEND;TZID=America/Vancouver:20260210T140000
DTSTAMP:20260423T142522
CREATED:20251216T204435Z
LAST-MODIFIED:20260210T194929Z
UID:10000800-1770728400-1770732000@ccrealtors.com
SUMMARY:RPAC Committee
DESCRIPTION:
URL:https://ccrealtors.com/event/rpac-committee-16/
CATEGORIES:Committee Meetings
END:VEVENT
BEGIN:VEVENT
DTSTART;TZID=America/Vancouver:20260203T123000
DTEND;TZID=America/Vancouver:20260203T140000
DTSTAMP:20260423T142522
CREATED:20260106T014732Z
LAST-MODIFIED:20260330T194855Z
UID:10000901-1770121800-1770127200@ccrealtors.com
SUMMARY:CANCELLED - CCAR Executive Committee
DESCRIPTION:
URL:https://ccrealtors.com/event/ccar-executive-committee-38/
CATEGORIES:Committee Meetings
END:VEVENT
BEGIN:VEVENT
DTSTART;VALUE=DATE:20260202
DTEND;VALUE=DATE:20260203
DTSTAMP:20260423T142522
CREATED:20250202T081059Z
LAST-MODIFIED:20260202T230133Z
UID:10000774-1769990400-1770076799@ccrealtors.com
SUMMARY:Groundhog Day
DESCRIPTION:
URL:https://ccrealtors.com/event/groundhog-day-3/
LOCATION:United States
CATEGORIES:Committee Meetings
END:VEVENT
BEGIN:VEVENT
DTSTART;VALUE=DATE:20260128
DTEND;VALUE=DATE:20260130
DTSTAMP:20260423T142522
CREATED:20251216T204434Z
LAST-MODIFIED:20260129T233423Z
UID:10000798-1769558400-1769731199@ccrealtors.com
SUMMARY:WR Legislative Meetings
DESCRIPTION:
URL:https://ccrealtors.com/event/wr-legislative-meetings-2/
LOCATION:Little Creek Casino Resort Hotel (91 WA-108\, Shelton\, WA 98584\, United States)
CATEGORIES:Committee Meetings,Home Page Events,Washington REALTORS
END:VEVENT
BEGIN:VEVENT
DTSTART;VALUE=DATE:20260119
DTEND;VALUE=DATE:20260120
DTSTAMP:20260423T142522
CREATED:20251216T204417Z
LAST-MODIFIED:20260119T230309Z
UID:10000796-1768780800-1768867199@ccrealtors.com
SUMMARY:CCAR Holiday - Office Closed
DESCRIPTION:
URL:https://ccrealtors.com/event/ccar-holiday-office-closed/
CATEGORIES:Committee Meetings,Home Page Events,Office Closure
END:VEVENT
BEGIN:VEVENT
DTSTART;TZID=America/Vancouver:20260113T130000
DTEND;TZID=America/Vancouver:20260113T140000
DTSTAMP:20260423T142522
CREATED:20251216T204417Z
LAST-MODIFIED:20260113T213147Z
UID:10000795-1768309200-1768312800@ccrealtors.com
SUMMARY:RPAC Committee
DESCRIPTION:
URL:https://ccrealtors.com/event/rpac-committee-15/
CATEGORIES:Committee Meetings
END:VEVENT
END:VCALENDAR